Workbook

Sheet Unit Objectives
A1: UNIT NUMERIC OBJECTIVES
C3: Unit | D3: City | E3: Objective | F3: Junior | G3: Senior | H3: Total | I3: Percent
C6: 2910 | D6: Bloomington | E6: 599 | F6: 0 | G6: 289 | H6: 289 | I6: 0.48247078
C7: Total | E7: 599 | F7: 0 | G7: 289 | H7: 289 | I7: 0.48247078
C8: Total | E8: 599 | F8: 0 | G8: 289 | H8: 289 | I8: 0.48247078
A10: 1
B11: 2
C12: 135 | D12: Lombard | E12: 10 | F12: 0 | G12: 0 | H12: 0 | I12: 0
C13: 923 | D13: Chicago | E13: 17 | F13: 0 | G13: 3 | H13: 3 | I13: 0.17647059
C14: 973 | D14: Chicago | E14: 16 | F14: 0 | G14: 3 | H14: 3 | I14: 0.1875
C15: 1052 | D15: Chicago | E15: 16 | F15: 0 | G15: 0 | H15: 0 | I15: 0
C16: Total | E16: 59 | F16: 0 | G16: 6 | H16: 6 | I16: 0.10169492
B17: 3
C18: 87 | D18: Chicago | E18: 24 | F18: 0 | G18: 13 | H18: 13 | I18: 0.54166667
C19: 388 | D19: Chicago | E19: 24 | F19: 0 | G19: 1 | H19: 1 | I19: 0.041666667
C20: 915 | D20: Calumet City | E20: 17 | F20: 2 | G20: 8 | H20: 10 | I20: 0.58823529
C21: 2017 | D21: Chicago | E21: 40 | F21: 0 | G21: 7 | H21: 7 | I21: 0.175
C22: Total | E22: 105 | F22: 2 | G22: 29 | H22: 31 | I22: 0.2952381
B23: 4
C24: 207 | D24: Palos Heights | E24: 12 | F24: 0 | G24: 9 | H24: 9 | I24: 0.75
C25: 231 | D25: Chicago | E25: 35 | F25: 0 | G25: 2 | H25: 2 | I25: 0.057142857
C26: 271 | D26: Chicago | E26: 28 | F26: 0 | G26: 1 | H26: 1 | I26: 0.035714286
C27: 714 | D27: Chicago | E27: 20 | F27: 0 | G27: 3 | H27: 3 | I27: 0.15
C28: 735 | D28: Summit | E28: 37 | F28: 3 | G28: 22 | H28: 25 | I28: 0.67567568
C29: 986 | D29: Chicago | E29: 42 | F29: 3 | G29: 18 | H29: 21 | I29: 0.5
C30: 1109 | D30: Chicago | E30: 15 | F30: 2 | G30: 9 | H30: 11 | I30: 0.73333333
C31: Total | E31: 189 | F31: 8 | G31: 64 | H31: 72 | I31: 0.38095238
B32: 5
C33: 96 | D33: Cicero | E33: 58 | F33: 0 | G33: 1 | H33: 1 | I33: 0.017241379
C34: 256 | D34: Berwyn | E34: 53 | F34: 0 | G34: 5 | H34: 5 | I34: 0.094339623
C35: 623 | D35: Chicago | E35: 13 | F35: 0 | G35: 0 | H35: 0 | I35: 0
C36: 626 | D36: Hillside | E36: 18 | F36: 0 | G36: 3 | H36: 3 | I36: 0.16666667
C37: 687 | D37: Stickney | E37: 47 | F37: 0 | G37: 1 | H37: 1 | I37: 0.021276596
C38: 699 | D38: Lyons | E38: 18 | F38: 0 | G38: 0 | H38: 0 | I38: 0
C39: 838 | D39: Maywood | E39: 13 | F39: 0 | G39: 2 | H39: 2 | I39: 0.15384615
C40: 1016 | D40: Berkeley | E40: 28 | F40: 0 | G40: 1 | H40: 1 | I40: 0.035714286
C41: 1941 | D41: La Grange | E41: 45 | F41: 0 | G41: 15 | H41: 15 | I41: 0.33333333
C42: Total | E42: 293 | F42: 0 | G42: 28 | H42: 28 | I42: 0.09556314
B43: 7
C44: 134 | D44: Morton Grove | E44: 86 | F44: 0 | G44: 27 | H44: 27 | I44: 0.31395349
...

Sheet Unit Totals
C2: Paid 2027 Members
A3: Unit Number | B3: Dist | C3: Unit Name | D3: Senior | E3: Junior | F3: Total | G3: 2026 Final | H3: PUFL
A4: IL UNIT 0001 | B4: 15 | C4: Bishop (Lewiston) | D4: ='Unit Objectives'!G182 -> 3 | E4: ='Unit Objectives'!F182 -> 0 | F4: =SUM(D4:E4) -> 3 | G4: 21 | H4: 0
A5: IL UNIT 0002 | B5: 16 | C5: Peoria | D5: ='Unit Objectives'!G206 -> 22 | E5: ='Unit Objectives'!F206 -> 4 | F5: =SUM(D5:E5) -> 26 | G5: 53 | H5: 8
A6: IL UNIT 0004 | B6: 15 | C6: Schuyler (Rushville) | D6: ='Unit Objectives'!G183 -> 1 | E6: ='Unit Objectives'!F183 -> 0 | F6: =SUM(D6:E6) -> 1 | G6: 36 | H6: 1
A7: IL UNIT 0005 | B7: 11 | C7: Harwood (Joliet) | D7: ='Unit Objectives'!G89 -> 12 | E7: ='Unit Objectives'!F89 -> 0 | F7: =SUM(D7:E7) -> 12 | G7: 16 | H7: 2
A8: IL UNIT 0006 | B8: 14 | C8: McDonough County (Macomb) | D8: ='Unit Objectives'!G170 -> 26 | E8: ='Unit Objectives'!F170 -> 0 | F8: =SUM(D8:E8) -> 26 | G8: 58 | H8: 7
A9: IL UNIT 0008 | B9: 16 | C9: Wenona | D9: ='Unit Objectives'!G207 -> 1 | E9: ='Unit Objectives'!F207 -> 0 | F9: =SUM(D9:E9) -> 1 | G9: 29 | H9: 1
A10: IL UNIT 0009 | B10: 16 | C10: Chillicothe | D10: ='Unit Objectives'!G208 -> 18 | E10: ='Unit Objectives'!F208 -> 0 | F10: =SUM(D10:E10) -> 18 | G10: 31 | H10: 4
A11: IL UNIT 0012 | B11: 13 | C11: Dixon | D11: ='Unit Objectives'!G151 -> 15 | E11: ='Unit Objectives'!F151 -> 0 | F11: =SUM(D11:E11) -> 15 | G11: 24 | H11: 3
A12: IL UNIT 0013 | B12: 11 | C12: Marne (Plainfield) | D12: ='Unit Objectives'!G90 -> 41 | E12: ='Unit Objectives'!F90 -> 0 | F12: =SUM(D12:E12) -> 41 | G12: 134 | H12: 2
A13: IL UNIT 0014 | B13: 24 | C13: Clay County (Flora) | D13: ='Unit Objectives'!G427 -> 5 | E13: ='Unit Objectives'!F427 -> 0 | F13: =SUM(D13:E13) -> 5 | G13: 54 | H13: 3
A14: IL UNIT 0016 | B14: 15 | C14: Orlando C Crowther (Canton) | D14: ='Unit Objectives'!G184 -> 4 | E14: ='Unit Objectives'!F184 -> 0 | F14: =SUM(D14:E14) -> 4 | G14: 45 | H14: 4
A15: IL UNIT 0017 | B15: 15 | C15: Harold C Hoopes (Ipava) | D15: ='Unit Objectives'!G185 -> 1 | E15: ='Unit Objectives'!F185 -> 0 | F15: =SUM(D15:E15) -> 1 | G15: 46 | H15: 0
A16: IL UNIT 0018 | B16: 11 | C16: John Olson (Lockport) | D16: ='Unit Objectives'!G91 -> 91 | E16: ='Unit Objectives'!F91 -> 3 | F16: =SUM(D16:E16) -> 94 | G16: 153 | H16: 7
A17: IL UNIT 0020 | B17: 23 | C17: Jasper (Newton) | D17: ='Unit Objectives'!G402 -> 4 | E17: ='Unit Objectives'!F402 -> 0 | F17: =SUM(D17:E17) -> 4 | G17: 19 | H17: 3
A18: IL UNIT 0023 | B18: 18 | C18: Watseka | D18: ='Unit Objectives'!G291 -> 8 | E18: ='Unit Objectives'!F291 -> 0 | F18: =SUM(D18:E18) -> 8 | G18: 11 | H18: 8
A19: IL UNIT 0024 | B19: 19 | C19: Champaign | D19: ='Unit Objectives'!G320 -> 27 | E19: ='Unit Objectives'!F320 -> 5 | F19: =SUM(D19:E19) -> 32 | G19: 91 | H19: 1
A20: IL UNIT 0026 | B20: 15 | C20: Carroll Rankin (Vermont) | D20: ='Unit Objectives'!G186 -> 2 | E20: ='Unit Objectives'!F186 -> 0 | F20: =SUM(D20:E20) -> 2 | G20: 25 | H20: 2
A21: IL UNIT 0027 | B21: 19 | C21: Douglas County (Tuscola) | D21: ='Unit Objectives'!G321 -> 0 | E21: ='Unit Objectives'!F321 -> 0 | F21: =SUM(D21:E21) -> 0 | G21: 9 | H21: 0
A22: IL UNIT 0028 | B22: 23 | C22: Lawrence | D22: ='Unit Objectives'!G403 -> 13 | E22: ='Unit Objectives'!F403 -> 0 | F22: =SUM(D22:E22) -> 13 | G22: 92 | H22: 1
A23: IL UNIT 0030 | B23: 23 | C23: Richland (Olney) | D23: ='Unit Objectives'!G404 -> 7 | E23: ='Unit Objectives'!F404 -> 0 | F23: =SUM(D23:E23) -> 7 | G23: 46 | H23: 6
A24: IL UNIT 0032 | B24: 21 | C24: Springfield | D24: ='Unit Objectives'!G354 -> 71 | E24: ='Unit Objectives'!F354 -> 4 | F24: =SUM(D24:E24) -> 75 | G24: 120 | H24: 18
A25: IL UNIT 0033 | B25: 12 | C25: Ottawa | D25: ='Unit Objectives'!G125 -> 79 | E25: ='Unit Objectives'!F125 -> 0 | F25: =SUM(D25:E25) -> 79 | G25: 191 | H25: 5
A26: IL UNIT 0035 | B26: 16 | C26: Charles D Looger (Glasford) | D26: ='Unit Objectives'!G209 -> 1 | E26: ='Unit Objectives'!F209 -> 0 | F26: =SUM(D26:E26) -> 1 | G26: 9 | H26: 1
A27: IL UNIT 0036 | B27: 9 | C27: Des Plaines | D27: ='Unit Objectives'!G62 -> 14 | E27: ='Unit Objectives'!F62 -> 1 | F27: =SUM(D27:E27) -> 15 | G27: 38 | H27: 1
A28: IL UNIT 0037 | B28: 15 | C28: Quincy | D28: ='Unit Objectives'!G187 -> 1 | E28: ='Unit Objectives'!F187 -> 0 | F28: =SUM(D28:E28) -> 1 | G28: 27 | H28: 1
A29: IL UNIT 0043 | B29: 11 | C29: Naperville | D29: ='Unit Objectives'!G92 -> 15 | E29: ='Unit Objectives'!F92 -> 3 | F29: =SUM(D29:E29) -> 18 | G29: 18 | H29: 0
A30: IL UNIT 0044 | B30: 16 | C30: William Schaefer (Pekin) | D30: ='Unit Objectives'!G210 -> 9 | E30: ='Unit Objectives'!F210 -> 0 | F30: =SUM(D30:E30) -> 9 | G30: 44 | H30: 7
A31: IL UNIT 0045 | B31: 15 | C31: Hagberg-Hamlin (Galva) | D31: ='Unit Objectives'!G188 -> 1 | E31: ='Unit Objectives'!F188 -> 0 | F31: =SUM(D31:E31) -> 1 | G31: 35 | H31: 0
A32: IL UNIT 0051 | B32: 18 | C32: Martin F Vutrick (Westville) | D32: ='Unit Objectives'!G292 -> 17 | E32: ='Unit Objectives'!F292 -> 1 | F32: =SUM(D32:E32) -> 18 | G32: 59 | H32: 5
A33: IL UNIT 0052 | B33: 11 | C33: Romeoville | D33: ='Unit Objectives'!G93 -> 13 | E33: ='Unit Objectives'!F93 -> 2 | F33: =SUM(D33:E33) -> 15 | G33: 25 | H33: 0
A34: IL UNIT 0055 | B34: 19 | C34: Joe Williams (Farmer City) | D34: ='Unit Objectives'!G322 -> 14 | E34: ='Unit Objectives'!F322 -> 0 | F34: =SUM(D34:E34) -> 14 | G34: 129 | H34: 13
A35: IL UNIT 0057 | B35: 11 | C35: Elgin | D35: ='Unit Objectives'!G94 -> 7 | E35: ='Unit Objectives'!F94 -> 0 | F35: =SUM(D35:E35) -> 7 | G35: 118 | H35: 0
A36: IL UNIT 0066 | B36: 12 | C36: De Kalb | D36: ='Unit Objectives'!G126 -> 7 | E36: ='Unit Objectives'!F126 -> 1 | F36: =SUM(D36:E36) -> 8 | G36: 54 | H36: 0
A37: IL UNIT 0068 | B37: 19 | C37: Sullivan | D37: ='Unit Objectives'!G323 -> 52 | E37: ='Unit Objectives'!F323 -> 4 | F37: =SUM(D37:E37) -> 56 | G37: 82 | H37: 6
A38: IL UNIT 0070 | B38: 20 | C38: White Hall | D38: ='Unit Objectives'!G232 -> 1 | E38: ='Unit Objectives'!F232 -> 0 | F38: =SUM(D38:E38) -> 1 | G38: 29 | H38: 1
A39: IL UNIT 0071 | B39: 19 | C39: Urbana | D39: ='Unit Objectives'!G324 -> 91 | E39: ='Unit Objectives'!F324 -> 2 | F39: =SUM(D39:E39) -> 93 | G39: 180 | H39: 32
A40: IL UNIT 0072 | B40: 19 | C40: Lancaster-Sdunn (Macon) | D40: ='Unit Objectives'!G325 -> 0 | E40: ='Unit Objectives'!F325 -> 0 | F40: =SUM(D40:E40) -> 0 | G40: 23 | H40: 0
A41: IL UNIT 0073 | B41: 21 | C41: J Ivan Dappert (Taylorville) | D41: ='Unit Objectives'!G355 -> 1 | E41: ='Unit Objectives'!F355 -> 0 | F41: =SUM(D41:E41) -> 1 | G41: 38 | H41: 1
...

Sheet Dist 2
A1: Unit # | B1: Unit Name | C1: Date Reached Goal | D1: Senior | E1: Junior | F1: Total Members | G1: Goal | H1: % of Goal | I1: PUFL
A3: 135 | B3: Hiram J Slifer | D3: ='Unit Totals'!D73 -> 0 | E3: ='Unit Totals'!E73 -> 0 | F3: =SUM(D3:E3) -> 0 | G3: ='Unit Totals'!G73+2 -> 10 | H3: =F3/G3 -> 0 | I3: ='Unit Totals'!H73 -> 0
A4: 923 | B4: Franklin D. Roosevelt | D4: ='Unit Totals'!D323 -> 3 | E4: ='Unit Totals'!E323 -> 0 | F4: =SUM(D4:E4) -> 3 | G4: ='Unit Totals'!G323+2 -> 17 | H4: =F4/G4 -> 0.17647059 | I4: ='Unit Totals'!H323 -> 0
A5: 973 | B5: Tattler | D5: ='Unit Totals'!D331 -> 3 | E5: ='Unit Totals'!E331 -> 0 | F5: =SUM(D5:E5) -> 3 | G5: ='Unit Totals'!G331+2 -> 16 | H5: =F5/G5 -> 0.1875 | I5: ='Unit Totals'!H331 -> 0
A6: 1052 | B6: Wayne-Wright | D6: ='Unit Totals'!D346 -> 0 | E6: ='Unit Totals'!E346 -> 0 | F6: =SUM(D6:E6) -> 0 | G6: ='Unit Totals'!G346+2 -> 16 | H6: =F6/G6 -> 0 | I6: ='Unit Totals'!H346 -> 0
A8: =COUNT(A3:A7) -> 4 | B8: TOTALS | D8: =SUM(D3:D6) -> 6 | E8: =SUM(E3:E6) -> 0 | F8: =SUM(F3:F6) -> 6 | G8: =SUM(G3:G6) -> 59 | H8: =F8/G8 -> 0.10169492 | I8: =SUM(I3:I7) -> 0
B11: Goal Units: | C11: =COUNTIFS(C3:C6,">=8/1/2026",C3:C6,"<=7/31/2027") -> 0

Sheet Dist 3
A1: Unit # | B1: Unit Name | C1: Date Reached Goal | D1: Senior | E1: Junior | F1: Total Members | G1: Goal | H1: % of Goal | I1: PUFL
A3: 87 | B3: George L Giles | D3: ='Unit Totals'!D50 -> 13 | E3: ='Unit Totals'!E50 -> 0 | F3: =SUM(D3:E3) -> 13 | G3: ='Unit Totals'!G50+2 -> 24 | H3: =F3/G3 -> 0.54166667 | I3: ='Unit Totals'!H50 -> 3
A4: 388 | B4: South Shore | D4: ='Unit Totals'!D168 -> 1 | E4: ='Unit Totals'!E168 -> 0 | F4: =SUM(D4:E4) -> 1 | G4: ='Unit Totals'!G168+2 -> 24 | H4: =F4/G4 -> 0.041666667 | I4: ='Unit Totals'!H168 -> 0
A5: 915 | B5: Dorie Miller | D5: ='Unit Totals'!D322 -> 8 | E5: ='Unit Totals'!E322 -> 2 | F5: =SUM(D5:E5) -> 10 | G5: ='Unit Totals'!G322+2 -> 17 | H5: =F5/G5 -> 0.58823529 | I5: ='Unit Totals'!H322 -> 0
A6: 2017 | B6: Millenium | D6: ='Unit Totals'!D392 -> 7 | E6: ='Unit Totals'!E392 -> 0 | F6: =SUM(D6:E6) -> 7 | G6: ='Unit Totals'!G392+2 -> 40 | H6: =F6/G6 -> 0.175 | I6: 0
A8: =COUNT(A3:A7) -> 4 | B8: TOTALS | D8: =SUM(D3:D6) -> 29 | E8: =SUM(E3:E6) -> 2 | F8: =SUM(F3:F6) -> 31 | G8: =SUM(G3:G3:G6) -> 105 | H8: =F8/G8 -> 0.2952381 | I8: =SUM(I3:I7) -> 3
B12: Goal Units: | C12: =COUNTIFS(C3:C6,">=8/1/2026",C3:C6,"<=7/31/2027") -> 0

Sheet Dist 4
A1: Unit # | B1: Unit Name | C1: Date Reached Goal | D1: Senior | E1: Junior | F1: Total Members | G1: Goal | H1: % of Goal | I1: PUFL
A3: 207 | B3: Chicago Police | D3: ='Unit Totals'!D99 -> 9 | E3: ='Unit Totals'!E99 -> 0 | F3: =SUM(D3:E3) -> 9 | G3: ='Unit Totals'!G99+2 -> 12 | H3: =F3/G3 -> 0.75 | I3: ='Unit Totals'!H99 -> 9
A4: 231 | B4: William McKinley | D4: ='Unit Totals'!D107 -> 2 | E4: ='Unit Totals'!E107 -> 0 | F4: =SUM(D4:E4) -> 2 | G4: ='Unit Totals'!G107+2 -> 35 | H4: =F4/G4 -> 0.057142857 | I4: ='Unit Totals'!H107 -> 0
A5: 271 | B5: Darius-Girenas | D5: ='Unit Totals'!D124 -> 1 | E5: ='Unit Totals'!E124 -> 0 | F5: =SUM(D5:E5) -> 1 | G5: ='Unit Totals'!G124+2 -> 28 | H5: =F5/G5 -> 0.035714286 | I5: ='Unit Totals'!H124 -> 1
A6: 714 | B6: O'Donnell-Eddy-Floss | D6: ='Unit Totals'!D283 -> 3 | E6: ='Unit Totals'!E283 -> 0 | F6: =SUM(D6:E6) -> 3 | G6: ='Unit Totals'!G283+2 -> 20 | H6: =F6/G6 -> 0.15 | I6: ='Unit Totals'!H283 -> 2
A7: 735 | B7: Argo-Summit | D7: ='Unit Totals'!D288 -> 22 | E7: ='Unit Totals'!E288 -> 3 | F7: =SUM(D7:E7) -> 25 | G7: ='Unit Totals'!G288+2 -> 37 | H7: =F7/G7 -> 0.67567568 | I7: ='Unit Totals'!H288 -> 6
A8: 986 | B8: Don Varnas | D8: ='Unit Totals'!D336 -> 18 | E8: ='Unit Totals'!E336 -> 3 | F8: =SUM(D8:E8) -> 21 | G8: ='Unit Totals'!G336+2 -> 42 | H8: =F8/G8 -> 0.5 | I8: ='Unit Totals'!H336 -> 0
A9: 1109 | B9: Ervin A Borlick | D9: ='Unit Totals'!D352 -> 9 | E9: ='Unit Totals'!E352 -> 2 | F9: =SUM(D9:E9) -> 11 | G9: ='Unit Totals'!G352+2 -> 15 | H9: =F9/G9 -> 0.73333333 | I9: ='Unit Totals'!H352 -> 1
A11: =COUNT(A3:A10) -> 7 | B11: TOTALS | D11: =SUM(D3:D9) -> 64 | E11: =SUM(E3:E9) -> 8 | F11: =SUM(F3:F9) -> 72 | G11: =SUM(G3:G9) -> 189 | H11: =F11/G11 -> 0.38095238 | I11: =SUM(I3:I10) -> 19
B15: Goal Units: | C15: =COUNTIFS(C3:C9,">=8/1/2026",C3:C9,"<=7/31/2027") -> 0

Sheet Dist 5
A1: Unit # | B1: Unit Name | C1: Date Reached Goal | D1: Senior | E1: Junior | F1: Total Members | G1: Goal | H1: % of Goal | I1: PUFL
A3: 96 | B3: Cicero | D3: ='Unit Totals'!D56 -> 1 | E3: ='Unit Totals'!E56 -> 0 | F3: =SUM(D3:E3) -> 1 | G3: ='Unit Totals'!G56+2 -> 58 | H3: =F3/G3 -> 0.017241379 | I3: ='Unit Totals'!H56 -> 1
A4: 256 | B4: Commodore Barry | D4: ='Unit Totals'!D118 -> 5 | E4: ='Unit Totals'!E118 -> 0 | F4: =SUM(D4:E4) -> 5 | G4: ='Unit Totals'!G118+2 -> 53 | H4: =F4/G4 -> 0.094339623 | I4: ='Unit Totals'!H118 -> 4
A5: 623 | B5: Paul Revere | D5: ='Unit Totals'!D247 -> 0 | E5: ='Unit Totals'!E247 -> 0 | F5: =SUM(D5:E5) -> 0 | G5: ='Unit Totals'!G247+2 -> 13 | H5: =F5/G5 -> 0 | I5: ='Unit Totals'!H247 -> 0
A6: 626 | B6: Broadview-Hillside | D6: ='Unit Totals'!D249 -> 3 | E6: ='Unit Totals'!E249 -> 0 | F6: =SUM(D6:E6) -> 3 | G6: ='Unit Totals'!G249+2 -> 18 | H6: =F6/G6 -> 0.16666667 | I6: ='Unit Totals'!H249 -> 3
A7: 687 | B7: Stickney | D7: ='Unit Totals'!D273 -> 1 | E7: ='Unit Totals'!E273 -> 0 | F7: =SUM(D7:E7) -> 1 | G7: ='Unit Totals'!G273+2 -> 47 | H7: =F7/G7 -> 0.021276596 | I7: ='Unit Totals'!H273 -> 1
A8: 699 | B8: Emil Scheive | D8: ='Unit Totals'!D278 -> 0 | E8: ='Unit Totals'!E278 -> 0 | F8: =SUM(D8:E8) -> 0 | G8: ='Unit Totals'!G278+2 -> 18 | H8: =F8/G8 -> 0 | I8: ='Unit Totals'!H278 -> 0
A9: 838 | B9: John H Shelton | D9: ='Unit Totals'!D310 -> 2 | E9: ='Unit Totals'!E310 -> 0 | F9: =SUM(D9:E9) -> 2 | G9: ='Unit Totals'!G310+2 -> 13 | H9: =F9/G9 -> 0.15384615 | I9: ='Unit Totals'!H310 -> 0
A10: 1016 | B10: Berkeley | D10: ='Unit Totals'!D340 -> 1 | E10: ='Unit Totals'!E340 -> 0 | F10: =SUM(D10:E10) -> 1 | G10: ='Unit Totals'!G340+2 -> 28 | H10: =F10/G10 -> 0.035714286 | I10: ='Unit Totals'!H340 -> 1
A11: 1941 | B11: Robert E Coulter Jr | D11: ='Unit Totals'!D387 -> 15 | E11: ='Unit Totals'!E387 -> 0 | F11: =SUM(D11:E11) -> 15 | G11: ='Unit Totals'!G387+2 -> 45 | H11: =F11/G11 -> 0.33333333 | I11: ='Unit Totals'!H387 -> 7
A13: =COUNT(A3:A12) -> 9 | B13: TOTALS | D13: =SUM(D3:D11) -> 28 | E13: =SUM(E3:E11) -> 0 | F13: =SUM(F3:F11) -> 28 | G13: =SUM(G3:G11) -> 293 | H13: =F13/G13 -> 0.09556314 | I13: =SUM(I3:I11) -> 17
B17: Goal Units: | C17: =COUNTIFS(C3:C11,">=8/1/2026",C3:C11,"<=7/31/2027") -> 0

Sheet Dist 7
A1: Unit # | B1: Unit Name | C1: Date Reached Goal | D1: Senior | E1: Junior | F1: Total Members | G1: Goal | H1: % of Goal | I1: PUFL
A3: 134 | B3: Morton Grove | D3: ='Unit Totals'!D72 -> 27 | E3: ='Unit Totals'!E72 -> 0 | F3: =SUM(D3:E3) -> 27 | G3: ='Unit Totals'!G72+2 -> 86 | H3: =F3/G3 -> 0.31395349 | I3: ='Unit Totals'!H72 -> 0
A4: 166 | B4: Joseph M Sesterhenn | D4: ='Unit Totals'!D83 -> 2 | E4: ='Unit Totals'!E83 -> 0 | F4: =SUM(D4:E4) -> 2 | G4: ='Unit Totals'!G83+2 -> 21 | H4: =F4/G4 -> 0.095238095 | I4: ='Unit Totals'!H83 -> 0
A5: 791 | B5: George W Benjamin | D5: ='Unit Totals'!D303 -> 9 | E5: ='Unit Totals'!E303 -> 0 | F5: =SUM(D5:E5) -> 9 | G5: ='Unit Totals'!G303+2 -> 50 | H5: =F5/G5 -> 0.18 | I5: ='Unit Totals'!H303 -> 1
A7: =COUNT(A3:A6) -> 3 | B7: TOTALS | D7: =SUM(D3:D5) -> 38 | E7: =SUM(E3:E5) -> 0 | F7: =SUM(F3:F5) -> 38 | G7: =SUM(G3:G6) -> 157 | H7: =F7/G7 -> 0.24203822 | I7: =SUM(I3:I6) -> 1
B11: Goal Units: | C11: =COUNTIFS(C3:C5,">=8/1/2026",C3:C5,"<=7/31/2027") -> 0

Sheet Dist 8
A1: Unit # | B1: Unit Name | C1: Date Reached Goal | D1: Senior | E1: Junior | F1: Total Members | G1: Goal | H1: % of Goal | I1: PUFL
A3: 330 | B3: Calumet Memorial | D3: ='Unit Totals'!D147 -> 8 | E3: ='Unit Totals'!E147 -> 0 | F3: =SUM(D3:E3) -> 8 | G3: ='Unit Totals'!G147+2 -> 89 | H3: =F3/G3 -> 0.08988764 | I3: ='Unit Totals'!H147 -> 0
A4: 398 | B4: Hazel Crest | D4: ='Unit Totals'!D173 -> 2 | E4: ='Unit Totals'!E173 -> 1 | F4: =SUM(D4:E4) -> 3 | G4: ='Unit Totals'!G173+2 -> 15 | H4: =F4/G4 -> 0.2 | I4: ='Unit Totals'!H173 -> 0
A5: 474 | B5: Rehfeldt-Meyer | D5: ='Unit Totals'!D199 -> 2 | E5: ='Unit Totals'!E199 -> 0 | F5: =SUM(D5:E5) -> 2 | G5: ='Unit Totals'!G199+2 -> 21 | H5: =F5/G5 -> 0.095238095 | I5: ='Unit Totals'!H199 -> 2
A6: 615 | B6: Tinley Park | D6: ='Unit Totals'!D243 -> 25 | E6: ='Unit Totals'!E243 -> 0 | F6: =SUM(D6:E6) -> 25 | G6: ='Unit Totals'!G243+2 -> 50 | H6: =F6/G6 -> 0.5 | I6: ='Unit Totals'!H243 -> 1
A7: 691 | B7: Midlothian | D7: ='Unit Totals'!D275 -> 14 | E7: ='Unit Totals'!E275 -> 0 | F7: =SUM(D7:E7) -> 14 | G7: ='Unit Totals'!G275+2 -> 43 | H7: =F7/G7 -> 0.3255814 | I7: ='Unit Totals'!H275 -> 1
A8: 697 | B8: Edward Schultz | D8: ='Unit Totals'!D277 -> 35 | E8: ='Unit Totals'!E277 -> 3 | F8: =SUM(D8:E8) -> 38 | G8: ='Unit Totals'!G277+2 -> 87 | H8: =F8/G8 -> 0.43678161 | I8: ='Unit Totals'!H277 -> 0
A9: 854 | B9: Evergreen Park | D9: ='Unit Totals'!D312 -> 30 | E9: ='Unit Totals'!E312 -> 7 | F9: =SUM(D9:E9) -> 37 | G9: ='Unit Totals'!G312+2 -> 92 | H9: =F9/G9 -> 0.40217391 | I9: ='Unit Totals'!H312 -> 4
A10: 991 | B10: Marrs-Meyer | D10: ='Unit Totals'!D337 -> 14 | E10: ='Unit Totals'!E337 -> 0 | F10: =SUM(D10:E10) -> 14 | G10: ='Unit Totals'!G337+2 -> 117 | H10: =F10/G10 -> 0.11965812 | I10: ='Unit Totals'!H337 -> 2
A11: 1070 | B11: Thornton | D11: ='Unit Totals'!D347 -> 5 | E11: ='Unit Totals'!E347 -> 0 | F11: =SUM(D11:E11) -> 5 | G11: ='Unit Totals'!G347+2 -> 43 | H11: =F11/G11 -> 0.11627907 | I11: ='Unit Totals'!H347 -> 3
A12: 1160 | B12: Glenn Maker | D12: ='Unit Totals'!D360 -> 17 | E12: ='Unit Totals'!E360 -> 0 | F12: =SUM(D12:E12) -> 17 | G12: ='Unit Totals'!G360+2 -> 32 | H12: =F12/G12 -> 0.53125 | I12: ='Unit Totals'!H360 -> 0
A13: 1198 | B13: Park Forest | D13: ='Unit Totals'!D370 -> 2 | E13: ='Unit Totals'!E370 -> 0 | F13: =SUM(D13:E13) -> 2 | G13: ='Unit Totals'!G370+2 -> 23 | H13: =F13/G13 -> 0.086956522 | I13: ='Unit Totals'!H370 -> 1
A15: =COUNT(A3:A14) -> 11 | B15: TOTALS | D15: =SUM(D3:D13) -> 154 | E15: =SUM(E3:E13) -> 11 | F15: =SUM(F3:F13) -> 165 | G15: =SUM(G3:G14) -> 612 | H15: =F15/G15 -> 0.26960784 | I15: =SUM(I3:I14) -> 14
B19: Goal Units: | C19: =COUNTIFS(C3:C13,">=8/1/2026",C3:C13,"<=7/31/2027") -> 0

Sheet Dist 9
A1: Unit # | B1: Unit Name | C1: Date Reached Goal | D1: Senior | E1: Junior | F1: Total Members | G1: Goal | H1: % of Goal | I1: PUFL
A3: 36 | B3: Des Plaines | D3: ='Unit Totals'!D27 -> 14 | E3: ='Unit Totals'!E27 -> 1 | F3: =SUM(D3:E3) -> 15 | G3: ='Unit Totals'!G27+2 -> 40 | H3: =F3/G3 -> 0.375 | I3: ='Unit Totals'!H27 -> 1
A4: 208 | B4: Merle Guild | D4: ='Unit Totals'!D100 -> 40 | E4: ='Unit Totals'!E100 -> 7 | F4: =SUM(D4:E4) -> 47 | G4: ='Unit Totals'!G100+2 -> 123 | H4: =F4/G4 -> 0.38211382 | I4: ='Unit Totals'!H100 -> 2
A5: 690 | B5: Palatine | D5: ='Unit Totals'!D274 -> 65 | E5: ='Unit Totals'!E274 -> 7 | F5: =SUM(D5:E5) -> 72 | G5: ='Unit Totals'!G274+2 -> 125 | H5: =F5/G5 -> 0.576 | I5: ='Unit Totals'!H274 -> 0
A6: 806 | B6: Billy Caldwell | D6: ='Unit Totals'!D307 -> 27 | E6: ='Unit Totals'!E307 -> 3 | F6: =SUM(D6:E6) -> 30 | G6: ='Unit Totals'!G307+2 -> 33 | H6: =F6/G6 -> 0.90909091 | I6: ='Unit Totals'!H307 -> 2
A7: 888 | B7: Howard H Rohde | D7: ='Unit Totals'!D315 -> 11 | E7: ='Unit Totals'!E315 -> 11 | F7: =SUM(D7:E7) -> 22 | G7: ='Unit Totals'!G315+2 -> 72 | H7: =F7/G7 -> 0.30555556 | I7: ='Unit Totals'!H315 -> 1
A8: 974 | B8: Franklin Park | D8: ='Unit Totals'!D332 -> 20 | E8: ='Unit Totals'!E332 -> 1 | F8: =SUM(D8:E8) -> 21 | G8: ='Unit Totals'!G332+2 -> 133 | H8: =F8/G8 -> 0.15789474 | I8: ='Unit Totals'!H332 -> 7
A9: 1983 | B9: Ellsworth Meineke (Schaumburg) | D9: ='Unit Totals'!D390 -> 0 | E9: ='Unit Totals'!E390 -> 0 | F9: =SUM(D9:E9) -> 0 | G9: ='Unit Totals'!G390+2 -> 10 | H9: =F9/G9 -> 0
A11: =COUNT(A3:A10) -> 7 | B11: TOTALS | D11: =SUM(D3:D9) -> 177 | E11: =SUM(E3:E9) -> 30 | F11: =SUM(F3:F9) -> 207 | G11: =SUM(G3:G9) -> 536 | H11: =F11/G11 -> 0.38619403 | I11: =SUM(I3:I10) -> 13
B15: Goal Units: | C15: =COUNTIFS(C3:C9,">=8/1/2026",C3:C9,"<=7/31/2027") -> 0

Sheet Dist 10
A1: Unit # | B1: Unit Name | C1: Date Reached Goal | D1: Senior | E1: Junior | F1: Total Members | G1: Goal | H1: % of Goal | I1: PUFL
A3: 145 | B3: Highland Park | D3: ='Unit Totals'!D79 -> 0 | E3: ='Unit Totals'!E79 -> 0 | F3: =SUM(D3:E3) -> 0 | G3: ='Unit Totals'!G79+2 -> 18 | H3: =F3/G3 -> 0 | I3: ='Unit Totals'!H79 -> 0
A4: 264 | B4: Lake Forest | D4: ='Unit Totals'!D123 -> 3 | E4: ='Unit Totals'!E123 -> 0 | F4: =SUM(D4:E4) -> 3 | G4: ='Unit Totals'!G123+2 -> 10 | H4: =F4/G4 -> 0.3 | I4: ='Unit Totals'!H123 -> 1
A5: 281 | B5: Waukegan | D5: ='Unit Totals'!D128 -> 10 | E5: ='Unit Totals'!E128 -> 2 | F5: =SUM(D5:E5) -> 12 | G5: ='Unit Totals'!G128+2 -> 39 | H5: =F5/G5 -> 0.30769231 | I5: ='Unit Totals'!H128 -> 2
A6: 329 | B6: Libertyville | D6: ='Unit Totals'!D146 -> 3 | E6: ='Unit Totals'!E146 -> 0 | F6: =SUM(D6:E6) -> 3 | G6: ='Unit Totals'!G146+2 -> 48 | H6: =F6/G6 -> 0.0625 | I6: ='Unit Totals'!H146 -> 3
A7: 703 | B7: Fox Lake | D7: ='Unit Totals'!D281 -> 14 | E7: ='Unit Totals'!E281 -> 0 | F7: =SUM(D7:E7) -> 14 | G7: ='Unit Totals'!G281+2 -> 113 | H7: =F7/G7 -> 0.12389381 | I7: ='Unit Totals'!H281 -> 11
A8: 738 | B8: Deerfield | D8: ='Unit Totals'!D290 -> 0 | E8: ='Unit Totals'!E290 -> 0 | F8: =SUM(D8:E8) -> 0 | G8: ='Unit Totals'!G290+2 -> 11 | H8: =F8/G8 -> 0 | I8: ='Unit Totals'!H290 -> 0
A9: 748 | B9: Antioch | D9: ='Unit Totals'!D292 -> 1 | E9: ='Unit Totals'!E292 -> 0 | F9: =SUM(D9:E9) -> 1 | G9: ='Unit Totals'!G292+2 -> 11 | H9: =F9/G9 -> 0.090909091 | I9: ='Unit Totals'!H292 -> 1
A10: 771 | B10: Gurnee | D10: ='Unit Totals'!D301 -> 43 | E10: ='Unit Totals'!E301 -> 0 | F10: =SUM(D10:E10) -> 43 | G10: ='Unit Totals'!G301+2 -> 87 | H10: =F10/G10 -> 0.49425287 | I10: ='Unit Totals'!H301 -> 0
A11: 865 | B11: Zion Benton | D11: ='Unit Totals'!D313 -> 0 | E11: ='Unit Totals'!E313 -> 0 | F11: =SUM(D11:E11) -> 0 | G11: ='Unit Totals'!G313+2 -> 19 | H11: =F11/G11 -> 0 | I11: ='Unit Totals'!H313 -> 0
A12: 867 | B12: Mundelein | D12: ='Unit Totals'!D314 -> 7 | E12: ='Unit Totals'!E314 -> 7 | F12: =SUM(D12:E12) -> 14 | G12: ='Unit Totals'!G314+2 -> 33 | H12: =F12/G12 -> 0.42424242 | I12: ='Unit Totals'!H314 -> 0
A13: 911 | B13: Wauconda | D13: ='Unit Totals'!D319 -> 46 | E13: ='Unit Totals'!E319 -> 5 | F13: =SUM(D13:E13) -> 51 | G13: ='Unit Totals'!G319+2 -> 106 | H13: =F13/G13 -> 0.48113208 | I13: ='Unit Totals'!H319 -> 4
A14: 964 | B14: Lake Zurich | D14: ='Unit Totals'!D330 -> 4 | E14: ='Unit Totals'!E330 -> 0 | F14: =SUM(D14:E14) -> 4 | G14: ='Unit Totals'!G330+2 -> 28 | H14: =F14/G14 -> 0.14285714 | I14: ='Unit Totals'!H330 -> 1
A15: 1170 | B15: Round Lake | D15: ='Unit Totals'!D363 -> 1 | E15: ='Unit Totals'!E363 -> 0 | F15: =SUM(D15:E15) -> 1 | G15: ='Unit Totals'!G363+2 -> 27 | H15: =F15/G15 -> 0.037037037 | I15: ='Unit Totals'!H363 -> 1
A17: =COUNT(A3:A16) -> 13 | B17: TOTALS | D17: =SUM(D3:D15) -> 132 | E17: =SUM(E3:E15) -> 14 | F17: =SUM(F3:F15) -> 146 | G17: =SUM(G3:G16) -> 550 | H17: =F17/G17 -> 0.26545455 | I17: =SUM(I3:I15) -> 24
B21: Goal Units: | C21: =COUNTIFS(C3:C15,">=8/1/2026",C3:C15,"<=7/31/2027") -> 0

Sheet Dist 11
A1: Unit # | B1: Unit Name | C1: Date Reached Goal | D1: Senior | E1: Junior | F1: Total Members | G1: Goal | H1: % of Goal | I1: PUFL
A3: 5 | B3: Joliet-Harwood | D3: ='Unit Totals'!D7 -> 12 | E3: ='Unit Totals'!E7 -> 0 | F3: =SUM(D3:E3) -> 12 | G3: ='Unit Totals'!G7+2 -> 18 | H3: =F3/G3 -> 0.66666667 | I3: ='Unit Totals'!H7 -> 2
A4: 13 | B4: Plainfield | D4: ='Unit Totals'!D12 -> 41 | E4: ='Unit Totals'!E12 -> 0 | F4: =SUM(D4:E4) -> 41 | G4: ='Unit Totals'!G12+2 -> 136 | H4: =F4/G4 -> 0.30147059 | I4: ='Unit Totals'!H12 -> 2
A5: 18 | B5: Lockport | D5: ='Unit Totals'!D16 -> 91 | E5: ='Unit Totals'!E16 -> 3 | F5: =SUM(D5:E5) -> 94 | G5: ='Unit Totals'!G16+2 -> 155 | H5: =F5/G5 -> 0.60645161 | I5: ='Unit Totals'!H16 -> 7
A6: 43 | B6: Naperville | D6: ='Unit Totals'!D29 -> 15 | E6: ='Unit Totals'!E29 -> 3 | F6: =SUM(D6:E6) -> 18 | G6: ='Unit Totals'!G29+2 -> 20 | H6: =F6/G6 -> 0.9 | I6: ='Unit Totals'!H17 -> 3
A7: 52 | B7: Romeoville | D7: ='Unit Totals'!D33 -> 13 | E7: ='Unit Totals'!E33 -> 2 | F7: =SUM(D7:E7) -> 15 | G7: ='Unit Totals'!G33+2 -> 27 | H7: =F7/G7 -> 0.55555556 | I7: ='Unit Totals'!H33 -> 0
A8: 57 | B8: Elgin | D8: ='Unit Totals'!D35 -> 7 | E8: ='Unit Totals'!E35 -> 0 | F8: =SUM(D8:E8) -> 7 | G8: ='Unit Totals'!G35+2 -> 120 | H8: =F8/G8 -> 0.058333333 | I8: ='Unit Totals'!H35 -> 0
A9: 75 | B9: Geneva | D9: ='Unit Totals'!D42 -> 5 | E9: ='Unit Totals'!E42 -> 0 | F9: =SUM(D9:E9) -> 5 | G9: ='Unit Totals'!G42+2 -> 10 | H9: =F9/G9 -> 0.5 | I9: ='Unit Totals'!H42 -> 4
A10: 76 | B10: Wheaton | D10: ='Unit Totals'!D43 -> 44 | E10: ='Unit Totals'!E43 -> 0 | F10: =SUM(D10:E10) -> 44 | G10: ='Unit Totals'!G43+2 -> 61 | H10: =F10/G10 -> 0.72131148 | I10: ='Unit Totals'!H43 -> 44
A11: 80 | B11: Downers Grove | D11: ='Unit Totals'!D46 -> 24 | E11: ='Unit Totals'!E46 -> 0 | F11: =SUM(D11:E11) -> 24 | G11: ='Unit Totals'!G46+2 -> 51 | H11: =F11/G11 -> 0.47058824 | I11: ='Unit Totals'!H46 -> 8
A12: 84 | B12: Roosevelt - Aurora | D12: ='Unit Totals'!D49 -> 0 | E12: ='Unit Totals'!E49 -> 0 | F12: =SUM(D12:E12) -> 0 | G12: ='Unit Totals'!G49+2 -> 23 | H12: =F12/G12 -> 0 | I12: ='Unit Totals'!H49 -> 0
A13: 187 | B13: Elmhurst | D13: ='Unit Totals'!D91 -> 54 | E13: ='Unit Totals'!E91 -> 9 | F13: =SUM(D13:E13) -> 63 | G13: ='Unit Totals'!G91+2 -> 117 | H13: =F13/G13 -> 0.53846154 | I13: ='Unit Totals'!H91 -> 4
A14: 191 | B14: Wilmington | D14: ='Unit Totals'!D93 -> 0 | E14: ='Unit Totals'!E93 -> 0 | F14: =SUM(D14:E14) -> 0 | G14: ='Unit Totals'!G93+2 -> 17 | H14: =F14/G14 -> 0 | I14: ='Unit Totals'!H93 -> 0
A15: 192 | B15: Marengo | D15: ='Unit Totals'!D94 -> 2 | E15: ='Unit Totals'!E94 -> 0 | F15: =SUM(D15:E15) -> 2 | G15: ='Unit Totals'!G94+2 -> 44 | H15: =F15/G15 -> 0.045454545 | I15: ='Unit Totals'!H94 -> 1
A16: 250 | B16: Hinsdale | D16: ='Unit Totals'!D113 -> 0 | E16: ='Unit Totals'!E113 -> 0 | F16: =SUM(D16:E16) -> 0 | G16: ='Unit Totals'!G113+2 -> 32 | H16: =F16/G16 -> 0 | I16: ='Unit Totals'!H113 -> 0
A17: 253 | B17: Richmond | D17: ='Unit Totals'!D115 -> 17 | E17: ='Unit Totals'!E115 -> 1 | F17: =SUM(D17:E17) -> 18 | G17: ='Unit Totals'!G115+2 -> 27 | H17: =F17/G17 -> 0.66666667 | I17: ='Unit Totals'!H115 -> 2
A18: 300 | B18: West Chicago | D18: ='Unit Totals'!D138 -> 0 | E18: ='Unit Totals'!E138 -> 0 | F18: =SUM(D18:E18) -> 0 | G18: ='Unit Totals'!G138+2 -> 26 | H18: =F18/G18 -> 0 | I18: ='Unit Totals'!H138 -> 0
A19: 342 | B19: St Charles | D19: ='Unit Totals'!D152 -> 0 | E19: ='Unit Totals'!E152 -> 0 | F19: =SUM(D19:E19) -> 0 | G19: ='Unit Totals'!G152+2 -> 29 | H19: =F19/G19 -> 0 | I19: ='Unit Totals'!H152 -> 0
A20: 391 | B20: Lombard | D20: ='Unit Totals'!D169 -> 13 | E20: ='Unit Totals'!E169 -> 0 | F20: =SUM(D20:E20) -> 13 | G20: ='Unit Totals'!G169+2 -> 15 | H20: =F20/G20 -> 0.86666667 | I20: ='Unit Totals'!H169 -> 0
A21: 392 | B21: Peotone | D21: ='Unit Totals'!D170 -> 32 | E21: ='Unit Totals'!E170 -> 2 | F21: =SUM(D21:E21) -> 34 | G21: ='Unit Totals'!G170+2 -> 88 | H21: =F21/G21 -> 0.38636364 | I21: ='Unit Totals'!H170 -> 6
A22: 491 | B22: McHenry | D22: ='Unit Totals'!D205 -> 16 | E22: ='Unit Totals'!E205 -> 0 | F22: =SUM(D22:E22) -> 16 | G22: ='Unit Totals'!G205+2 -> 140 | H22: =F22/G22 -> 0.11428571 | I22: ='Unit Totals'!H205 -> 0
A23: 521 | B23: Steger | D23: ='Unit Totals'!D212 -> 1 | E23: ='Unit Totals'!E212 -> 0 | F23: =SUM(D23:E23) -> 1 | G23: ='Unit Totals'!G212+2 -> 31 | H23: =F23/G23 -> 0.032258065 | I23: ='Unit Totals'!H212 -> 1
A24: 589 | B24: Warrenville | D24: ='Unit Totals'!D237 -> 0 | E24: ='Unit Totals'!E237 -> 0 | F24: =SUM(D24:E24) -> 0 | G24: ='Unit Totals'!G237+2 -> 35 | H24: =F24/G24 -> 0 | I24: ='Unit Totals'!H237 -> 0
A25: 630 | B25: Elburn | D25: ='Unit Totals'!D250 -> 30 | E25: ='Unit Totals'!E250 -> 3 | F25: =SUM(D25:E25) -> 33 | G25: ='Unit Totals'!G250+2 -> 74 | H25: =F25/G25 -> 0.44594595 | I25: ='Unit Totals'!H250 -> 2
A26: 673 | B26: Huntley | D26: ='Unit Totals'!D266 -> 8 | E26: ='Unit Totals'!E266 -> 0 | F26: =SUM(D26:E26) -> 8 | G26: ='Unit Totals'!G266+2 -> 114 | H26: =F26/G26 -> 0.070175439 | I26: ='Unit Totals'!H266 -> 2
A27: 680 | B27: Hampshire | D27: ='Unit Totals'!D269 -> 12 | E27: ='Unit Totals'!E269 -> 0 | F27: =SUM(D27:E27) -> 12 | G27: ='Unit Totals'!G269+2 -> 27 | H27: =F27/G27 -> 0.44444444 | I27: ='Unit Totals'!H269 -> 12
A28: 798 | B28: Aurora | D28: ='Unit Totals'!D306 -> 0 | E28: ='Unit Totals'!E306 -> 0 | F28: =SUM(D28:E28) -> 0 | G28: ='Unit Totals'!G306+2 -> 12 | H28: =F28/G28 -> 0 | I28: ='Unit Totals'!H306 -> 0
A29: 935 | B29: Manhattan | D29: ='Unit Totals'!D326 -> 0 | E29: ='Unit Totals'!E326 -> 0 | F29: =SUM(D29:E29) -> 0 | G29: ='Unit Totals'!G326+2 -> 24 | H29: =F29/G29 -> 0 | I29: ='Unit Totals'!H326 -> 0
A30: 1080 | B30: Joliet-St Joseph's Park | D30: ='Unit Totals'!D349 -> 8 | E30: ='Unit Totals'!E349 -> 0 | F30: =SUM(D30:E30) -> 8 | G30: ='Unit Totals'!G349+2 -> 90 | H30: =F30/G30 -> 0.088888889 | I30: ='Unit Totals'!H349 -> 1
A31: 1084 | B31: Roselle | D31: ='Unit Totals'!D351 -> 9 | E31: ='Unit Totals'!E351 -> 0 | F31: =SUM(D31:E31) -> 9 | G31: ='Unit Totals'!G351+2 -> 62 | H31: =F31/G31 -> 0.14516129 | I31: ='Unit Totals'!H351 -> 0
A32: 1200 | B32: Monee | D32: ='Unit Totals'!D371 -> 0 | E32: ='Unit Totals'!E371 -> 0 | F32: =SUM(D32:E32) -> 0 | G32: ='Unit Totals'!G371+2 -> 18 | H32: =F32/G32 -> 0 | I32: ='Unit Totals'!H371 -> 0
A33: 1205 | B33: Wood Dale | D33: ='Unit Totals'!D372 -> 1 | E33: ='Unit Totals'!E372 -> 0 | F33: =SUM(D33:E33) -> 1 | G33: ='Unit Totals'!G372+2 -> 43 | H33: =F33/G33 -> 0.023255814 | I33: ='Unit Totals'!H372 -> 1
A34: 1231 | B34: Lake In The Hills | D34: ='Unit Totals'!D377 -> 13 | E34: ='Unit Totals'!E377 -> 0 | F34: =SUM(D34:E34) -> 13 | G34: ='Unit Totals'!G377+2 -> 24 | H34: =F34/G34 -> 0.54166667 | I34: ='Unit Totals'!H377 -> 2
A35: 1271 | B35: Sugar Grove | D35: ='Unit Totals'!D384 -> 2 | E35: ='Unit Totals'!E384 -> 0 | F35: =SUM(D35:E35) -> 2 | G35: ='Unit Totals'!G384+2 -> 13 | H35: =F35/G35 -> 0.15384615 | I35: ='Unit Totals'!H384 -> 1
A36: 1977 | B36: New Lenox | D36: ='Unit Totals'!D389 -> 29 | E36: ='Unit Totals'!E389 -> 2 | F36: =SUM(D36:E36) -> 31 | G36: ='Unit Totals'!G389+2 -> 80 | H36: =F36/G36 -> 0.3875 | I36: ='Unit Totals'!H389 -> 1
A38: =COUNT(A3:A37) -> 34 | B38: TOTALS | D38: =SUM(D3:D36) -> 499 | E38: =SUM(E3:E36) -> 25 | F38: =SUM(F3:F36) -> 524 | G38: =SUM(G3:G37) -> 1803 | H38: =F38/G38 -> 0.29062673 | I38: =SUM(I3:I37) -> 106
B42: Goal Units: | C42: =COUNTIFS(C3:C36,">=8/1/2026",C3:C36,"<=7/31/2027") -> 0

Sheet Dist 12
A1: Unit # | B1: Unit Name | C1: Date Reached Goal | D1: Senior | E1: Junior | F1: Total Members | G1: Goal | H1: % of Goal | I1: PUFL
A3: 33 | B3: Ottawa | D3: ='Unit Totals'!D25 -> 79 | E3: ='Unit Totals'!E25 -> 0 | F3: =SUM(D3:E3) -> 79 | G3: ='Unit Totals'!G25+2 -> 193 | H3: =F3/G3 -> 0.40932642 | I3: ='Unit Totals'!H25 -> 5
A4: 66 | B4: DeKalb | D4: ='Unit Totals'!D36 -> 7 | E4: ='Unit Totals'!E36 -> 1 | F4: =SUM(D4:E4) -> 8 | G4: ='Unit Totals'!G36+2 -> 56 | H4: =F4/G4 -> 0.14285714 | I4: ='Unit Totals'!H36 -> 0
A5: 77 | B5: Belvidere | D5: ='Unit Totals'!D44 -> 104 | E5: ='Unit Totals'!E44 -> 15 | F5: =SUM(D5:E5) -> 119 | G5: ='Unit Totals'!G44+2 -> 255 | H5: =F5/G5 -> 0.46666667 | I5: ='Unit Totals'!H44 -> 3
A6: 99 | B6: Sycamore | D6: ='Unit Totals'!D57 -> 2 | E6: ='Unit Totals'!E57 -> 0 | F6: =SUM(D6:E6) -> 2 | G6: ='Unit Totals'!G57+2 -> 13 | H6: =F6/G6 -> 0.15384615 | I6: ='Unit Totals'!H57 -> 0
A7: 181 | B7: Sandwich | D7: ='Unit Totals'!D90 -> 23 | E7: ='Unit Totals'!E90 -> 8 | F7: =SUM(D7:E7) -> 31 | G7: ='Unit Totals'!G90+2 -> 34 | H7: =F7/G7 -> 0.91176471 | I7: ='Unit Totals'!H90 -> 1
A8: 197 | B8: Pecatonica | D8: ='Unit Totals'!D96 -> 0 | E8: ='Unit Totals'!E96 -> 0 | F8: =SUM(D8:E8) -> 0 | G8: ='Unit Totals'!G96+2 -> 39 | H8: =F8/G8 -> 0 | I8: ='Unit Totals'!H96 -> 0
A9: 235 | B9: Marseilles | D9: ='Unit Totals'!D109 -> 16 | E9: ='Unit Totals'!E109 -> 0 | F9: =SUM(D9:E9) -> 16 | G9: ='Unit Totals'!G109+2 -> 59 | H9: =F9/G9 -> 0.27118644 | I9: ='Unit Totals'!H109 -> 3
A10: 237 | B10: Oglesby | D10: ='Unit Totals'!D110 -> 21 | E10: ='Unit Totals'!E110 -> 1 | F10: =SUM(D10:E10) -> 22 | G10: ='Unit Totals'!G110+2 -> 34 | H10: =F10/G10 -> 0.64705882 | I10: ='Unit Totals'!H110 -> 2
A11: 294 | B11: Morris | D11: ='Unit Totals'!D134 -> 40 | E11: ='Unit Totals'!E134 -> 2 | F11: =SUM(D11:E11) -> 42 | G11: ='Unit Totals'!G134+2 -> 48 | H11: =F11/G11 -> 0.875 | I11: ='Unit Totals'!H134 -> 5
A12: 332 | B12: Rockton | D12: ='Unit Totals'!D148 -> 73 | E12: ='Unit Totals'!E148 -> 10 | F12: =SUM(D12:E12) -> 83 | G12: ='Unit Totals'!G148+2 -> 131 | H12: =F12/G12 -> 0.63358779 | I12: ='Unit Totals'!H148 -> 2
A13: 337 | B13: Genoa | D13: ='Unit Totals'!D149 -> 36 | E13: ='Unit Totals'!E149 -> 8 | F13: =SUM(D13:E13) -> 44 | G13: ='Unit Totals'!G149+2 -> 80 | H13: =F13/G13 -> 0.55 | I13: ='Unit Totals'!H149 -> 2
A14: 340 | B14: Jefferson-Horton | D14: ='Unit Totals'!D150 -> 4 | E14: ='Unit Totals'!E150 -> 0 | F14: =SUM(D14:E14) -> 4 | G14: ='Unit Totals'!G150+2 -> 52 | H14: =F14/G14 -> 0.076923077 | I14: ='Unit Totals'!H150 -> 1
A15: 395 | B15: Plano | D15: ='Unit Totals'!D171 -> 12 | E15: ='Unit Totals'!E171 -> 0 | F15: =SUM(D15:E15) -> 12 | G15: ='Unit Totals'!G171+2 -> 30 | H15: =F15/G15 -> 0.4 | I15: ='Unit Totals'!HH171 -> 0
A16: 489 | B16: Yorkville | D16: ='Unit Totals'!D204 -> 18 | E16: ='Unit Totals'!E204 -> 0 | F16: =SUM(D16:E16) -> 18 | G16: ='Unit Totals'!G204+2 -> 109 | H16: =F16/G16 -> 0.16513761 | I16: ='Unit Totals'!H204 -> 1
A17: 549 | B17: Earlville | D17: ='Unit Totals'!D219 -> 1 | E17: ='Unit Totals'!E219 -> 0 | F17: =SUM(D17:E17) -> 1 | G17: ='Unit Totals'!G219+2 -> 18 | H17: =F17/G17 -> 0.055555556 | I17: ='Unit Totals'!H219 -> 0
A18: 570 | B18: Leland | D18: ='Unit Totals'!D229 -> 0 | E18: ='Unit Totals'!E229 -> 0 | F18: =SUM(D18:E18) -> 0 | G18: ='Unit Totals'!G229+2 -> 23 | H18: =F18/G18 -> 0 | I18: ='Unit Totals'!H229 -> 0
A19: 654 | B19: Waterman | D19: ='Unit Totals'!D262 -> 1 | E19: ='Unit Totals'!E262 -> 0 | F19: =SUM(D19:E19) -> 1 | G19: ='Unit Totals'!G262+2 -> 15 | H19: =F19/G19 -> 0.066666667 | I19: ='Unit Totals'!H262 -> 0
A20: 663 | B20: Gardner | D20: ='Unit Totals'!D264 -> 2 | E20: ='Unit Totals'!E264 -> 0 | F20: =SUM(D20:E20) -> 2 | G20: ='Unit Totals'!G264+2 -> 25 | H20: =F20/G20 -> 0.08 | I20: ='Unit Totals'!H264 -> 2
A21: 675 | B21: Oswego | D21: ='Unit Totals'!D267 -> 13 | E21: ='Unit Totals'!E267 -> 2 | F21: =SUM(D21:E21) -> 15 | G21: ='Unit Totals'!G267+2 -> 63 | H21: =F21/G21 -> 0.23809524 | I21: ='Unit Totals'!H267 -> 1
A22: 676 | B22: Durand | D22: ='Unit Totals'!D268 -> 14 | E22: ='Unit Totals'!E268 -> 8 | F22: =SUM(D22:E22) -> 22 | G22: ='Unit Totals'!G268+2 -> 59 | H22: =F22/G22 -> 0.37288136 | I22: ='Unit Totals'!H268 -> 3
A23: 1010 | B23: Kingston | D23: ='Unit Totals'!D338 -> 6 | E23: ='Unit Totals'!E338 -> 11 | F23: =SUM(D23:E23) -> 17 | G23: ='Unit Totals'!G338+2 -> 25 | H23: =F23/G23 -> 0.68 | I23: ='Unit Totals'!H338 -> 1
A24: 1121 | B24: Rutland | D24: ='Unit Totals'!D354 -> 0 | E24: ='Unit Totals'!E354 -> 0 | F24: =SUM(D24:E24) -> 0 | G24: ='Unit Totals'!G354+2 -> 27 | H24: =F24/G24 -> 0
A25: 1188 | B25: Minooka | D25: ='Unit Totals'!D366 -> 7 | E25: ='Unit Totals'!E366 -> 0 | F25: =SUM(D25:E25) -> 7 | G25: ='Unit Totals'!G366+2 -> 13 | H25: =F25/G25 -> 0.53846154 | I25: ='Unit Totals'!H366 -> 7
A26: 1207 | B26: Rockford-Lt Robt Carlson | D26: ='Unit Totals'!D373 -> 49 | E26: ='Unit Totals'!E373 -> 4 | F26: =SUM(D26:E26) -> 53 | G26: ='Unit Totals'!G373+2 -> 173 | H26: =F26/G26 -> 0.30635838 | I26: ='Unit Totals'!H373 -> 6
A28: =COUNT(A3:A27) -> 24 | B28: TOTALS | D28: =SUM(D3:D26) -> 528 | E28: =SUM(E3:E26) -> 70 | F28: =SUM(F3:F26) -> 598 | G28: =SUM(G3:G26) -> 1574 | H28: =F28/G28 -> 0.37992376 | I28: =SUM(I3:I27) -> 45
B32: Goal Units: | C32: =COUNTIFS(C3:C26,">=8/1/2026",C3:C26,"<=7/31/2027") -> 0

Sheet Dist 13
A1: Unit # | B1: Unit Name | C1: Date Reached Goal | D1: Senior | E1: Junior | F1: Total Members | G1: Goal | H1: % of Goal | I1: PUFL
A3: 12 | B3: Dixon | D3: ='Unit Totals'!D11 -> 15 | E3: ='Unit Totals'!E11 -> 0 | F3: =SUM(D3:E3) -> 15 | G3: ='Unit Totals'!G11+2 -> 26 | H3: =F3/G3 -> 0.57692308 | I3: ='Unit Totals'!H11 -> 3
A4: 83 | B4: Polo | D4: ='Unit Totals'!D48 -> 10 | E4: ='Unit Totals'!E48 -> 0 | F4: =SUM(D4:E4) -> 10 | G4: ='Unit Totals'!G48+2 -> 29 | H4: =F4/G4 -> 0.34482759 | I4: ='Unit Totals'!H48 -> 3
A5: 193 | B5: Galena | D5: ='Unit Totals'!D95 -> 15 | E5: ='Unit Totals'!E95 -> 0 | F5: =SUM(D5:E5) -> 15 | G5: ='Unit Totals'!G95+2 -> 21 | H5: =F5/G5 -> 0.71428571 | I5: ='Unit Totals'!H95 -> 0
A6: 296 | B6: Sterling | D6: ='Unit Totals'!D135 -> 77 | E6: ='Unit Totals'!E135 -> 7 | F6: =SUM(D6:E6) -> 84 | G6: ='Unit Totals'!G135+2 -> 156 | H6: =F6/G6 -> 0.53846154 | I6: ='Unit Totals'!H135 -> 0
A7: 402 | B7: Fulton | D7: ='Unit Totals'!D174 -> 0 | E7: ='Unit Totals'!E174 -> 0 | F7: =SUM(D7:E7) -> 0 | G7: ='Unit Totals'!G174+2 -> 11 | H7: =F7/G7 -> 0 | I7: ='Unit Totals'!H174 -> 0
A8: 453 | B8: Amboy | D8: ='Unit Totals'!D191 -> 1 | E8: ='Unit Totals'!E191 -> 0 | F8: =SUM(D8:E8) -> 1 | G8: ='Unit Totals'!G191+2 -> 10 | H8: =F8/G8 -> 0.1 | I8: ='Unit Totals'!H191 -> 1
A9: 464 | B9: Warren | D9: ='Unit Totals'!D196 -> 10 | E9: ='Unit Totals'!E196 -> 11 | F9: =SUM(D9:E9) -> 21 | G9: ='Unit Totals'!G196+2 -> 38 | H9: =F9/G9 -> 0.55263158 | I9: ='Unit Totals'!H196 -> 4
A10: 574 | B10: Tampico | D10: ='Unit Totals'!D231 -> 7 | E10: ='Unit Totals'!E231 -> 0 | F10: =SUM(D10:E10) -> 7 | G10: ='Unit Totals'!G231+2 -> 11 | H10: =F10/G10 -> 0.63636364 | I10: ='Unit Totals'!H231 -> 0
A11: 577 | B11: Lena | D11: ='Unit Totals'!D232 -> 5 | E11: ='Unit Totals'!E232 -> 1 | F11: =SUM(D11:E11) -> 6 | G11: ='Unit Totals'!G232+2 -> 57 | H11: =F11/G11 -> 0.10526316 | I11: ='Unit Totals'!H232 -> 6
A12: 720 | B12: Orangeville | D12: ='Unit Totals'!D285 -> 3 | E12: ='Unit Totals'!E285 -> 0 | F12: =SUM(D12:E12) -> 3 | G12: ='Unit Totals'!G285+2 -> 15 | H12: =F12/G12 -> 0.2 | I12: ='Unit Totals'!H285 -> 3
A13: 739 | B13: Chadwick | D13: ='Unit Totals'!D291 -> 15 | E13: ='Unit Totals'!E291 -> 0 | F13: =SUM(D13:E13) -> 15 | G13: ='Unit Totals'!G291+2 -> 18 | H13: =F13/G13 -> 0.83333333 | I13: ='Unit Totals'!H291 -> 0
A14: 902 | B14: Rock Falls | D14: ='Unit Totals'!D317 -> 36 | E14: ='Unit Totals'!E317 -> 0 | F14: =SUM(D14:E14) -> 36 | G14: ='Unit Totals'!G317+2 -> 67 | H14: =F14/G14 -> 0.53731343 | I14: ='Unit Totals'!H317 -> 8
A15: 1014 | B15: Pearl City | D15: ='Unit Totals'!D339 -> 1 | E15: ='Unit Totals'!E339 -> 0 | F15: =SUM(D15:E15) -> 1 | G15: ='Unit Totals'!G339+2 -> 20 | H15: =F15/G15 -> 0.05 | I15: ='Unit Totals'!H339 -> 1
A16: 1225 | B16: McConnell | D16: ='Unit Totals'!D375 -> 15 | E16: ='Unit Totals'!E375 -> 0 | F16: =SUM(D16:E16) -> 15 | G16: ='Unit Totals'!G375+2 -> 41 | H16: =F16/G16 -> 0.36585366 | I16: ='Unit Totals'!H375 -> 0
A18: =COUNT(A3:A17) -> 14 | B18: TOTALS | D18: =SUM(D3:D16) -> 210 | E18: =SUM(E3:E16) -> 19 | F18: =SUM(F3:F16) -> 229 | G18: =SUM(G3:G17) -> 520 | H18: =F18/G18 -> 0.44038462 | I18: =SUM(I3:I17) -> 29
B22: Goal Units: | C22: =COUNTIFS(C3:C16,">=8/1/2026",C3:C16,"<=7/31/2027") -> 0

Sheet Dist 14
A1: Unit # | B1: Unit Name | C1: Date Reached Goal | D1: Senior | E1: Junior | F1: Total Members | G1: Goal | H1: % of Goal | I1: PUFL
A3: 6 | B3: Macomb | D3: ='Unit Totals'!D8 -> 26 | E3: ='Unit Totals'!E8 -> 0 | F3: =SUM(D3:E3) -> 26 | G3: ='Unit Totals'!G8+2 -> 60 | H3: =F3/G3 -> 0.43333333 | I3: ='Unit Totals'!H8 -> 7
A4: 121 | B4: Aledo | D4: ='Unit Totals'!D66 -> 23 | E4: ='Unit Totals'!E66 -> 3 | F4: =SUM(D4:E4) -> 26 | G4: ='Unit Totals'!G66+2 -> 49 | H4: =F4/G4 -> 0.53061224 | I4: ='Unit Totals'!H66 -> 0
A5: 136 | B5: Monmouth | D5: ='Unit Totals'!D74 -> 44 | E5: ='Unit Totals'!E74 -> 0 | F5: =SUM(D5:E5) -> 44 | G5: ='Unit Totals'!G74+2 -> 98 | H5: =F5/G5 -> 0.44897959 | I5: ='Unit Totals'!H74 -> 1
A6: 189 | B6: Alexis | D6: ='Unit Totals'!D92 -> 0 | E6: ='Unit Totals'!E92 -> 0 | F6: =SUM(D6:E6) -> 0 | G6: ='Unit Totals'!G92+2 -> 16 | H6: =F6/G6 -> 0 | I6: ='Unit Totals'!H92 -> 0
A7: 227 | B7: East Moline | D7: ='Unit Totals'!D106 -> 0 | E7: ='Unit Totals'!E106 -> 0 | F7: =SUM(D7:E7) -> 0 | G7: ='Unit Totals'!G106+2 -> 37 | H7: =F7/G7 -> 0 | I7: ='Unit Totals'!H106 -> 0
A8: 297 | B8: Dallas City | D8: ='Unit Totals'!D136 -> 1 | E8: ='Unit Totals'!E136 -> 0 | F8: =SUM(D8:E8) -> 1 | G8: ='Unit Totals'!G136+2 -> 20 | H8: =F8/G8 -> 0.05 | I8: ='Unit Totals'!H136 -> 1
A9: 569 | B9: Milan | D9: ='Unit Totals'!D228 -> 35 | E9: ='Unit Totals'!E228 -> 1 | F9: =SUM(D9:E9) -> 36 | G9: ='Unit Totals'!G228+2 -> 94 | H9: =F9/G9 -> 0.38297872 | I9: ='Unit Totals'!H228 -> 4
A10: 614 | B10: Roseville | D10: ='Unit Totals'!D242 -> 21 | E10: ='Unit Totals'!E242 -> 9 | F10: =SUM(D10:E10) -> 30 | G10: ='Unit Totals'!G242+2 -> 43 | H10: =F10/G10 -> 0.69767442 | I10: ='Unit Totals'!H242 -> 3
A11: 682 | B11: Warsaw | D11: ='Unit Totals'!D270 -> 1 | E11: ='Unit Totals'!E270 -> 0 | F11: =SUM(D11:E11) -> 1 | G11: ='Unit Totals'!G270+2 -> 28 | H11: =F11/G11 -> 0.035714286 | I11: ='Unit Totals'!H270 -> 1
A12: 765 | B12: Stronghurst | C12: 44855 | D12: ='Unit Totals'!D298 -> 29 | E12: ='Unit Totals'!E298 -> 2 | F12: =SUM(D12:E12) -> 31 | G12: ='Unit Totals'!G298+2 -> 31 | H12: =F12/G12 -> 1 | I12: ='Unit Totals'!H298 -> 8
A14: =COUNT(A3:A13) -> 10 | B14: TOTALS | D14: =SUM(D3:D12) -> 180 | E14: =SUM(E3:E12) -> 15 | F14: =SUM(F3:F12) -> 195 | G14: =SUM(G3:G13) -> 476 | H14: =F14/G14 -> 0.40966387 | I14: =SUM(I3:I12) -> 25
B18: Goal Units: | C18: =COUNTIFS(C3:C12,">=8/1/2026",C3:C12,"<=7/31/2027") -> 1

Sheet Dist 15
A1: Unit # | B1: Unit Name | C1: Date Reached Goal | D1: Senior | E1: Junior | F1: Total Members | G1: Goal | H1: % of Goal | I1: PUFL
A3: 1 | B3: Lewistown | D3: ='Unit Totals'!D4 -> 3 | E3: ='Unit Totals'!E4 -> 0 | F3: ='Unit Totals'!F4 -> 3 | G3: ='Unit Totals'!G4+2 -> 23 | H3: =F3/G3 -> 0.13043478 | I3: ='Unit Totals'!H4 -> 0
A4: 4 | B4: Rushville | D4: ='Unit Totals'!D6 -> 1 | E4: ='Unit Totals'!E6 -> 0 | F4: =SUM(D4:E4) -> 1 | G4: ='Unit Totals'!G6+2 -> 38 | H4: =F4/G4 -> 0.026315789 | I4: ='Unit Totals'!H6 -> 1
A5: 16 | B5: Canton | D5: ='Unit Totals'!D14 -> 4 | E5: ='Unit Totals'!E14 -> 0 | F5: =SUM(D5:E5) -> 4 | G5: ='Unit Totals'!G14+2 -> 47 | H5: =F5/G5 -> 0.085106383 | I5: ='Unit Totals'!H14 -> 4
A6: 17 | B6: Ipava | D6: ='Unit Totals'!D15 -> 1 | E6: ='Unit Totals'!E15 -> 0 | F6: =SUM(D6:E6) -> 1 | G6: ='Unit Totals'!G15+2 -> 48 | H6: =F6/G6 -> 0.020833333 | I6: ='Unit Totals'!H15 -> 0
A7: 26 | B7: Vermont | D7: ='Unit Totals'!D20 -> 2 | E7: ='Unit Totals'!E20 -> 0 | F7: =SUM(D7:E7) -> 2 | G7: ='Unit Totals'!G20+2 -> 27 | H7: =F7/G7 -> 0.074074074 | I7: ='Unit Totals'!H20 -> 2
A8: 37 | B8: Quincy | D8: ='Unit Totals'!D28 -> 1 | E8: ='Unit Totals'!E28 -> 0 | F8: =SUM(D8:E8) -> 1 | G8: ='Unit Totals'!G28+2 -> 29 | H8: =F8/G8 -> 0.034482759 | I8: ='Unit Totals'!H28 -> 1
A9: 45 | B9: Galva | D9: ='Unit Totals'!D31 -> 1 | E9: ='Unit Totals'!E31 -> 0 | F9: =SUM(D9:E9) -> 1 | G9: ='Unit Totals'!G31+2 -> 37 | H9: =F9/G9 -> 0.027027027 | I9: ='Unit Totals'!H31 -> 0
A10: 140 | B10: Farmington | D10: ='Unit Totals'!D77 -> 1 | E10: ='Unit Totals'!E77 -> 0 | F10: =SUM(D10:E10) -> 1 | G10: ='Unit Totals'!G77+2 -> 24 | H10: =F10/G10 -> 0.041666667 | I10: ='Unit Totals'!H77 -> 1
A11: 255 | B11: Orion | D11: ='Unit Totals'!D117 -> 1 | E11: ='Unit Totals'!E117 -> 0 | F11: =SUM(D11:E11) -> 1 | G11: ='Unit Totals'!G117+2 -> 72 | H11: =F11/G11 -> 0.013888889 | I11: ='Unit Totals'!H117 -> 1
A12: 285 | B12: Galesburg | D12: ='Unit Totals'!D129 -> 59 | E12: ='Unit Totals'!E129 -> 3 | F12: =SUM(D12:E12) -> 62 | G12: ='Unit Totals'!G129+2 -> 78 | H12: =F12/G12 -> 0.79487179 | I12: ='Unit Totals'!H129 -> 7
A13: 286 | B13: Clayton | D13: ='Unit Totals'!D130 -> 19 | E13: ='Unit Totals'!E130 -> 0 | F13: =SUM(D13:E13) -> 19 | G13: ='Unit Totals'!G130+2 -> 28 | H13: =F13/G13 -> 0.67857143 | I13: ='Unit Totals'!H130 -> 8
A14: 371 | B14: Williamsfield | D14: ='Unit Totals'!D161 -> 1 | E14: ='Unit Totals'!E161 -> 0 | F14: =SUM(D14:E14) -> 1 | G14: ='Unit Totals'!G161+2 -> 33 | H14: =F14/G14 -> 0.03030303 | I14: ='Unit Totals'!H161 -> 0
A15: 381 | B15: Abingdon | D15: ='Unit Totals'!D164 -> 2 | E15: ='Unit Totals'!E164 -> 0 | F15: =SUM(D15:E15) -> 2 | G15: ='Unit Totals'!G164+2 -> 46 | H15: =F15/G15 -> 0.043478261 | I15: ='Unit Totals'!H164 -> 2
A16: 417 | B16: Cambridge | D16: ='Unit Totals'!D178 -> 8 | E16: ='Unit Totals'!E178 -> 0 | F16: =SUM(D16:E16) -> 8 | G16: ='Unit Totals'!G178+2 -> 10 | H16: =F16/G16 -> 0.8 | I16: ='Unit Totals'!H178 -> 0
A17: 465 | B17: Andover | D17: ='Unit Totals'!D197 -> 10 | E17: ='Unit Totals'!E197 -> 0 | F17: =SUM(D17:E17) -> 10 | G17: ='Unit Totals'!G197+2 -> 12 | H17: =F17/G17 -> 0.83333333 | I17: ='Unit Totals'!H197 -> 0
A18: 533 | B18: Cuba | D18: ='Unit Totals'!D216 -> 8 | E18: ='Unit Totals'!E216 -> 1 | F18: =SUM(D18:E18) -> 9 | G18: ='Unit Totals'!G216+2 -> 32 | H18: =F18/G18 -> 0.28125 | I18: ='Unit Totals'!H216 -> 0
A19: 546 | B19: Woodhull | D19: ='Unit Totals'!D218 -> 0 | E19: ='Unit Totals'!E218 -> 0 | F19: =SUM(D19:E19) -> 0 | G19: ='Unit Totals'!G218+2 -> 20 | H19: =F19/G19 -> 0 | I19: ='Unit Totals'!H218 -> 0
A20: 644 | B20: Fairview | D20: ='Unit Totals'!D257 -> 2 | E20: ='Unit Totals'!E257 -> 0 | F20: =SUM(D20:E20) -> 2 | G20: ='Unit Totals'!G257+2 -> 87 | H20: =F20/G20 -> 0.022988506 | I20: ='Unit Totals'!H257 -> 2
A21: 749 | B21: Knoxville | D21: ='Unit Totals'!D293 -> 49 | E21: ='Unit Totals'!E293 -> 4 | F21: =SUM(D21:E21) -> 53 | G21: ='Unit Totals'!G293+2 -> 74 | H21: =F21/G21 -> 0.71621622 | I21: ='Unit Totals'!H293 -> 0
A22: 823 | B22: Ursa | D22: ='Unit Totals'!D309 -> 0 | E22: ='Unit Totals'!E309 -> 0 | F22: =SUM(D22:E22) -> 0 | G22: ='Unit Totals'!G309+2 -> 17 | H22: =F22/G22 -> 0 | I22: ='Unit Totals'!H309 -> 0
A23: 1197 | B23: Alpha | D23: ='Unit Totals'!D369 -> 12 | E23: ='Unit Totals'!E369 -> 2 | F23: =SUM(D23:E23) -> 14 | G23: ='Unit Totals'!G369+2 -> 35 | H23: =F23/G23 -> 0.4 | I23: ='Unit Totals'!H369 -> 0
A24: 1233 | B24: Green Rock-Colona | D24: ='Unit Totals'!D378 -> 28 | E24: ='Unit Totals'!E378 -> 1 | F24: =SUM(D24:E24) -> 29 | G24: ='Unit Totals'!G378+2 -> 50 | H24: =F24/G24 -> 0.58 | I24: ='Unit Totals'!H378 -> 0
A26: =COUNT(A3:A25) -> 22 | B26: TOTALS | D26: =SUM(D3:D24) -> 213 | E26: =SUM(E3:E24) -> 11 | F26: =SUM(F3:F24) -> 224 | G26: =SUM(G3:G25) -> 867 | H26: =F26/G26 -> 0.25836217 | I26: =SUM(I3:I24) -> 29
B30: Goal Units: | C30: =COUNTIFS(C3:C24,">=8/1/2026",C3:C24,"<=7/31/2027") -> 0

Sheet Dist 16
A1: Unit # | B1: Unit Name | C1: Date Reached Goal | D1: Senior | E1: Junior | F1: Total Members | G1: Goal | H1: % of Goal | I1: PUFL
A3: 2 | B3: Peoria | D3: ='Unit Totals'!D5 -> 22 | E3: ='Unit Totals'!E5 -> 4 | F3: =SUM(D3:E3) -> 26 | G3: ='Unit Totals'!G5+2 -> 55 | H3: =F3/G3 -> 0.47272727 | I3: ='Unit Totals'!H5 -> 8
A4: 8 | B4: Wenona | D4: ='Unit Totals'!D9 -> 1 | E4: ='Unit Totals'!E9 -> 0 | F4: =SUM(D4:E4) -> 1 | G4: ='Unit Totals'!G9+2 -> 31 | H4: =F4/G4 -> 0.032258065 | I4: ='Unit Totals'!H9 -> 1
A5: 9 | B5: Chillicothe | D5: ='Unit Totals'!D10 -> 18 | E5: ='Unit Totals'!E10 -> 0 | F5: =SUM(D5:E5) -> 18 | G5: ='Unit Totals'!G10+2 -> 33 | H5: =F5/G5 -> 0.54545455 | I5: ='Unit Totals'!H10 -> 4
A6: 35 | B6: Glasford | D6: ='Unit Totals'!D26 -> 1 | E6: ='Unit Totals'!E26 -> 0 | F6: =SUM(D6:E6) -> 1 | G6: ='Unit Totals'!G26+2 -> 11 | H6: =F6/G6 -> 0.090909091 | I6: ='Unit Totals'!H26 -> 1
A7: 44 | B7: Pekin | D7: ='Unit Totals'!D30 -> 9 | E7: ='Unit Totals'!E30 -> 0 | F7: =SUM(D7:E7) -> 9 | G7: ='Unit Totals'!G30+2 -> 46 | H7: =F7/G7 -> 0.19565217 | I7: ='Unit Totals'!H30 -> 7
A8: 91 | B8: Wyoming | D8: ='Unit Totals'!D54 -> 33 | E8: ='Unit Totals'!E54 -> 11 | F8: =SUM(D8:E8) -> 44 | G8: ='Unit Totals'!G54+2 -> 102 | H8: =F8/G8 -> 0.43137255 | I8: ='Unit Totals'!H54 -> 0
A9: 100 | B9: Washington | D9: ='Unit Totals'!D58 -> 11 | E9: ='Unit Totals'!E58 -> 0 | F9: =SUM(D9:E9) -> 11 | G9: ='Unit Totals'!G58+2 -> 24 | H9: =F9/G9 -> 0.45833333 | I9: ='Unit Totals'!H58 -> 0
A10: 125 | B10: Princeton | D10: ='Unit Totals'!D68 -> 29 | E10: ='Unit Totals'!E68 -> 1 | F10: =SUM(D10:E10) -> 30 | G10: ='Unit Totals'!G68+2 -> 33 | H10: =F10/G10 -> 0.90909091 | I10: ='Unit Totals'!H68 -> 1
A11: 254 | B11: Magnolia | D11: ='Unit Totals'!D116 -> 25 | E11: ='Unit Totals'!E116 -> 1 | F11: =SUM(D11:E11) -> 26 | G11: ='Unit Totals'!G116+2 -> 31 | H11: =F11/G11 -> 0.83870968 | I11: ='Unit Totals'!H116 -> 4
A12: 318 | B12: Morton | D12: ='Unit Totals'!D142 -> 1 | E12: ='Unit Totals'!E142 -> 0 | F12: =SUM(D12:E12) -> 1 | G12: ='Unit Totals'!G142+2 -> 31 | H12: =F12/G12 -> 0.032258065 | I12: ='Unit Totals'!H142 -> 0
A13: 323 | B13: Henry | D13: ='Unit Totals'!D144 -> 3 | E13: ='Unit Totals'!E144 -> 0 | F13: =SUM(D13:E13) -> 3 | G13: ='Unit Totals'!G144+2 -> 51 | H13: =F13/G13 -> 0.058823529 | I13: ='Unit Totals'!H144 -> 2
A14: 382 | B14: Delavan | D14: ='Unit Totals'!D165 -> 9 | E14: ='Unit Totals'!E165 -> 0 | F14: =SUM(D14:E14) -> 9 | G14: ='Unit Totals'!G165+2 -> 39 | H14: =F14/G14 -> 0.23076923 | I14: ='Unit Totals'!H165 -> 4
A15: 416 | B15: Toulon | D15: ='Unit Totals'!D177 -> 10 | E15: ='Unit Totals'!E177 -> 0 | F15: =SUM(D15:E15) -> 10 | G15: ='Unit Totals'!G177+2 -> 31 | H15: =F15/G15 -> 0.32258065 | I15: ='Unit Totals'!H177 -> 1
A16: 445 | B16: Bradford | D16: ='Unit Totals'!D186 -> 18 | E16: ='Unit Totals'!E186 -> 2 | F16: =SUM(D16:E16) -> 20 | G16: ='Unit Totals'!G186+2 -> 54 | H16: =F16/G16 -> 0.37037037 | I16: ='Unit Totals'!H186 -> 1
A17: 452 | B17: Brimfield | D17: ='Unit Totals'!D190 -> 2 | E17: ='Unit Totals'!E190 -> 0 | F17: =SUM(D17:E17) -> 2 | G17: ='Unit Totals'!G190+2 -> 42 | H17: =F17/G17 -> 0.047619048 | I17: ='Unit Totals'!H190 -> 0
A18: 913 | B18: Armington | D18: ='Unit Totals'!D320 -> 16 | E18: ='Unit Totals'!E320 -> 0 | F18: =SUM(D18:E18) -> 16 | G18: ='Unit Totals'!G320+2 -> 21 | H18: =F18/G18 -> 0.76190476 | I18: ='Unit Totals'!H320 -> 3
A19: 938 | B19: Ladd | D19: ='Unit Totals'!D328 -> 15 | E19: ='Unit Totals'!E328 -> 0 | F19: =SUM(D19:E19) -> 15 | G19: ='Unit Totals'!G328+2 -> 35 | H19: =F19/G19 -> 0.42857143 | I19: ='Unit Totals'!H328 -> 0
A20: 979 | B20: Bartonville | D20: ='Unit Totals'!D334 -> 7 | E20: ='Unit Totals'!E334 -> 0 | F20: =SUM(D20:E20) -> 7 | G20: ='Unit Totals'!G334+2 -> 205 | H20: =F20/G20 -> 0.034146341 | I20: ='Unit Totals'!H334 -> 4
A21: 983 | B21: East Peoria | D21: ='Unit Totals'!D335 -> 4 | E21: ='Unit Totals'!E335 -> 0 | F21: =SUM(D21:E21) -> 4 | G21: ='Unit Totals'!G335+2 -> 11 | H21: =F21/G21 -> 0.36363636 | I21: ='Unit Totals'!H335 -> 1
A22: 1044 | B22: Hennepin | D22: ='Unit Totals'!D345 -> 1 | E22: ='Unit Totals'!E345 -> 0 | F22: =SUM(D22:E22) -> 1 | G22: ='Unit Totals'!G345+2 -> 18 | H22: =F22/G22 -> 0.055555556 | I22: ='Unit Totals'!H345 -> 1
A23: 1078 | B23: Dunlap | D23: ='Unit Totals'!D348 -> 1 | E23: ='Unit Totals'!E348 -> 0 | F23: =SUM(D23:E23) -> 1 | G23: ='Unit Totals'!G348+2 -> 33 | H23: =F23/G23 -> 0.03030303 | I23: ='Unit Totals'!H348 -> 0
A24: 1236 | B24: Tremont | D24: ='Unit Totals'!D379 -> 1 | E24: ='Unit Totals'!E379 -> 0 | F24: =SUM(D24:E24) -> 1 | G24: ='Unit Totals'!G379+2 -> 20 | H24: =F24/G24 -> 0.05 | I24: ='Unit Totals'!H379 -> 0
A25: 1242 | B25: McNabb | D25: ='Unit Totals'!D381 -> 6 | E25: ='Unit Totals'!E381 -> 1 | F25: =SUM(D25:E25) -> 7 | G25: ='Unit Totals'!G381+2 -> 14 | H25: =F25/G25 -> 0.5 | I25: ='Unit Totals'!H381 -> 0
A26: 1276 | B26: Deer Creek | C26: 44855 | D26: ='Unit Totals'!D385 -> 54 | E26: ='Unit Totals'!E385 -> 5 | F26: =SUM(D26:E26) -> 59 | G26: ='Unit Totals'!G385+2 -> 56 | H26: =F26/G26 -> 1.0535714 | I26: ='Unit Totals'!H385 -> 5
A28: =COUNT(A3:A27) -> 24 | B28: TOTALS | D28: =SUM(D3:D26) -> 297 | E28: =SUM(E3:E26) -> 25 | F28: =SUM(F3:F26) -> 322 | G28: =SUM(G3:G27) -> 1027 | H28: =F28/G28 -> 0.31353457 | I28: =SUM(I3:I27) -> 48
B32: Goal Units: | C32: =COUNTIFS(C3:C26,">=8/1/2026",C3:C26,"<=7/31/2027") -> 1

Sheet Dist 17
A1: Unit # | B1: Unit Name | C1: Date Reached Goal | D1: Senior | E1: Junior | F1: Total Members | G1: Goal | H1: % of Goal | I1: PUFL
A3: 79 | B3: LeRoy | D3: ='Unit Totals'!D45 -> 33 | E3: ='Unit Totals'!E45 -> 2 | F3: =SUM(D3:E3) -> 35 | G3: ='Unit Totals'!G45+2 -> 55 | H3: =F3/G3 -> 0.63636364 | I3: ='Unit Totals'!H45 -> 2
A4: 89 | B4: Metamora | D4: ='Unit Totals'!D52 -> 2 | E4: ='Unit Totals'!E52 -> 0 | F4: =SUM(D4:E4) -> 2 | G4: ='Unit Totals'!G52+2 -> 41 | H4: =F4/G4 -> 0.048780488 | I4: ='Unit Totals'!H52 -> 2
A5: 122 | B5: Cullom | D5: ='Unit Totals'!D67 -> 21 | E5: ='Unit Totals'!E67 -> 2 | F5: =SUM(D5:E5) -> 23 | G5: ='Unit Totals'!G67+2 -> 100 | H5: =F5/G5 -> 0.23 | I5: ='Unit Totals'!H67 -> 7
A6: 150 | B6: Paxton | D6: ='Unit Totals'!D81 -> 5 | E6: ='Unit Totals'!E81 -> 0 | F6: =SUM(D6:E6) -> 5 | G6: ='Unit Totals'!G81+2 -> 23 | H6: =F6/G6 -> 0.2173913 | I6: ='Unit Totals'!H81 -> 5
A7: 174 | B7: Forrest | D7: ='Unit Totals'!D87 -> 6 | E7: ='Unit Totals'!E87 -> 0 | F7: =SUM(D7:E7) -> 6 | G7: ='Unit Totals'!G87+2 -> 36 | H7: =F7/G7 -> 0.16666667 | I7: ='Unit Totals'!H87 -> 6
A8: 244 | B8: Sibley | D8: ='Unit Totals'!D111 -> 0 | E8: ='Unit Totals'!E111 -> 0 | F8: =SUM(D8:E8) -> 0 | G8: ='Unit Totals'!G111+2 -> 17 | H8: =F8/G8 -> 0 | I8: ='Unit Totals'!H111 -> 0
A9: 263 | B9: Lincoln | D9: ='Unit Totals'!D122 -> 50 | E9: ='Unit Totals'!E122 -> 0 | F9: =SUM(D9:E9) -> 50 | G9: ='Unit Totals'!G122+2 -> 81 | H9: =F9/G9 -> 0.61728395 | I9: ='Unit Totals'!H122 -> 9
A10: 341 | B10: Atlanta | D10: ='Unit Totals'!D151 -> 0 | E10: ='Unit Totals'!E151 -> 0 | F10: =SUM(D10:E10) -> 0 | G10: ='Unit Totals'!G151+2 -> 19 | H10: =F10/G10 -> 0 | I10: ='Unit Totals'!H151 -> 0
A11: 427 | B11: Saybrook | D11: ='Unit Totals'!D180 -> 4 | E11: ='Unit Totals'!E180 -> 0 | F11: =SUM(D11:E11) -> 4 | G11: ='Unit Totals'!G180+2 -> 36 | H11: =F11/G11 -> 0.11111111 | I11: ='Unit Totals'!H180 -> 2
A12: 447 | B12: Mount Pulaski | D12: ='Unit Totals'!D188 -> 3 | E12: ='Unit Totals'!E188 -> 0 | F12: =SUM(D12:E12) -> 3 | G12: ='Unit Totals'!G188+2 -> 28 | H12: =F12/G12 -> 0.10714286 | I12: ='Unit Totals'!H188 -> 1
A13: 451 | B13: Emington | D13: ='Unit Totals'!D189 -> 17 | E13: ='Unit Totals'!E189 -> 0 | F13: =SUM(D13:E13) -> 17 | G13: ='Unit Totals'!G189+2 -> 19 | H13: =F13/G13 -> 0.89473684 | I13: ='Unit Totals'!H189 -> 0
A14: 454 | B14: Benson | D14: ='Unit Totals'!D192 -> 2 | E14: ='Unit Totals'!E192 -> 0 | F14: =SUM(D14:E14) -> 2 | G14: ='Unit Totals'!G192+2 -> 22 | H14: =F14/G14 -> 0.090909091 | I14: ='Unit Totals'!H192 -> 0
A15: 456 | B15: Flanagan | D15: ='Unit Totals'!D193 -> 26 | E15: ='Unit Totals'!E193 -> 0 | F15: =SUM(D15:E15) -> 26 | G15: ='Unit Totals'!G193+2 -> 54 | H15: =F15/G15 -> 0.48148148 | I15: ='Unit Totals'!H193 -> 0
A16: 466 | B16: Eureka | D16: ='Unit Totals'!D198 -> 7 | E16: ='Unit Totals'!E198 -> 0 | F16: =SUM(D16:E16) -> 7 | G16: ='Unit Totals'!G198+2 -> 23 | H16: =F16/G16 -> 0.30434783 | I16: ='Unit Totals'!H198 -> 6
A17: 506 | B17: Emden | D17: ='Unit Totals'!D209 -> 4 | E17: ='Unit Totals'!E209 -> 0 | F17: =SUM(D17:E17) -> 4 | G17: ='Unit Totals'!G209+2 -> 83 | H17: =F17/G17 -> 0.048192771 | I17: ='Unit Totals'!H209 -> 0
A18: 531 | B18: Saunemin | D18: ='Unit Totals'!D215 -> 3 | E18: ='Unit Totals'!E215 -> 0 | F18: =SUM(D18:E18) -> 3 | G18: ='Unit Totals'!G215+2 -> 38 | H18: =F18/G18 -> 0.078947368 | I18: ='Unit Totals'!H215 -> 1
A19: 568 | B19: Gibson City | D19: ='Unit Totals'!D227 -> 3 | E19: ='Unit Totals'!E227 -> 0 | F19: =SUM(D19:E19) -> 3 | G19: ='Unit Totals'!G227+2 -> 39 | H19: =F19/G19 -> 0.076923077 | I19: ='Unit Totals'!H227 -> 1
A20: 573 | B20: McLean | D20: ='Unit Totals'!D230 -> 1 | E20: ='Unit Totals'!E230 -> 0 | F20: =SUM(D20:E20) -> 1 | G20: ='Unit Totals'!G230+2 -> 27 | H20: =F20/G20 -> 0.037037037 | I20: ='Unit Totals'!H230 -> 0
A21: 588 | B21: Piper City | D21: ='Unit Totals'!D236 -> 0 | E21: ='Unit Totals'!E236 -> 0 | F21: =SUM(D21:E21) -> 0 | G21: ='Unit Totals'!G236+2 -> 23 | H21: =F21/G21 -> 0 | I21: ='Unit Totals'!H236 -> 0
A22: 613 | B22: Chatsworth | D22: ='Unit Totals'!D241 -> 21 | E22: ='Unit Totals'!E241 -> 0 | F22: =SUM(D22:E22) -> 21 | G22: ='Unit Totals'!G241+2 -> 72 | H22: =F22/G22 -> 0.29166667 | I22: ='Unit Totals'!H241 -> 9
A23: 617 | B23: Arrowsmith | D23: ='Unit Totals'!D244 -> 1 | E23: ='Unit Totals'!E244 -> 0 | F23: =SUM(D23:E23) -> 1 | G23: ='Unit Totals'!G244+2 -> 34 | H23: =F23/G23 -> 0.029411765 | I23: ='Unit Totals'!H244 -> 1
A24: 624 | B24: Heyworth | D24: ='Unit Totals'!D248 -> 3 | E24: ='Unit Totals'!E248 -> 0 | F24: =SUM(D24:E24) -> 3 | G24: ='Unit Totals'!G248+2 -> 49 | H24: =F24/G24 -> 0.06122449 | I24: ='Unit Totals'!H248 -> 2
A25: 635 | B25: Normal | D25: ='Unit Totals'!D253 -> 4 | E25: ='Unit Totals'!E253 -> 0 | F25: =SUM(D25:E25) -> 4 | G25: ='Unit Totals'!G253+2 -> 26 | H25: =F25/G25 -> 0.15384615 | I25: ='Unit Totals'!H253 -> 2
A26: 641 | B26: Roberts | D26: ='Unit Totals'!D255 -> 2 | E26: ='Unit Totals'!E255 -> 0 | F26: =SUM(D26:E26) -> 2 | G26: ='Unit Totals'!G255+2 -> 30 | H26: =F26/G26 -> 0.066666667 | I26: ='Unit Totals'!H255 -> 2
A27: 661 | B27: Washburn | D27: ='Unit Totals'!D263 -> 8 | E27: ='Unit Totals'!E263 -> 0 | F27: =SUM(D27:E27) -> 8 | G27: ='Unit Totals'!G263+2 -> 68 | H27: =F27/G27 -> 0.11764706 | I27: ='Unit Totals'!H263 -> 7
A28: 715 | B28: New Holland | D28: ='Unit Totals'!D284 -> 0 | E28: ='Unit Totals'!E284 -> 0 | F28: =SUM(D28:E28) -> 0 | G28: ='Unit Totals'!G284+2 -> 14 | H28: =F28/G28 -> 0 | I28: ='Unit Totals'!H284 -> 0
A29: 737 | B29: Kempton | D29: ='Unit Totals'!D289 -> 0 | E29: ='Unit Totals'!E289 -> 0 | F29: =SUM(D29:E29) -> 0 | G29: ='Unit Totals'!G289+2 -> 13 | H29: =F29/G29 -> 0 | I29: ='Unit Totals'!H289 -> 0
A30: 752 | B30: Cornell | D30: ='Unit Totals'!D294 -> 0 | E30: ='Unit Totals'!E294 -> 0 | F30: =SUM(D30:E30) -> 0 | G30: ='Unit Totals'!G294+2 -> 23 | H30: =F30/G30 -> 0 | I30: ='Unit Totals'!H294 -> 0
A31: 931 | B31: Towanda | D31: ='Unit Totals'!D324 -> 0 | E31: ='Unit Totals'!E324 -> 0 | F31: =SUM(D31:E31) -> 0 | G31: ='Unit Totals'!G324+2 -> 21 | H31: =F31/G31 -> 0 | I31: ='Unit Totals'!H324 -> 0
A32: 1115 | B32: Spring Bay | D32: ='Unit Totals'!D353 -> 20 | E32: ='Unit Totals'!E353 -> 0 | F32: =SUM(D32:E32) -> 20 | G32: ='Unit Totals'!G353+2 -> 51 | H32: =F32/G32 -> 0.39215686 | I32: ='Unit Totals'!H353 -> 2
A33: 1217 | B33: Long Point | D33: ='Unit Totals'!D374 -> 33 | E33: ='Unit Totals'!E374 -> 1 | F33: =SUM(D33:E33) -> 34 | G33: ='Unit Totals'!G374+2 -> 62 | H33: =F33/G33 -> 0.5483871 | I33: ='Unit Totals'!H374 -> 1
