Workbook

Sheet Unit Objectives
A1: UNIT NUMERIC OBJECTIVES
C3: Unit | D3: City | E3: Objective | F3: Junior | G3: Senior | H3: Total | I3: Percent
C6: 2910 | D6: Bloomington | E6: 599 | F6: 0 | G6: 289 | H6: 289 | I6: 0.48247078
C7: Total | E7: 599 | F7: 0 | G7: 289 | H7: 289 | I7: 0.48247078
C8: Total | E8: 599 | F8: 0 | G8: 289 | H8: 289 | I8: 0.48247078
A10: 1
B11: 2
C12: 135 | D12: Lombard | E12: 10 | F12: 0 | G12: 0 | H12: 0 | I12: 0
C13: 923 | D13: Chicago | E13: 17 | F13: 0 | G13: 3 | H13: 3 | I13: 0.17647059
C14: 973 | D14: Chicago | E14: 16 | F14: 0 | G14: 3 | H14: 3 | I14: 0.1875
C15: 1052 | D15: Chicago | E15: 16 | F15: 0 | G15: 0 | H15: 0 | I15: 0
C16: Total | E16: 59 | F16: 0 | G16: 6 | H16: 6 | I16: 0.10169492
B17: 3
C18: 87 | D18: Chicago | E18: 24 | F18: 0 | G18: 13 | H18: 13 | I18: 0.54166667
C19: 388 | D19: Chicago | E19: 24 | F19: 0 | G19: 1 | H19: 1 | I19: 0.041666667
C20: 915 | D20: Calumet City | E20: 17 | F20: 2 | G20: 8 | H20: 10 | I20: 0.58823529
C21: 2017 | D21: Chicago | E21: 40 | F21: 0 | G21: 7 | H21: 7 | I21: 0.175
C22: Total | E22: 105 | F22: 2 | G22: 29 | H22: 31 | I22: 0.2952381
B23: 4
C24: 207 | D24: Palos Heights | E24: 12 | F24: 0 | G24: 9 | H24: 9 | I24: 0.75
C25: 231 | D25: Chicago | E25: 35 | F25: 0 | G25: 2 | H25: 2 | I25: 0.057142857
C26: 271 | D26: Chicago | E26: 28 | F26: 0 | G26: 1 | H26: 1 | I26: 0.035714286
C27: 714 | D27: Chicago | E27: 20 | F27: 0 | G27: 3 | H27: 3 | I27: 0.15
C28: 735 | D28: Summit | E28: 37 | F28: 3 | G28: 22 | H28: 25 | I28: 0.67567568
C29: 986 | D29: Chicago | E29: 42 | F29: 3 | G29: 18 | H29: 21 | I29: 0.5
C30: 1109 | D30: Chicago | E30: 15 | F30: 2 | G30: 9 | H30: 11 | I30: 0.73333333
C31: Total | E31: 189 | F31: 8 | G31: 64 | H31: 72 | I31: 0.38095238
B32: 5
C33: 96 | D33: Cicero | E33: 58 | F33: 0 | G33: 1 | H33: 1 | I33: 0.017241379
C34: 256 | D34: Berwyn | E34: 53 | F34: 0 | G34: 5 | H34: 5 | I34: 0.094339623
C35: 623 | D35: Chicago | E35: 13 | F35: 0 | G35: 0 | H35: 0 | I35: 0
C36: 626 | D36: Hillside | E36: 18 | F36: 0 | G36: 3 | H36: 3 | I36: 0.16666667
C37: 687 | D37: Stickney | E37: 47 | F37: 0 | G37: 1 | H37: 1 | I37: 0.021276596
C38: 699 | D38: Lyons | E38: 18 | F38: 0 | G38: 0 | H38: 0 | I38: 0
C39: 838 | D39: Maywood | E39: 13 | F39: 0 | G39: 2 | H39: 2 | I39: 0.15384615
C40: 1016 | D40: Berkeley | E40: 28 | F40: 0 | G40: 1 | H40: 1 | I40: 0.035714286
C41: 1941 | D41: La Grange | E41: 45 | F41: 0 | G41: 15 | H41: 15 | I41: 0.33333333
C42: Total | E42: 293 | F42: 0 | G42: 28 | H42: 28 | I42: 0.09556314
B43: 7
C44: 134 | D44: Morton Grove | E44: 86 | F44: 0 | G44: 27 | H44: 27 | I44: 0.31395349
C45: 166 | D45: Glenview | E45: 21 | F45: 0 | G45: 2 | H45: 2 | I45: 0.095238095
C46: 791 | D46: Northbrook | E46: 50 | F46: 0 | G46: 9 | H46: 9 | I46: 0.18
C47: Total | E47: 157 | F47: 0 | G47: 38 | H47: 38 | I47: 0.24203822
B48: 8
C49: 330 | D49: Calumet City | E49: 89 | F49: 0 | G49: 8 | H49: 8 | I49: 0.08988764
C50: 398 | D50: Hazel Crest | E50: 15 | F50: 1 | G50: 2 | H50: 3 | I50: 0.2
C51: 474 | D51: Matteson | E51: 21 | F51: 0 | G51: 2 | H51: 2 | I51: 0.095238095
C52: 615 | D52: Tinley Park | E52: 50 | F52: 0 | G52: 25 | H52: 25 | I52: 0.5
C53: 691 | D53: Midlothian | E53: 43 | F53: 0 | G53: 14 | H53: 14 | I53: 0.3255814
C54: 697 | D54: Lansing | E54: 87 | F54: 3 | G54: 35 | H54: 38 | I54: 0.43678161
C55: 854 | D55: Evergreen Park | E55: 92 | F55: 7 | G55: 30 | H55: 37 | I55: 0.40217391
C56: 991 | D56: Worth | E56: 117 | F56: 0 | G56: 14 | H56: 14 | I56: 0.11965812
C57: 1070 | D57: Thornton | E57: 43 | F57: 0 | G57: 5 | H57: 5 | I57: 0.11627907
C58: 1160 | D58: Chicago Ridge | E58: 32 | F58: 0 | G58: 17 | H58: 17 | I58: 0.53125
C59: 1198 | D59: Park Forest | E59: 23 | F59: 0 | G59: 2 | H59: 2 | I59: 0.086956522
C60: Total | E60: 612 | F60: 11 | G60: 154 | H60: 165 | I60: 0.26960784
B61: 9
C62: 36 | D62: Des Plaines | E62: 40 | F62: 1 | G62: 14 | H62: 15 | I62: 0.375
C63: 208 | D63: Arlington Hts | E63: 123 | F63: 7 | G63: 40 | H63: 47 | I63: 0.38211382
C64: 690 | D64: Palatine | E64: 125 | F64: 7 | G64: 65 | H64: 72 | I64: 0.576
C65: 806 | D65: Park Ridge | E65: 33 | F65: 3 | G65: 27 | H65: 30 | I65: 0.90909091
C66: 888 | D66: Northlake | E66: 72 | F66: 11 | G66: 11 | H66: 22 | I66: 0.30555556
C67: 974 | D67: Franklin Park | E67: 133 | F67: 1 | G67: 20 | H67: 21 | I67: 0.15789474
C68: 1983 | D68: Schaumburg | E68: 10 | F68: 0 | G68: 0 | H68: 0 | I68: 0
C69: Total | E69: 536 | F69: 30 | G69: 177 | H69: 207 | I69: 0.38619403
C70: Total | E70: 1951 | F70: 51 | G70: 496 | H70: 547 | I70: 0.28036904
A72: 2
B73: 10
C74: 145 | D74: Highland Park | E74: 18 | F74: 0 | G74: 0 | H74: 0 | I74: 0
C75: 264 | D75: Lake Forest | E75: 10 | F75: 0 | G75: 3 | H75: 3 | I75: 0.3
C76: 281 | D76: Waukegan | E76: 39 | F76: 2 | G76: 10 | H76: 12 | I76: 0.30769231
C77: 329 | D77: Libertyville | E77: 48 | F77: 0 | G77: 3 | H77: 3 | I77: 0.0625
C78: 703 | D78: Fox Lake | E78: 113 | F78: 0 | G78: 14 | H78: 14 | I78: 0.12389381
C79: 738 | D79: Deerfield | E79: 11 | F79: 0 | G79: 0 | H79: 0 | I79: 0
C80: 748 | D80: Antioch | E80: 11 | F80: 0 | G80: 1 | H80: 1 | I80: 0.090909091
C81: 771 | D81: Gurnee | E81: 87 | F81: 0 | G81: 43 | H81: 43 | I81: 0.49425287
C82: 865 | D82: Zion | E82: 19 | F82: 0 | G82: 0 | H82: 0 | I82: 0
C83: 867 | D83: Mundelein | E83: 33 | F83: 7 | G83: 7 | H83: 14 | I83: 0.42424242
C84: 911 | D84: Wauconda | E84: 106 | F84: 5 | G84: 46 | H84: 51 | I84: 0.48113208
C85: 964 | D85: Lake Zurich | E85: 28 | F85: 0 | G85: 4 | H85: 4 | I85: 0.14285714
C86: 1170 | D86: Round Lake | E86: 27 | F86: 0 | G86: 1 | H86: 1 | I86: 0.037037037
C87: Total | E87: 550 | F87: 14 | G87: 132 | H87: 146 | I87: 0.26545455
B88: 11
C89: 5 | D89: Joliet | E89: 18 | F89: 0 | G89: 12 | H89: 12 | I89: 0.66666667
C90: 13 | D90: Plainfield | E90: 136 | F90: 0 | G90: 41 | H90: 41 | I90: 0.30147059
C91: 18 | D91: Lockport | E91: 155 | F91: 3 | G91: 91 | H91: 94 | I91: 0.60645161
C92: 43 | D92: Naperville | E92: 20 | F92: 3 | G92: 15 | H92: 18 | I92: 0.9
C93: 52 | D93: Romeoville | E93: 27 | F93: 2 | G93: 13 | H93: 15 | I93: 0.55555556
C94: 57 | D94: Elgin | E94: 120 | F94: 0 | G94: 7 | H94: 7 | I94: 0.058333333
C95: 75 | D95: Geneva | E95: 10 | F95: 0 | G95: 5 | H95: 5 | I95: 0.5
C96: 76 | D96: Wheaton | E96: 61 | F96: 0 | G96: 44 | H96: 44 | I96: 0.72131148
C97: 80 | D97: Downers Grove | E97: 51 | F97: 0 | G97: 24 | H97: 24 | I97: 0.47058824
C98: 84 | D98: Aurora | E98: 23 | F98: 0 | G98: 0 | H98: 0 | I98: 0
C99: 187 | D99: Elmhurst | E99: 117 | F99: 9 | G99: 54 | H99: 63 | I99: 0.53846154
C100: 191 | D100: Wilmington | E100: 17 | F100: 0 | G100: 0 | H100: 0 | I100: 0
... C122: 1977 | D122: New Lenox | E122: 80 | F122: 2 | G122: 29 | H122: 31 | I122: 0.3875
C123: Total | E123: 1803 | F123: 25 | G123: 499 | H123: 524 | I123: 0.29062673
B124: 12
C125: 33 | D125: Ottawa | E125: 193 | F125: 0 | G125: 79 | H125: 79 | I125: 0.40932642
C126: 66 | D126: DeKalb | E126: 56 | F126: 1 | G126: 7 | H126: 8 | I126: 0.14285714
...

Sheet Unit Totals
C2: Paid 2027 Members
A3: Unit Number | B3: Dist | C3: Unit Name | D3: Senior | E3: Junior | F3: Total | G3: 2026 Final | H3: PUFL
A4: IL UNIT 0001 | B4: 15 | C4: Bishop (Lewiston) | D4: ='Unit Objectives'!G182 -> 3 | E4: ='Unit Objectives'!F182 -> 0 | F4: =SUM(D4:E4) -> 3 | G4: 21 | H4: 0
A5: IL UNIT 0002 | B5: 16 | C5: Peoria | D5: ='Unit Objectives'!G206 -> 22 | E5: ='Unit Objectives'!F206 -> 4 | F5: =SUM(D5:E5) -> 26 | G5: 53 | H5: 8
A6: IL UNIT 0004 | B6: 15 | C6: Schuyler (Rushville) | D6: ='Unit Objectives'!G183 -> 1 | E6: ='Unit Objectives'!F183 -> 0 | F6: =SUM(D6:E6) -> 1 | G6: 36 | H6: 1
A7: IL UNIT 0005 | B7: 11 | C7: Harwood (Joliet) | D7: ='Unit Objectives'!G89 -> 12 | E7: ='Unit Objectives'!F89 -> 0 | F7: =SUM(D7:E7) -> 12 | G7: 16 | H7: 2
A8: IL UNIT 0006 | B8: 14 | C8: McDonough County (Macomb) | D8: ='Unit Objectives'!G170 -> 26 | E8: ='Unit Objectives'!F170 -> 0 | F8: =SUM(D8:E8) -> 26 | G8: 58 | H8: 7
A9: IL UNIT 0008 | B9: 16 | C9: Wenona | D9: ='Unit Objectives'!G207 -> 1 | E9: ='Unit Objectives'!F207 -> 0 | F9: =SUM(D9:E9) -> 1 | G9: 29 | H9: 1
A10: IL UNIT 0009 | B10: 16 | C10: Chillicothe | D10: ='Unit Objectives'!G208 -> 18 | E10: ='Unit Objectives'!F208 -> 0 | F10: =SUM(D10:E10) -> 18 | G10: 31 | H10: 4
A11: IL UNIT 0012 | B11: 13 | C11: Dixon | D11: ='Unit Objectives'!G151 -> 15 | E11: ='Unit Objectives'!F151 -> 0 | F11: =SUM(D11:E11) -> 15 | G11: 24 | H11: 3
A12: IL UNIT 0013 | B12: 11 | C12: Marne (Plainfield) | D12: ='Unit Objectives'!G90 -> 41 | E12: ='Unit Objectives'!F90 -> 0 | F12: =SUM(D12:E12) -> 41 | G12: 134 | H12: 2
A13: IL UNIT 0014 | B13: 24 | C13: Clay County (Flora) | D13: ='Unit Objectives'!G427 -> 5 | E13: ='Unit Objectives'!F427 -> 0 | F13: =SUM(D13:E13) -> 5 | G13: 54 | H13: 3
A14: IL UNIT 0016 | B14: 15 | C14: Orlando C Crowther (Canton) | D14: ='Unit Objectives'!G184 -> 4 | E14: ='Unit Objectives'!F184 -> 0 | F14: =SUM(D14:E14) -> 4 | G14: 45 | H14: 4
A15: IL UNIT 0017 | B15: 15 | C15: Harold C Hoopes (Ipava) | D15: ='Unit Objectives'!G185 -> 1 | E15: ='Unit Objectives'!F185 -> 0 | F15: =SUM(D15:E15) -> 1 | G15: 46 | H15: 0
A16: IL UNIT 0018 | B16: 11 | C16: John Olson (Lockport) | D16: ='Unit Objectives'!G91 -> 91 | E16: ='Unit Objectives'!F91 -> 3 | F16: =SUM(D16:E16) -> 94 | G16: 153 | H16: 7
A17: IL UNIT 0020 | B17: 23 | C17: Jasper (Newton) | D17: ='Unit Objectives'!G402 -> 4 | E17: ='Unit Objectives'!F402 -> 0 | F17: =SUM(D17:E17) -> 4 | G17: 19 | H17: 3
A18: IL UNIT 0023 | B18: 18 | C18: Watseka | D18: ='Unit Objectives'!G291 -> 8 | E18: ='Unit Objectives'!F291 -> 0 | F18: =SUM(D18:E18) -> 8 | G18: 11 | H18: 8
A19: IL UNIT 0024 | B19: 19 | C19: Champaign | D19: ='Unit Objectives'!G320 -> 27 | E19: ='Unit Objectives'!F320 -> 5 | F19: =SUM(D19:E19) -> 32 | G19: 91 | H19: 1
A20: IL UNIT 0026 | B20: 15 | C20: Carroll Rankin (Vermont) | D20: ='Unit Objectives'!G186 -> 2 | E20: ='Unit Objectives'!F186 -> 0 | F20: =SUM(D20:E20) -> 2 | G20: 25 | H20: 2
A21: IL UNIT 0027 | B21: 19 | C21: Douglas County (Tuscola) | D21: ='Unit Objectives'!G321 -> 0 | E21: ='Unit Objectives'!F321 -> 0 | F21: =SUM(D21:E21) -> 0 | G21: 9 | H21: 0
A22: IL UNIT 0028 | B22: 23 | C22: Lawrence | D22: ='Unit Objectives'!G403 -> 13 | E22: ='Unit Objectives'!F403 -> 0 | F22: =SUM(D22:E22) -> 13 | G22: 92 | H22: 1
A23: IL UNIT 0030 | B23: 23 | C23: Richland (Olney) | D23: ='Unit Objectives'!G404 -> 7 | E23: ='Unit Objectives'!F404 -> 0 | F23: =SUM(D23:E23) -> 7 | G23: 46 | H23: 6
A24: IL UNIT 0032 | B24: 21 | C24: Springfield | D24: ='Unit Objectives'!G354 -> 71 | E24: ='Unit Objectives'!F354 -> 4 | F24: =SUM(D24:E24) -> 75 | G24: 120 | H24: 18
A25: IL UNIT 0033 | B25: 12 | C25: Ottawa | D25: ='Unit Objectives'!G125 -> 79 | E25: ='Unit Objectives'!F125 -> 0 | F25: =SUM(D25:E25) -> 79 | G25: 191 | H25: 5
A26: IL UNIT 0035 | B26: 16 | C26: Charles D Looger (Glasford) | D26: ='Unit Objectives'!G209 -> 1 | E26: ='Unit Objectives'!F209 -> 0 | F26: =SUM(D26:E26) -> 1 | G26: 9 | H26: 1
A27: IL UNIT 0036 | B27: 9 | C27: Des Plaines | D27: ='Unit Objectives'!G62 -> 14 | E27: ='Unit Objectives'!F62 -> 1 | F27: =SUM(D27:E27) -> 15 | G27: 38 | H27: 1
A28: IL UNIT 0037 | B28: 15 | C28: Quincy | D28: ='Unit Objectives'!G187 -> 1 | E28: ='Unit Objectives'!F187 -> 0 | F28: =SUM(D28:E28) -> 1 | G28: 27 | H28: 1
A29: IL UNIT 0043 | B29: 11 | C29: Naperville | D29: ='Unit Objectives'!G92 -> 15 | E29: ='Unit Objectives'!F92 -> 3 | F29: =SUM(D29:E29) -> 18 | G29: 18 | H29: 0
A30: IL UNIT 0044 | B30: 16 | C30: William Schaefer (Pekin) | D30: ='Unit Objectives'!G210 -> 9 | E30: ='Unit Objectives'!F210 -> 0 | F30: =SUM(D30:E30) -> 9 | G30: 44 | H30: 7
A31: IL UNIT 0045 | B31: 15 | C31: Hagberg-Hamlin (Galva) | D31: ='Unit Objectives'!G188 -> 1 | E31: ='Unit Objectives'!F188 -> 0 | F31: =SUM(D31:E31) -> 1 | G31: 35 | H31: 0
A32: IL UNIT 0051 | B32: 18 | C32: Martin F Vutrick (Westville) | D32: ='Unit Objectives'!G292 -> 17 | E32: ='Unit Objectives'!F292 -> 1 | F32: =SUM(D32:E32) -> 18 | G32: 59 | H32: 5
A33: IL UNIT 0052 | B33: 11 | C33: Romeoville | D33: ='Unit Objectives'!G93 -> 13 | E33: ='Unit Objectives'!F93 -> 2 | F33: =SUM(D33:E33) -> 15 | G33: 25 | H33: 0
A34: IL UNIT 0055 | B34: 19 | C34: Joe Williams (Farmer City) | D34: ='Unit Objectives'!G322 -> 14 | E34: ='Unit Objectives'!F322 -> 0 | F34: =SUM(D34:E34) -> 14 | G34: 129 | H34: 13
A35: IL UNIT 0057 | B35: 11 | C35: Elgin | D35: ='Unit Objectives'!G94 -> 7 | E35: ='Unit Objectives'!F94 -> 0 | F35: =SUM(D35:E35) -> 7 | G35: 118 | H35: 0
A36: IL UNIT 0066 | B36: 12 | C36: De Kalb | D36: ='Unit Objectives'!G126 -> 7 | E36: ='Unit Objectives'!F126 -> 1 | F36: =SUM(D36:E36) -> 8 | G36: 54 | H36: 0
A37: IL UNIT 0068 | B37: 19 | C37: Sullivan | D37: ='Unit Objectives'!G323 -> 52 | E37: ='Unit Objectives'!F323 -> 4 | F37: =SUM(D37:E37) -> 56 | G37: 82 | H37: 6
A38: IL UNIT 0070 | B38: 20 | C38: White Hall | D38: ='Unit Objectives'!G232 -> 1 | E38: ='Unit Objectives'!F232 -> 0 | F38: =SUM(D38:E38) -> 1 | G38: 29 | H38: 1
A39: IL UNIT 0071 | B39: 19 | C39: Urbana | D39: ='Unit Objectives'!G324 -> 91 | E39: ='Unit Objectives'!F324 -> 2 | F39: =SUM(D39:E39) -> 93 | G39: 180 | H39: 32
A40: IL UNIT 0072 | B40: 19 | C40: Lancaster-Sdunn (Macon) | D40: ='Unit Objectives'!G325 -> 0 | E40: ='Unit Objectives'!F325 -> 0 | F40: =SUM(D40:E40) -> 0 | G40: 23 | H40: 0
A41: IL UNIT 0073 | B41: 21 | C41: J Ivan Dappert (Taylorville) | D41: ='Unit Objectives'!G355 -> 1 | E41: ='Unit Objectives'!F355 -> 0 | F41: =SUM(D41:E41) -> 1 | G41: 38 | H41: 1
A42: IL UNIT 0075 | B42: 11 | C42: Fox River-Geneva | D42: ='Unit Objectives'!G95 -> 5 | E42: ='Unit Objectives'!F95 -> 0 | F42: =SUM(D42:E42) -> 5 | G42: 8 | H42: 4
A43: IL UNIT 0076 | B43: 11 | C43: Perrottet-Nickerson (Wheaton) | D43: ='Unit Objectives'!G96 -> 44 | E43: ='Unit Objectives'!F96 -> 0 | F43: =SUM(D43:E43) -> 44 | G43: 59 | H43: 44
A44: IL UNIT 0077 | B44: 12 | C44: Boone (Belvidere) | D44: ='Unit Objectives'!G127 -> 104 | E44: ='Unit Objectives'!F127 -> 15 | F44: =SUM(D44:E44) -> 119 | G44: 253 | H44: 3
A45: IL UNIT 0079 | B45: 17 | C45: Ruel Neal (LeRoy) | D45: ='Unit Objectives'!G257 -> 33 | E45: ='Unit Objectives'!F257 -> 2 | F45: =SUM(D45:E45) -> 35 | G45: 53 | H45: 2
A46: IL UNIT 0080 | B46: 11 | C46: Alexander Bradley Burns (Downers Grove) | D46: ='Unit Objectives'!G97 -> 24 | E46: ='Unit Objectives'!F97 -> 0 | F46: =SUM(D46:E46) -> 24 | G46: 49 | H46: 8
A47: IL UNIT 0081 | B47: 19 | C47: Roy Vanderpool (Shelbyville) | D47: ='Unit Objectives'!G326 -> 5 | E47: ='Unit Objectives'!F326 -> 0 | F47: =SUM(D47:E47) -> 5 | G47: 22 | H47: 3
A48: IL UNIT 0083 | B48: 13 | C48: Patrick Fegan (Polo) | D48: ='Unit Objectives'!G152 -> 10 | E48: ='Unit Objectives'!F152 -> 0 | F48: =SUM(D48:E48) -> 10 | G48: 27 | H48: 3
A49: IL UNIT 0084 | B49: 11 | C49: Roosevelt - Aurora | D49: ='Unit Objectives'!G98 -> 0 | E49: ='Unit Objectives'!F98 -> 0 | F49: =SUM(D49:E49) -> 0 | G49: 21 | H49: 0
A50: IL UNIT 0087 | B50: 3 | C50: George L Giles | D50: ='Unit Objectives'!G18 -> 13 | E50: ='Unit Objectives'!F18 -> 0 | F50: =SUM(D50:E50) -> 13 | G50: 22 | H50: 3
A51: IL UNIT 0088 | B51: 19 | C51: Lawrence Riddle (Mattoon) | D51: ='Unit Objectives'!G327 -> 8 | E51: ='Unit Objectives'!F327 -> 0 | F51: =SUM(D51:E51) -> 8 | G51: 106 | H51: 7
A52: IL UNIT 0089 | B52: 17 | C52: Fred Herring (Metamora) | D52: ='Unit Objectives'!G258 -> 2 | E52: ='Unit Objectives'!F258 -> 0 | F52: =SUM(D52:E52) -> 2 | G52: 39 | H52: 2
A53: IL UNIT 0090 | B53: 18 | C53: Clark County (Marshall) | D53: ='Unit Objectives'!G293 -> 25 | E53: ='Unit Objectives'!F293 -> 4 | F53: =SUM(D53:E53) -> 29 | G53: 91 | H53: 6
A54: IL UNIT 0091 | B54: 16 | C54: Wyoming | D54: ='Unit Objectives'!G211 -> 33 | E54: ='Unit Objectives'!F211 -> 11 | F54: =SUM(D54:E54) -> 44 | G54: 100 | H54: 0
A55: IL UNIT 0095 | B55: 23 | C55: Crawford-Hale (Vandalia) | D55: ='Unit Objectives'!G405 -> 5 | E55: ='Unit Objectives'!F405 -> 0 | F55: =SUM(D55:E55) -> 5 | G55: 40 | H55: 3
A56: IL UNIT 0096 | B56: 5 | C56: Cicero | D56: ='Unit Objectives'!G33 -> 1 | E56: ='Unit Objectives'!F33 -> 0 | F56: =SUM(D56:E56) -> 1 | G56: 56 | H56: 1
A57: IL UNIT 0099 | B57: 12 | C57: Sycamore | D57: ='Unit Objectives'!G128 -> 2 | E57: ='Unit Objectives'!F128 -> 0 | F57: =SUM(D57:E57) -> 2 | G57: 11 | H57: 0
A58: IL UNIT 0100 | B58: 16 | C58: Washington | D58: ='Unit Objectives'!G212 -> 11 | E58: ='Unit Objectives'!F212 -> 0 | F58: =SUM(D58:E58) -> 11 | G58: 22 | H58: 0
A59: IL UNIT 0102 | B59: 19 | C59: Lincoln (Deland) | D59: ='Unit Objectives'!G328 -> 5 | E59: ='Unit Objectives'!F328 -> 0 | F59: =SUM(D59:E59) -> 5 | G59: 50 | H59: 2
A60: IL UNIT 0103 | B60: 19 | C60: Crang-Bennett (Clinton) | D60: ='Unit Objectives'!G329 -> 0 | E60: ='Unit Objectives'!F329 -> 0 | F60: =SUM(D60:E60) -> 0 | G60: 37 | H60: 0
A61: IL UNIT 0105 | B61: 19 | C61: Castle Williams (Decatur) | D61: ='Unit Objectives'!G330 -> 17 | E61: ='Unit Objectives'!F330 -> 2 | F61: =SUM(D61:E61) -> 19 | G61: 37 | H61: 3
A62: IL UNIT 0109 | B62: 24 | C62: Indian Creek (Norris City) | D62: ='Unit Objectives'!G428 -> 1 | E62: ='Unit Objectives'!F428 -> 0 | F62: =SUM(D62:E62) -> 1 | G62: 25 | H62: 0
A63: IL UNIT 0110 | B63: 22 | C63: John C Atchison (Nashville) | D63: ='Unit Objectives'!G375 -> 10 | E63: ='Unit Objectives'!F375 -> 0 | F63: =SUM(D63:E63) -> 10 | G63: 50 | H63: 2
A64: IL UNIT 0117 | B64: 19 | C64: Cerro Gordo | D64: ='Unit Objectives'!G331 -> 2 | E64: ='Unit Objectives'!F331 -> 0 | F64: =SUM(D64:E64) -> 2 | G64: 93 | H64: 0
A65: IL UNIT 0120 | B65: 23 | C65: Effingham | D65: ='Unit Objectives'!G406 -> 3 | E65: ='Unit Objectives'!F406 -> 0 | F65: =SUM(D65:E65) -> 3 | G65: 45 | H65: 3
A66: IL UNIT 0121 | B66: 14 | C66: Fallerans (Aledo) | D66: ='Unit Objectives'!G171 -> 23 | E66: ='Unit Objectives'!F171 -> 3 | F66: =SUM(D66:E66) -> 26 | G66: 47 | H66: 0
A67: IL UNIT 0122 | B67: 17 | C67: Skinner-Trost (Cullom) | D67: ='Unit Objectives'!G259 -> 21 | E67: ='Unit Objectives'!F259 -> 2 | F67: =SUM(D67:E67) -> 23 | G67: 98 | H67: 7
A68: IL UNIT 0125 | B68: 16 | C68: Princeton | D68: ='Unit Objectives'!G213 -> 29 | E68: ='Unit Objectives'!F213 -> 1 | F68: =SUM(D68:E68) -> 30 | G68: 31 | H68: 1
A69: IL UNIT 0127 | B69: 25 | C69: Paul Stout (Murphysboro) | D69: ='Unit Objectives'!G442 -> 58 | E69: ='Unit Objectives'!F442 -> 2 | F69: =SUM(D69:E69) -> 60 | G69: 152 | H69: 4
A70: IL UNIT 0128 | B70: 23 | C70: Luther B Easley (Salem) | D70: ='Unit Objectives'!G407 -> 4 | E70: ='Unit Objectives'!F407 -> 0 | F70: =SUM(D70:E70) -> 4 | G70: 29 | H70: 0
A71: IL UNIT 0132 | B71: 23 | C71: David B Reavill (Flat Rock) | D71: ='Unit Objectives'!G408 -> 0 | E71: ='Unit Objectives'!F408 -> 0 | F71: =SUM(D71:E71) -> 0 | G71: 60 | H71: 0
A72: IL UNIT 0134 | B72: 7 | C72: Morton Grove | D72: ='Unit Objectives'!G44 -> 27 | E72: ='Unit Objectives'!F44 -> 0 | F72: =SUM(D72:E72) -> 27 | G72: 84 | H72: 0
A73: IL UNIT 0135 | B73: 2 | C73: Hiram J Slifer | D73: ='Unit Objectives'!G12 -> 0 | E73: ='Unit Objectives'!F12 -> 0 | F73: =SUM(D73:E73) -> 0 | G73: 8 | H73: 0
A74: IL UNIT 0136 | B74: 14 | C74: Marion B Fletcher (Monmouth) | D74: ='Unit Objectives'!G172 -> 44 | E74: ='Unit Objectives'!F172 -> 0 | F74: =SUM(D74:E74) -> 44 | G74: 96 | H74: 1
A75: IL UNIT 0137 | B75: 22 | C75: Fischer-Sollis (O'Fallon) | D75: ='Unit Objectives'!G376 -> 5 | E75: ='Unit Objectives'!F376 -> 0 | F75: =SUM(D75:E75) -> 5 | G75: 10 | H75: 5
A76: IL UNIT 0138 | B76: 20 | C76: Havana | D76: ='Unit Objectives'!G233 -> 9 | E76: ='Unit Objectives'!F233 -> 0 | F76: =SUM(D76:E76) -> 9 | G76: 19 | H76: 0
A77: IL UNIT 0140 | B77: 15 | C77: Farmington | D77: ='Unit Objectives'!G189 -> 1 | E77: ='Unit Objectives'!F189 -> 0 | F77: =SUM(D77:E77) -> 1 | G77: 22 | H77: 1
A78: IL UNIT 0141 | B78: 23 | C78: Jefferson (Mt. Vernon) | D78: ='Unit Objectives'!G409 -> 18 | E78: ='Unit Objectives'!F409 -> 0 | F78: =SUM(D78:E78) -> 18 | G78: 62 | H78: 1
A79: IL UNIT 0145 | B79: 10 | C79: Highland Park | D79: ='Unit Objectives'!G74 -> 0 | E79: ='Unit Objectives'!F74 -> 0 | F79: =SUM(D79:E79) -> 0 | G79: 16 | H79: 0
A80: IL UNIT 0147 | B80: 25 | C80: Williamson (Marion) | D80: ='Unit Objectives'!G443 -> 2 | E80: ='Unit Objectives'!F443 -> 0 | F80: =SUM(D80:E80) -> 2 | G80: 46 | H80: 2
A81: IL UNIT 0150 | B81: 17 | C81: Prairie (Paxton) | D81: ='Unit Objectives'!G260 -> 5 | E81: ='Unit Objectives'!F260 -> 0 | F81: =SUM(D81:E81) -> 5 | G81: 21 | H81: 5
A82: IL UNIT 0152 | B82: 20 | C82: Pittsfield | D82: ='Unit Objectives'!G234 -> 0 | E82: ='Unit Objectives'!F234 -> 0 | F82: =SUM(D82:E82) -> 0 | G82: 37 | H82: 0
A83: IL UNIT 0166 | B83: 7 | C83: Joseph M Sesterhenn | D83: ='Unit Objectives'!G45 -> 2 | E83: ='Unit Objectives'!F45 -> 0 | F83: =SUM(D83:E83) -> 2 | G83: 19 | H83: 0
A84: IL UNIT 0167 | B84: 24 | C84: George Hart (Harrisburg) | D84: ='Unit Objectives'!G429 -> 4 | E84: ='Unit Objectives'!F429 -> 0 | F84: =SUM(D84:E84) -> 4 | G84: 43 | H84: 0
A85: IL UNIT 0168 | B85: 21 | C85: Kerr-Mize (Pana) | D85: ='Unit Objectives'!G356 -> 1 | E85: ='Unit Objectives'!F356 -> 0 | F85: =SUM(D85:E85) -> 1 | G85: 11 | H85: 0
A86: IL UNIT 0169 | B86: 24 | C86: Eldorado | D86: ='Unit Objectives'!G430 -> 0 | E86: ='Unit Objectives'!F430 -> 0 | F86: =SUM(D86:E86) -> 0 | G86: 11 | H86: 0
A87: IL UNIT 0174 | B87: 17 | C87: J A Folwell (Forrest) | D87: ='Unit Objectives'!G261 -> 6 | E87: ='Unit Objectives'!F261 -> 0 | F87: =SUM(D87:E87) -> 6 | G87: 34 | H87: 6
A88: IL UNIT 0176 | B88: 24 | C88: Anthony Wayne (Fairfield) | D88: ='Unit Objectives'!G431 -> 30 | E88: ='Unit Objectives'!F431 -> 0 | F88: =SUM(D88:E88) -> 30 | G88: 71 | H88: 5
A89: IL UNIT 0178 | B89: 25 | C89: Louis Phares (Villa Ridge) | D89: ='Unit Objectives'!G444 -> 5 | E89: ='Unit Objectives'!F444 -> 0 | F89: =SUM(D89:E89) -> 5 | G89: 12 | H89: 0
A90: IL UNIT 0181 | B90: 12 | C90: Brown-Miller, Inc. (Sandwich) | D90: ='Unit Objectives'!G129 -> 23 | E90: ='Unit Objectives'!F129 -> 8 | F90: =SUM(D90:E90) -> 31 | G90: 32 | H90: 1
A91: IL UNIT 0187 | B91: 11 | C91: T H B (Elmhurst) | D91: ='Unit Objectives'!G99 -> 54 | E91: ='Unit Objectives'!F99 -> 9 | F91: =SUM(D91:E91) -> 63 | G91: 115 | H91: 4
A92: IL UNIT 0189 | B92: 14 | C92: James Harvey Scott (Alexis) | D92: ='Unit Objectives'!G173 -> 0 | E92: ='Unit Objectives'!F173 -> 0 | F92: =SUM(D92:E92) -> 0 | G92: 14 | H92: 0
A93: IL UNIT 0191 | B93: 11 | C93: Lester J Smith (Wilmington) | D93: ='Unit Objectives'!G100 -> 0 | E93: ='Unit Objectives'!F100 -> 0 | F93: =SUM(D93:E93) -> 0 | G93: 15 | H93: 0
A94: IL UNIT 0192 | B94: 11 | C94: Kishwaukee (Marengo) | D94: ='Unit Objectives'!G101 -> 2 | E94: ='Unit Objectives'!F101 -> 0 | F94: =SUM(D94:E94) -> 2 | G94: 42 | H94: 1
A95: IL UNIT 0193 | B95: 13 | C95: Fickbohm-Hissem (Galena) | D95: ='Unit Objectives'!G153 -> 15 | E95: ='Unit Objectives'!F153 -> 0 | F95: =SUM(D95:E95) -> 15 | G95: 19 | H95: 0
A96: IL UNIT 0197 | B96: 12 | C96: Eugene J Barloga (Pecatonica) | D96: ='Unit Objectives'!G130 -> 0 | E96: ='Unit Objectives'!F130 -> 0 | F96: =SUM(D96:E96) -> 0 | G96: 37 | H96: 0
A97: IL UNIT 0199 | B97: 22 | C97: Edwardsville | D97: ='Unit Objectives'!G377 -> 29 | E97: ='Unit Objectives'!F377 -> 0 | F97: =SUM(D97:E97) -> 29 | G97: 41 | H97: 6
A98: IL UNIT 0203 | B98: 18 | C98: Dornblaser (Georgetown) | D98: ='Unit Objectives'!G294 -> 2 | E98: ='Unit Objectives'!F294 -> 0 | F98: =SUM(D98:E98) -> 2 | G98: 31 | H98: 2
A99: IL UNIT 0207 | B99: 4 | C99: Chicago Police | D99: ='Unit Objectives'!G24 -> 9 | E99: ='Unit Objectives'!F24 -> 0 | F99: =SUM(D99:E99) -> 9 | G99: 10 | H99: 9
A100: IL UNIT 0208 | B100: 9 | C100: Merle Guild | D100: ='Unit Objectives'!G63 -> 40 | E100: ='Unit Objectives'!F63 -> 7 | F100: =SUM(D100:E100) -> 47 | G100: 121 | H100: 2
A101: IL UNIT 0210 | B101: 18 | C101: Curtis G Redden (Danville) | D101: ='Unit Objectives'!G295 -> 22 | E101: ='Unit Objectives'!F295 -> 1 | F101: =SUM(D101:E101) -> 23 | G101: 59 | H101: 0
...

Sheet Dist 2
A1: Unit # | B1: Unit Name | C1: Date Reached Goal | D1: Senior | E1: Junior | F1: Total Members | G1: Goal | H1: % of Goal | I1: PUFL
A3: 135 | B3: Hiram J Slifer | D3: ='Unit Totals'!D73 -> 0 | E3: ='Unit Totals'!E73 -> 0 | F3: =SUM(D3:E3) -> 0 | G3: ='Unit Totals'!G73+2 -> 10 | H3: =F3/G3 -> 0 | I3: ='Unit Totals'!H73 -> 0
A4: 923 | B4: Franklin D. Roosevelt | D4: ='Unit Totals'!D323 -> 3 | E4: ='Unit Totals'!E323 -> 0 | F4: =SUM(D4:E4) -> 3 | G4: ='Unit Totals'!G323+2 -> 17 | H4: =F4/G4 -> 0.17647059 | I4: ='Unit Totals'!H323 -> 0
A5: 973 | B5: Tattler | D5: ='Unit Totals'!D331 -> 3 | E5: ='Unit Totals'!E331 -> 0 | F5: =SUM(D5:E5) -> 3 | G5: ='Unit Totals'!G331+2 -> 16 | H5: =F5/G5 -> 0.1875 | I5: ='Unit Totals'!H331 -> 0
A6: 1052 | B6: Wayne-Wright | D6: ='Unit Totals'!D346 -> 0 | E6: ='Unit Totals'!E346 -> 0 | F6: =SUM(D6:E6) -> 0 | G6: ='Unit Totals'!G346+2 -> 16 | H6: =F6/G6 -> 0 | I6: ='Unit Totals'!H346 -> 0
A8: =COUNT(A3:A7) -> 4 | B8: TOTALS | D8: =SUM(D3:D6) -> 6 | E8: =SUM(E3:E6) -> 0 | F8: =SUM(F3:F6) -> 6 | G8: =SUM(G3:G6) -> 59 | H8: =F8/G8 -> 0.10169492 | I8: =SUM(I3:I7) -> 0
B11: Goal Units: | C11: =COUNTIFS(C3:C6,">=8/1/2026",C3:C6,"<=7/31/2027") -> 0

Sheet Dist 3
A1: Unit # | B1: Unit Name | C1: Date Reached Goal | D1: Senior | E1: Junior | F1: Total Members | G1: Goal | H1: % of Goal | I1: PUFL
A3: 87 | B3: George L Giles | D3: ='Unit Totals'!D50 -> 13 | E3: ='Unit Totals'!E50 -> 0 | F3: =SUM(D3:E3) -> 13 | G3: ='Unit Totals'!G50+2 -> 24 | H3: =F3/G3 -> 0.54166667 | I3: ='Unit Totals'!H50 -> 3
A4: 388 | B4: South Shore | D4: ='Unit Totals'!D168 -> 1 | E4: ='Unit Totals'!E168 -> 0 | F4: =SUM(D4:E4) -> 1 | G4: ='Unit Totals'!G168+2 -> 24 | H4: =F4/G4 -> 0.041666667 | I4: ='Unit Totals'!H168 -> 0
A5: 915 | B5: Dorie Miller | D5: ='Unit Totals'!D322 -> 8 | E5: ='Unit Totals'!E322 -> 2 | F5: =SUM(D5:E5) -> 10 | G5: ='Unit Totals'!G322+2 -> 17 | H5: =F5/G5 -> 0.58823529 | I5: ='Unit Totals'!H322 -> 0
A6: 2017 | B6: Millenium | D6: ='Unit Totals'!D392 -> 7 | E6: ='Unit Totals'!E392 -> 0 | F6: =SUM(D6:E6) -> 7 | G6: ='Unit Totals'!G392+2 -> 40 | H6: =F6/G6 -> 0.175 | I6: 0
A8: =COUNT(A3:A7) -> 4 | B8: TOTALS | D8: =SUM(D3:D6) -> 29 | E8: =SUM(E3:E6) -> 2 | F8: =SUM(F3:F6) -> 31 | G8: =SUM(G3:G3:G6) -> 105 | H8: =F8/G8 -> 0.2952381 | I8: =SUM(I3:I7) -> 3
B12: Goal Units: | C12: =COUNTIFS(C3:C6,">=8/1/2026",C3:C6,"<=7/31/2027") -> 0

Sheet Dist 4
A1: Unit # | B1: Unit Name | C1: Date Reached Goal | D1: Senior | E1: Junior | F1: Total Members | G1: Goal | H1: % of Goal | I1: PUFL
A3: 207 | B3: Chicago Police | D3: ='Unit Totals'!D99 -> 9 | E3: ='Unit Totals'!E99 -> 0 | F3: =SUM(D3:E3) -> 9 | G3: ='Unit Totals'!G99+2 -> 12 | H3: =F3/G3 -> 0.75 | I3: ='Unit Totals'!H99 -> 9
A4: 231 | B4: William McKinley | D4: ='Unit Totals'!D107 -> 2 | E4: ='Unit Totals'!E107 -> 0 | F4: =SUM(D4:E4) -> 2 | G4: ='Unit Totals'!G107+2 -> 35 | H4: =F4/G4 -> 0.057142857 | I4: ='Unit Totals'!H107 -> 0
A5: 271 | B5: Darius-Girenas | D5: ='Unit Totals'!D124 -> 1 | E5: ='Unit Totals'!E124 -> 0 | F5: =SUM(D5:E5) -> 1 | G5: ='Unit Totals'!G124+2 -> 28 | H5: =F5/G5 -> 0.035714286 | I5: ='Unit Totals'!H124 -> 1
A6: 714 | B6: O'Donnell-Eddy-Floss | D6: ='Unit Totals'!D283 -> 3 | E6: ='Unit Totals'!E283 -> 0 | F6: =SUM(D6:E6) -> 3 | G6: ='Unit Totals'!G283+2 -> 20 | H6: =F6/G6 -> 0.15 | I6: ='Unit Totals'!H283 -> 2
A7: 735 | B7: Argo-Summit | D7: ='Unit Totals'!D288 -> 22 | E7: ='Unit Totals'!E288 -> 3 | F7: =SUM(D7:E7) -> 25 | G7: ='Unit Totals'!G288+2 -> 37 | H7: =F7/G7 -> 0.67567568 | I7: ='Unit Totals'!H288 -> 6
A8: 986 | B8: Don Varnas | D8: ='Unit Totals'!D336 -> 18 | E8: ='Unit Totals'!E336 -> 3 | F8: =SUM(D8:E8) -> 21 | G8: ='Unit Totals'!G336+2 -> 42 | H8: =F8/G8 -> 0.5 | I8: ='Unit Totals'!H336 -> 0
A9: 1109 | B9: Ervin A Borlick | D9: ='Unit Totals'!D352 -> 9 | E9: ='Unit Totals'!E352 -> 2 | F9: =SUM(D9:E9) -> 11 | G9: ='Unit Totals'!G352+2 -> 15 | H9: =F9/G9 -> 0.73333333 | I9: ='Unit Totals'!H352 -> 1
A11: =COUNT(A3:A10) -> 7 | B11: TOTALS | D11: =SUM(D3:D9) -> 64 | E11: =SUM(E3:E9) -> 8 | F11: =SUM(F3:F9) -> 72 | G11: =SUM(G3:G9) -> 189 | H11: =F11/G11 -> 0.38095238 | I11: =SUM(I3:I10) -> 19
B15: Goal Units: | C15: =COUNTIFS(C3:C9,">=8/1/2026",C3:C9,"<=7/31/2027") -> 0

Sheet Dist 5
A1: Unit # | B1: Unit Name | C1: Date Reached Goal | D1: Senior | E1: Junior | F1: Total Members | G1: Goal | H1: % of Goal | I1: PUFL
A3: 96 | B3: Cicero | D3: ='Unit Totals'!D56 -> 1 | E3: ='Unit Totals'!E56 -> 0 | F3: =SUM(D3:E3) -> 1 | G3: ='Unit Totals'!G56+2 -> 58 | H3: =F3/G3 -> 0.017241379 | I3: ='Unit Totals'!H56 -> 1
A4: 256 | B4: Commodore Barry | D4: ='Unit Totals'!D118 -> 5 | E4: ='Unit Totals'!E118 -> 0 | F4: =SUM(D4:E4) -> 5 | G4: ='Unit Totals'!G118+2 -> 53 | H4: =F4/G4 -> 0.094339623 | I4: ='Unit Totals'!H118 -> 4
A5: 623 | B5: Paul Revere | D5: ='Unit Totals'!D247 -> 0 | E5: ='Unit Totals'!E247 -> 0 | F5: =SUM(D5:E5) -> 0 | G5: ='Unit Totals'!G247+2 -> 13 | H5: =F5/G5 -> 0 | I5: ='Unit Totals'!H247 -> 0
A6: 626 | B6: Broadview-Hillside | D6: ='Unit Totals'!D249 -> 3 | E6: ='Unit Totals'!E249 -> 0 | F6: =SUM(D6:E6) -> 3 | G6: ='Unit Totals'!G249+2 -> 18 | H6: =F6/G6 -> 0.16666667 | I6: ='Unit Totals'!H249 -> 3
A7: 687 | B7: Stickney | D7: ='Unit Totals'!D273 -> 1 | E7: ='Unit Totals'!E273 -> 0 | F7: =SUM(D7:E7) -> 1 | G7: ='Unit Totals'!G273+2 -> 47 | H7: =F7/G7 -> 0.021276596 | I7: ='Unit Totals'!H273 -> 1
A8: 699 | B8: Emil Scheive | D8: ='Unit Totals'!D278 -> 0 | E8: ='Unit Totals'!E278 -> 0 | F8: =SUM(D8:E8) -> 0 | G8: ='Unit Totals'!G278+2 -> 18 | H8: =F8/G8 -> 0 | I8: ='Unit Totals'!H278 -> 0
A9: 838 | B9: John H Shelton | D9: ='Unit Totals'!D310 -> 2 | E9: ='Unit Totals'!E310 -> 0 | F9: =SUM(D9:E9) -> 2 | G9: ='Unit Totals'!G310+2 -> 13 | H9: =F9/G9 -> 0.15384615 | I9: ='Unit Totals'!H310 -> 0
A10: 1016 | B10: Berkeley | D10: ='Unit Totals'!D340 -> 1 | E10: ='Unit Totals'!E340 -> 0 | F10: =SUM(D10:E10) -> 1 | G10: ='Unit Totals'!G340+2 -> 28 | H10: =F10/G10 -> 0.035714286 | I10: ='Unit Totals'!H340 -> 1
A11: 1941 | B11: Robert E Coulter Jr | D11: ='Unit Totals'!D387 -> 15 | E11: ='Unit Totals'!E387 -> 0 | F11: =SUM(D11:E11) -> 15 | G11: ='Unit Totals'!G387+2 -> 45 | H11: =F11/G11 -> 0.33333333 | I11: ='Unit Totals'!H387 -> 7
A13: =COUNT(A3:A12) -> 9 | B13: TOTALS | D13: =SUM(D3:D11) -> 28 | E13: =SUM(E3:E11) -> 0 | F13: =SUM(F3:F11) -> 28 | G13: =SUM(G3:G11) -> 293 | H13: =F13/G13 -> 0.09556314 | I13: =SUM(I3:I11) -> 17
B17: Goal Units: | C17: =COUNTIFS(C3:C11,">=8/1/2026",C3:C11,"<=7/31/2027") -> 0

Sheet Dist 7
A1: Unit # | B1: Unit Name | C1: Date Reached Goal | D1: Senior | E1: Junior | F1: Total Members | G1: Goal | H1: % of Goal | I1: PUFL
A3: 134 | B3: Morton Grove | D3: ='Unit Totals'!D72 -> 27 | E3: ='Unit Totals'!E72 -> 0 | F3: =SUM(D3:E3) -> 27 | G3: ='Unit Totals'!G72+2 -> 86 | H3: =F3/G3 -> 0.31395349 | I3: ='Unit Totals'!H72 -> 0
A4: 166 | B4: Joseph M Sesterhenn | D4: ='Unit Totals'!D83 -> 2 | E4: ='Unit Totals'!E83 -> 0 | F4: =SUM(D4:E4) -> 2 | G4: ='Unit Totals'!G83+2 -> 21 | H4: =F4/G4 -> 0.095238095 | I4: ='Unit Totals'!H83 -> 0
A5: 791 | B5: George W Benjamin | D5: ='Unit Totals'!D303 -> 9 | E5: ='Unit Totals'!E303 -> 0 | F5: =SUM(D5:E5) -> 9 | G5: ='Unit Totals'!G303+2 -> 50 | H5: =F5/G5 -> 0.18 | I5: ='Unit Totals'!H303 -> 1
A7: =COUNT(A3:A6) -> 3 | B7: TOTALS | D7: =SUM(D3:D5) -> 38 | E7: =SUM(E3:E5) -> 0 | F7: =SUM(F3:F5) -> 38 | G7: =SUM(G3:G6) -> 157 | H7: =F7/G7 -> 0.24203822 | I7: =SUM(I3:I6) -> 1
B11: Goal Units: | C11: =COUNTIFS(C3:C5,">=8/1/2026",C3:C5,"<=7/31/2027") -> 0

Sheet Dist 8
A1: Unit # | B1: Unit Name | C1: Date Reached Goal | D1: Senior | E1: Junior | F1: Total Members | G1: Goal | H1: % of Goal | I1: PUFL
A3: 330 | B3: Calumet Memorial | D3: ='Unit Totals'!D147 -> 8 | E3: ='Unit Totals'!E147 -> 0 | F3: =SUM(D3:E3) -> 8 | G3: ='Unit Totals'!G147+2 -> 89 | H3: =F3/G3 -> 0.08988764 | I3: ='Unit Totals'!H147 -> 0
A4: 398 | B4: Hazel Crest | D4: ='Unit Totals'!D173 -> 2 | E4: ='Unit Totals'!E173 -> 1 | F4: =SUM(D4:E4) -> 3 | G4: ='Unit Totals'!G173+2 -> 15 | H4: =F4/G4 -> 0.2 | I4: ='Unit Totals'!H173 -> 0
A5: 474 | B5: Rehfeldt-Meyer | D5: ='Unit Totals'!D199 -> 2 | E5: ='Unit Totals'!E199 -> 0 | F5: =SUM(D5:E5) -> 2 | G5: ='Unit Totals'!G199+2 -> 21 | H5: =F5/G5 -> 0.095238095 | I5: ='Unit Totals'!H199 -> 2
A6: 615 | B6: Tinley Park | D6: ='Unit Totals'!D243 -> 25 | E6: ='Unit Totals'!E243 -> 0 | F6: =SUM(D6:E6) -> 25 | G6: ='Unit Totals'!G243+2 -> 50 | H6: =F6/G6 -> 0.5 | I6: ='Unit Totals'!H243 -> 1
A7: 691 | B7: Midlothian | D7: ='Unit Totals'!D275 -> 14 | E7: ='Unit Totals'!E275 -> 0 | F7: =SUM(D7:E7) -> 14 | G7: ='Unit Totals'!G275+2 -> 43 | H7: =F7/G7 -> 0.3255814 | I7: ='Unit Totals'!H275 -> 1
A8: 697 | B8: Edward Schultz | D8: ='Unit Totals'!D277 -> 35 | E8: ='Unit Totals'!E277 -> 3 | F8: =SUM(D8:E8) -> 38 | G8: ='Unit Totals'!G277+2 -> 87 | H8: =F8/G8 -> 0.43678161 | I8: ='Unit Totals'!H277 -> 0
A9: 854 | B9: Evergreen Park | D9: ='Unit Totals'!D312 -> 30 | E9: ='Unit Totals'!E312 -> 7 | F9: =SUM(D9:E9) -> 37 | G9: ='Unit Totals'!G312+2 -> 92 | H9: =F9/G9 -> 0.40217391 | I9: ='Unit Totals'!H312 -> 4
A10: 991 | B10: Marrs-Meyer | D10: ='Unit Totals'!D337 -> 14 | E10: ='Unit Totals'!E337 -> 0 | F10: =SUM(D10:E10) -> 14 | G10: ='Unit Totals'!G337+2 -> 117 | H10: =F10/G10 -> 0.11965812 | I10: ='Unit Totals'!H337 -> 2
A11: 1070 | B11: Thornton | D11: ='Unit Totals'!D347 -> 5 | E11: ='Unit Totals'!E347 -> 0 | F11: =SUM(D11:E11) -> 5 | G11: ='Unit Totals'!G347+2 -> 43 | H11: =F11/G11 -> 0.11627907 | I11: ='Unit Totals'!H347 -> 3
A12: 1160 | B12: Glenn Maker | D12: ='Unit Totals'!D360 -> 17 | E12: ='Unit Totals'!E360 -> 0 | F12: =SUM(D12:E12) -> 17 | G12: ='Unit Totals'!G360+2 -> 32 | H12: =F12/G12 -> 0.53125 | I12: ='Unit Totals'!H360 -> 0
A13: 1198 | B13: Park Forest | D13: ='Unit Totals'!D370 -> 2 | E13: ='Unit Totals'!E370 -> 0 | F13: =SUM(D13:E13) -> 2 | G13: ='Unit Totals'!G370+2 -> 23 | H13: =F13/G13 -> 0.086956522 | I13: ='Unit Totals'!H370 -> 1
A15: =COUNT(A3:A14) -> 11 | B15: TOTALS | D15: =SUM(D3:D13) -> 154 | E15: =SUM(E3:E13) -> 11 | F15: =SUM(F3:F13) -> 165 | G15: =SUM(G3:G14) -> 612 | H15: =F15/G15 -> 0.26960784 | I15: =SUM(I3:I14) -> 14
B19: Goal Units: | C19: =COUNTIFS(C3:C13,">=8/1/2026",C3:C13,"<=7/31/2027") -> 0

Sheet Dist 9
A1: Unit # | B1: Unit Name | C1: Date Reached Goal | D1: Senior | E1: Junior | F1: Total Members | G1: Goal | H1: % of Goal | I1: PUFL
A3: 36 | B3: Des Plaines | D3: ='Unit Totals'!D27 -> 14 | E3: ='Unit Totals'!E27 -> 1 | F3: =SUM(D3:E3) -> 15 | G3: ='Unit Totals'!G27+2 -> 40 | H3: =F3/G3 -> 0.375 | I3: ='Unit Totals'!H27 -> 1
A4: 208 | B4: Merle Guild | D4: ='Unit Totals'!D100 -> 40 | E4: ='Unit Totals'!E100 -> 7 | F4: =SUM(D4:E4) -> 47 | G4: ='Unit Totals'!G100+2 -> 123 | H4: =F4/G4 -> 0.38211382 | I4: ='Unit Totals'!H100 -> 2
A5: 690 | B5: Palatine | D5: ='Unit Totals'!D274 -> 65 | E5: ='Unit Totals'!E274 -> 7 | F5: =SUM(D5:E5) -> 72 | G5: ='Unit Totals'!G274+2 -> 125 | H5: =F5/G5 -> 0.576 | I5: ='Unit Totals'!H274 -> 0
A6: 806 | B6: Billy Caldwell | D6: ='Unit Totals'!D307 -> 27 | E6: ='Unit Totals'!E307 -> 3 | F6: =SUM(D6:E6) -> 30 | G6: ='Unit Totals'!G307+2 -> 33 | H6: =F6/G6 -> 0.90909091 | I6: ='Unit Totals'!H307 -> 2
A7: 888 | B7: Howard H Rohde | D7: ='Unit Totals'!D315 -> 11 | E7: ='Unit Totals'!E315 -> 11 | F7: =SUM(D7:E7) -> 22 | G7: ='Unit Totals'!G315+2 -> 72 | H7: =F7/G7 -> 0.30555556 | I7: ='Unit Totals'!H315 -> 1
A8: 974 | B8: Franklin Park | D8: ='Unit Totals'!D332 -> 20 | E8: ='Unit Totals'!E332 -> 1 | F8: =SUM(D8:E8) -> 21 | G8: ='Unit Totals'!G332+2 -> 133 | H8: =F8/G8 -> 0.15789474 | I8: ='Unit Totals'!H332 -> 7
A9: 1983 | B9: Ellsworth Meineke (Schaumburg) | D9: ='Unit Totals'!D390 -> 0 | E9: ='Unit Totals'!E390 -> 0 | F9: =SUM(D9:E9) -> 0 | G9: ='Unit Totals'!G390+2 -> 10 | H9: =F9/G9 -> 0
A11: =COUNT(A3:A10) -> 7 | B11: TOTALS | D11: =SUM(D3:D9) -> 177 | E11: =SUM(E3:E9) -> 30 | F11: =SUM(F3:F9) -> 207 | G11: =SUM(G3:G9) -> 536 | H11: =F11/G11 -> 0.38619403 | I11: =SUM(I3:I10) -> 13
B15: Goal Units: | C15: =COUNTIFS(C3:C9,">=8/1/2026",C3:C9,"<=7/31/2027") -> 0

Sheet Dist 10
A1: Unit # | B1: Unit Name | C1: Date Reached Goal | D1: Senior | E1: Junior | F1: Total Members | G1: Goal | H1: % of Goal | I1: PUFL
A3: 145 | B3: Highland Park | D3: ='Unit Totals'!D79 -> 0 | E3: ='Unit Totals'!E79 -> 0 | F3: =SUM(D3:E3) -> 0 | G3: ='Unit Totals'!G79+2 -> 18 | H3: =F3/G3 -> 0 | I3: ='Unit Totals'!H79 -> 0
A4: 264 | B4: Lake Forest | D4: ='Unit Totals'!D123 -> 3 | E4: ='Unit Totals'!E123 -> 0 | F4: =SUM(D4:E4) -> 3 | G4: ='Unit Totals'!G123+2 -> 10 | H4: =F4/G4 -> 0.3 | I4: ='Unit Totals'!H123 -> 1
A5: 281 | B5: Waukegan | D5: ='Unit Totals'!D128 -> 10 | E5: ='Unit Totals'!E128 -> 2 | F5: =SUM(D5:E5) -> 12 | G5: ='Unit Totals'!G128+2 -> 39 | H5: =F5/G5 -> 0.30769231 | I5: ='Unit Totals'!H128 -> 2
A6: 329 | B6: Libertyville | D6: ='Unit Totals'!D146 -> 3 | E6: ='Unit Totals'!E146 -> 0 | F6: =SUM(D6:E6) -> 3 | G6: ='Unit Totals'!G146+2 -> 48 | H6: =F6/G6 -> 0.0625 | I6: ='Unit Totals'!H146 -> 3
A7: 703 | B7: Fox Lake | D7: ='Unit Totals'!D281 -> 14 | E7: ='Unit Totals'!E281 -> 0 | F7: =SUM(D7:E7) -> 14 | G7: ='Unit Totals'!G281+2 -> 113 | H7: =F7/G7 -> 0.12389381 | I7: ='Unit Totals'!H281 -> 11
A8: 738 | B8: Deerfield | D8: ='Unit Totals'!D290 -> 0 | E8: ='Unit Totals'!E290 -> 0 | F8: =SUM(D8:E8) -> 0 | G8: ='Unit Totals'!G290+2 -> 11 | H8: =F8/G8 -> 0 | I8: ='Unit Totals'!H290 -> 0
A9: 748 | B9: Antioch | D9: ='Unit Totals'!D292 -> 1 | E9: ='Unit Totals'!E292 -> 0 | F9: =SUM(D9:E9) -> 1 | G9: ='Unit Totals'!G292+2 -> 11 | H9: =F9/G9 -> 0.090909091 | I9: ='Unit Totals'!H292 -> 1
A10: 771 | B10: Gurnee | D10: ='Unit Totals'!D301 -> 43 | E10: ='Unit Totals'!E301 -> 0 | F10: =SUM(D10:E10) -> 43 | G10: ='Unit Totals'!G301+2 -> 87 | H10: =F10/G10 -> 0.49425287 | I10: ='Unit Totals'!H301 -> 0
A11: 865 | B11: Zion Benton | D11: ='Unit Totals'!D313 -> 0 | E11: ='Unit Totals'!E313 -> 0 | F11: =SUM(D11:E11) -> 0 | G11: ='Unit Totals'!G313+2 -> 19 | H11: =F11/G11 -> 0 | I11: ='Unit Totals'!H313 -> 0
A12: 867 | B12: Mundelein | D12: ='Unit Totals'!D314 -> 7 | E12: ='Unit Totals'!E314 -> 7 | F12: =SUM(D12:E12) -> 14 | G12: ='Unit Totals'!G314+2 -> 33 | H12: =F12/G12 -> 0.42424242 | I12: ='Unit Totals'!H314 -> 0
A13: 911 | B13: Wauconda | D13: ='Unit Totals'!D319 -> 46 | E13: ='Unit Totals'!E319 -> 5 | F13: =SUM(D13:E13) -> 51 | G13: ='Unit Totals'!G319+2 -> 106 | H13: =F13/G13 -> 0.48113208 | I13: ='Unit Totals'!H319 -> 4
A14: 964 | B14: Lake Zurich | D14: ='Unit Totals'!D330 -> 4 | E14: ='Unit Totals'!E330 -> 0 | F14: =SUM(D14:E14) -> 4 | G14: ='Unit Totals'!G330+2 -> 28 | H14: =F14/G14 -> 0.14285714 | I14: ='Unit Totals'!H330 -> 1
A15: 1170 | B15: Round Lake | D15: ='Unit Totals'!D363 -> 1 | E15: ='Unit Totals'!E363 -> 0 | F15: =SUM(D15:E15) -> 1 | G15: ='Unit Totals'!G363+2 -> 27 | H15: =F15/G15 -> 0.037037037 | I15: ='Unit Totals'!H363 -> 1
A17: =COUNT(A3:A16) -> 13 | B17: TOTALS | D17: =SUM(D3:D15) -> 132 | E17: =SUM(E3:E15) -> 14 | F17: =SUM(F3:F15) -> 146 | G17: =SUM(G3:G16) -> 550 | H17: =F17/G17 -> 0.26545455 | I17: =SUM(I3:I15) -> 24
B21: Goal Units: | C21: =COUNTIFS(C3:C15,">=8/1/2026",C3:C15,"<=7/31/2027") -> 0

Sheet Dist 11
A1: Unit # | B1: Unit Name | C1: Date Reached Goal | D1: Senior | E1: Junior | F1: Total Members | G1: Goal | H1: % of Goal | I1: PUFL
A3: 5 | B3: Joliet-Harwood | D3: ='Unit Totals'!D7 -> 12 | E3: ='Unit Totals'!E7 -> 0 | F3: =SUM(D3:E3) -> 12 | G3: ='Unit Totals'!G7+2 -> 18 | H3: =F3/G3 -> 0.66666667 | I3: ='Unit Totals'!H7 -> 2
A4: 13 | B4: Plainfield | D4: ='Unit Totals'!D12 -> 41 | E4: ='Unit Totals'!E12 -> 0 | F4: =SUM(D4:E4) -> 41 | G4: ='Unit Totals'!G12+2 -> 136 | H4: =F4/G4 -> 0.30147059 | I4: ='Unit Totals'!H12 -> 2
A5: 18 | B5: Lockport | D5: ='Unit Totals'!D16 -> 91 | E5: ='Unit Totals'!E16 -> 3 | F5: =SUM(D5:E5) -> 94 | G5: ='Unit Totals'!G16+2 -> 155 | H5: =F5/G5 -> 0.60645161 | I5: ='Unit Totals'!H16 -> 7
A6: 43 | B6: Naperville | D6: ='Unit Totals'!D29 -> 15 | E6: ='Unit Totals'!E29 -> 3 | F6: =SUM(D6:E6) -> 18 | G6: ='Unit Totals'!G29+2 -> 20 | H6: =F6/G6 -> 0.9 | I6: ='Unit Totals'!H17 -> 3
A7: 52 | B7: Romeoville | D7: ='Unit Totals'!D33 -> 13 | E7: ='Unit Totals'!E33 -> 2 | F7: =SUM(D7:E7) -> 15 | G7: ='Unit Totals'!G33+2 -> 27 | H7: =F7/G7 -> 0.55555556 | I7: ='Unit Totals'!H33 -> 0
A8: 57 | B8: Elgin | D8: ='Unit Totals'!D35 -> 7 | E8: ='Unit Totals'!E35 -> 0 | F8: =SUM(D8:E8) -> 7 | G8: ='Unit Totals'!G35+2 -> 120 | H8: =F8/G8 -> 0.058333333 | I8: ='Unit Totals'!H35 -> 0
A9: 75 | B9: Geneva | D9: ='Unit Totals'!D42 -> 5 | E9: ='Unit Totals'!E42 -> 0 | F9: =SUM(D9:E9) -> 5 | G9: ='Unit Totals'!G42+2 -> 10 | H9: =F9/G9 -> 0.5 | I9: ='Unit Totals'!H42 -> 4
A10: 76 | B10: Wheaton | D10: ='Unit Totals'!D43 -> 44 | E10: ='Unit Totals'!E43 -> 0 | F10: =SUM(D10:E10) -> 44 | G10: ='Unit Totals'!G43+2 -> 61 | H10: =F10/G10 -> 0.72131148 | I10: ='Unit Totals'!H43 -> 44
A11: 80 | B11: Downers Grove | D11: ='Unit Totals'!D46 -> 24 | E11: ='Unit Totals'!E46 -> 0 | F11: =SUM(D11:E11) -> 24 | G11: ='Unit Totals'!G46+2 -> 51 | H11: =F11/G11 -> 0.47058824 | I11: ='Unit Totals'!H46 -> 8
A12: 84 | B12: Roosevelt - Aurora | D12: ='Unit Totals'!D49 -> 0 | E12: ='Unit Totals'!E49 -> 0 | F12: =SUM(D12:E12) -> 0 | G12: ='Unit Totals'!G49+2 -> 23 | H12: =F12/G12 -> 0 | I12: ='Unit Totals'!H49 -> 0
A13: 187 | B13: Elmhurst | D13: ='Unit Totals'!D91 -> 54 | E13: ='Unit Totals'!E91 -> 9 | F13: =SUM(D13:E13) -> 63 | G13: ='Unit Totals'!G91+2 -> 117 | H13: =F13/G13 -> 0.53846154 | I13: ='Unit Totals'!H91 -> 4
A14: 191 | B14: Wilmington | D14: ='Unit Totals'!D93 -> 0 | E14: ='Unit Totals'!E93 -> 0 | F14: =SUM(D14:E14) -> 0 | G14: ='Unit Totals'!G93+2 -> 17 | H14: =F14/G14 -> 0 | I14: ='Unit Totals'!H93 -> 0
A15: 192 | B15: Marengo | D15: ='Unit Totals'!D94 -> 2 | E15: ='Unit Totals'!E94 -> 0 | F15: =SUM(D15:E15) -> 2 | G15: ='Unit Totals'!G94+2 -> 44 | H15: =F15/G15 -> 0.045454545 | I15: ='Unit Totals'!H94 -> 1
A16: 250 | B16: Hinsdale | D16: ='Unit Totals'!D113 -> 0 | E16: ='Unit Totals'!E113 -> 0 | F16: =SUM(D16:E16) -> 0 | G16: ='Unit Totals'!G113+2 -> 32 | H16: =F16/G16 -> 0 | I16: ='Unit Totals'!H113 -> 0
A17: 253 | B17: Richmond | D17: ='Unit Totals'!D115 -> 17 | E17: ='Unit Totals'!E115 -> 1 | F17: =SUM(D17:E17) -> 18 | G17: ='Unit Totals'!G115+2 -> 27 | H17: =F17/G17 -> 0.66666667 | I17: ='Unit Totals'!H115 -> 2
A18: 300 | B18: West Chicago | D18: ='Unit Totals'!D138 -> 0 | E18: ='Unit Totals'!E138 -> 0 | F18: =SUM(D18:E18) -> 0 | G18: ='Unit Totals'!G138+2 -> 26 | H18: =F18/G18 -> 0 | I18: ='Unit Totals'!H138 -> 0
A19: 342 | B19: St Charles | D19: ='Unit Totals'!D152 -> 0 | E19: ='Unit Totals'!E152 -> 0 | F19: =SUM(D19:E19) -> 0 | G19: ='Unit Totals'!G152+2 -> 29 | H19: =F19/G19 -> 0 | I19: ='Unit Totals'!H152 -> 0
A20: 391 | B20: Lombard | D20: ='Unit Totals'!D169 -> 13 | E20: ='Unit Totals'!E169 -> 0 | F20: =SUM(D20:E20) -> 13 | G20: ='Unit Totals'!G169+2 -> 15 | H20: =F20/G20 -> 0.86666667 | I20: ='Unit Totals'!H169 -> 0
A21: 392 | B21: Peotone | D21: ='Unit Totals'!D170 -> 32 | E21: ='Unit Totals'!E170 -> 2 | F21: =SUM(D21:E21) -> 34 | G21: ='Unit Totals'!G170+2 -> 88 | H21: =F21/G21 -> 0.38636364 | I21: ='Unit Totals'!H170 -> 6
A22: 491 | B22: McHenry | D22: ='Unit Totals'!D205 -> 16 | E22: ='Unit Totals'!E205 -> 0 | F22: =SUM(D22:E22) -> 16 | G22: ='Unit Totals'!G205+2 -> 140 | H22: =F22/G22 -> 0.11428571 | I22: ='Unit Totals'!H205 -> 0
A23: 521 | B23: Steger | D23: ='Unit Totals'!D212 -> 1 | E23: ='Unit Totals'!E212 -> 0 | F23: =SUM(D23:E23) -> 1 | G23: ='Unit Totals'!G212+2 -> 31 | H23: =F23/G23 -> 0.032258065 | I23: ='Unit Totals'!H212 -> 1
A24: 589 | B24: Warrenville | D24: ='Unit Totals'!D237 -> 0 | E24: ='Unit Totals'!E237 -> 0 | F24: =SUM(D24:E24) -> 0 | G24: ='Unit Totals'!G237+2 -> 35 | H24: =F24/G24 -> 0 | I24: ='Unit Totals'!H237 -> 0
A25: 630 | B25: Elburn | D25: ='Unit Totals'!D250 -> 30 | E25: ='Unit Totals'!E250 -> 3 | F25: =SUM(D25:E25) -> 33 | G25: ='Unit Totals'!G250+2 -> 74 | H25: =F25/G25 -> 0.44594595 | I25: ='Unit Totals'!H250 -> 2
A26: 673 | B26: Huntley | D26: ='Unit Totals'!D266 -> 8 | E26: ='Unit Totals'!E266 -> 0 | F26: =SUM(D26:E26) -> 8 | G26: ='Unit Totals'!G266+2 -> 114 | H26: =F26/G26 -> 0.070175439 | I26: ='Unit Totals'!H266 -> 2
A27: 680 | B27: Hampshire | D27: ='Unit Totals'!D269 -> 12 | E27: ='Unit Totals'!E269 -> 0 | F27: =SUM(D27:E27) -> 12 | G27: ='Unit Totals'!G269+2 -> 27 | H27: =F27/G27 -> 0.44444444 | I27: ='Unit Totals'!H269 -> 12
A28: 798 | B28: Aurora | D28: ='Unit Totals'!D306 -> 0 | E28: ='Unit Totals'!E306 -> 0 | F28: =SUM(D28:E28) -> 0 | G28: ='Unit Totals'!G306+2 -> 12 | H28: =F28/G28 -> 0 | I28: ='Unit Totals'!H306 -> 0
A29: 935 | B29: Manhattan | D29: ='Unit Totals'!D326 -> 0 | E29: ='Unit Totals'!E326 -> 0 | F29: =SUM(D29:E29) -> 0 | G29: ='Unit Totals'!G326+2 -> 24 | H29: =F29/G29 -> 0 | I29: ='Unit Totals'!H326 -> 0
A30: 1080 | B30: Joliet-St Joseph's Park | D30: ='Unit Totals'!D349 -> 8 | E30: ='Unit Totals'!E349 -> 0 | F30: =SUM(D30:E30) -> 8 | G30: ='Unit Totals'!G349+2 -> 90 | H30: =F30/G30 -> 0.088888889 | I30: ='Unit Totals'!H349 -> 1
A31: 1084 | B31: Roselle | D31: ='Unit Totals'!D351 -> 9 | E31: ='Unit Totals'!E351 -> 0 | F31: =SUM(D31:E31) -> 9 | G31: ='Unit Totals'!G351+2 -> 62 | H31: =F31/G31 -> 0.14516129 | I31: ='Unit Totals'!H351 -> 0
A32: 1200 | B32: Monee | D32: ='Unit Totals'!D371 -> 0 | E32: ='Unit Totals'!E371 -> 0 | F32: =SUM(D32:E32) -> 0 | G32: ='Unit Totals'!G371+2 -> 18 | H32: =F32/G32 -> 0 | I32: ='Unit Totals'!H371 -> 0
A33: 1205 | B33: Wood Dale | D33: ='Unit Totals'!D372 -> 1 | E33: ='Unit Totals'!E372 -> 0 | F33: =SUM(D33:E33) -> 1 | G33: ='Unit Totals'!G372+2 -> 43 | H33: =F33/G33 -> 0.023255814 | I33: ='Unit Totals'!H372 -> 1
A34: 1231 | B34: Lake In The Hills | D34: ='Unit Totals'!D377 -> 13 | E34: ='Unit Totals'!E377 -> 0 | F34: =SUM(D34:E34) -> 13 | G34: ='Unit Totals'!G377+2 -> 24 | H34: =F34/G34 -> 0.54166667 | I34: ='Unit Totals'!H377 -> 2
A35: 1271 | B35: Sugar Grove | D35: ='Unit Totals'!D384 -> 2 | E35: ='Unit Totals'!E384 -> 0 | F35: =SUM(D35:E35) -> 2 | G35: ='Unit Totals'!G384+2 -> 13 | H35: =F35/G35 -> 0.15384615 | I35: ='Unit Totals'!H384 -> 1
A36: 1977 | B36: New Lenox | D36: ='Unit Totals'!D389 -> 29 | E36: ='Unit Totals'!E389 -> 2 | F36: =SUM(D36:E36) -> 31 | G36: ='Unit Totals'!G389+2 -> 80 | H36: =F36/G36 -> 0.3875 | I36: ='Unit Totals'!H389 -> 1
A38: =COUNT(A3:A37) -> 34 | B38: TOTALS | D38: =SUM(D3:D36) -> 499 | E38: =SUM(E3:E36) -> 25 | F38: =SUM(F3:F36) -> 524 | G38: =SUM(G3:G37) -> 1803 | H38: =F38/G38 -> 0.29062673 | I38: =SUM(I3:I37) -> 106
B42: Goal Units: | C42: =COUNTIFS(C3:C36,">=8/1/2026",C3:C36,"<=7/31/2027") -> 0

Sheet Dist 12
A1: Unit # | B1: Unit Name | C1: Date Reached Goal | D1: Senior | E1: Junior | F1: Total Members | G1: Goal | H1: % of Goal | I1: PUFL
A3: 33 | B3: Ottawa | D3: ='Unit Totals'!D25 -> 79 | E3: ='Unit Totals'!E25 -> 0 | F3: =SUM(D3:E3) -> 79 | G3: ='Unit Totals'!G25+2 -> 193 | H3: =F3/G3 -> 0.40932642 | I3: ='Unit Totals'!H25 -> 5
A4: 66 | B4: DeKalb | D4: ='Unit Totals'!D36 -> 7 | E4: ='Unit Totals'!E36 -> 1 | F4: =SUM(D4:E4) -> 8 | G4: ='Unit Totals'!G36+2 -> 56 | H4: =F4/G4 -> 0.14285714 | I4: ='Unit Totals'!H36 -> 0
A5: 77 | B5: Belvidere | D5: ='Unit Totals'!D44 -> 104 | E5: ='Unit Totals'!E44 -> 15 | F5: =SUM(D5:E5) -> 119 | G5: ='Unit Totals'!G44+2 -> 255 | H5: =F5/G5 -> 0.46666667 | I5: ='Unit Totals'!H44 -> 3
A6: 99 | B6: Sycamore | D6: ='Unit Totals'!D57 -> 2 | E6: ='Unit Totals'!E57 -> 0 | F6: =SUM(D6:E6) -> 2 | G6: ='Unit Totals'!G57+2 -> 13 | H6: =F6/G6 -> 0.15384615 | I6: ='Unit Totals'!H57 -> 0
A7: 181 | B7: Sandwich | D7: ='Unit Totals'!D90 -> 23 | E7: ='Unit Totals'!E90 -> 8 | F7: =SUM(D7:E7) -> 31 | G7: ='Unit Totals'!G90+2 -> 34 | H7: =F7/G7 -> 0.91176471 | I7: ='Unit Totals'!H90 -> 1
A8: 197 | B8: Pecatonica | D8: ='Unit Totals'!D96 -> 0 | E8: ='Unit Totals'!E96 -> 0 | F8: =SUM(D8:E8) -> 0 | G8: ='Unit Totals'!G96+2 -> 39 | H8: =F8/G8 -> 0 | I8: ='Unit Totals'!H96 -> 0
A9: 235 | B9: Marseilles | D9: ='Unit Totals'!D109 -> 16 | E9: ='Unit Totals'!E109 -> 0 | F9: =SUM(D9:E9) -> 16 | G9: ='Unit Totals'!G109+2 -> 59 | H9: =F9/G9 -> 0.27118644 | I9: ='Unit Totals'!H109 -> 3
A10: 237 | B10: Oglesby | D10: ='Unit Totals'!D110 -> 21 | E10: ='Unit Totals'!E110 -> 1 | F10: =SUM(D10:E10) -> 22 | G10: ='Unit Totals'!G110+2 -> 34 | H10: =F10/G10 -> 0.64705882 | I10: ='Unit Totals'!H110 -> 2
A11: 294 | B11: Morris | D11: ='Unit Totals'!D134 -> 40 | E11: ='Unit Totals'!E134 -> 2 | F11: =SUM(D11:E11) -> 42 | G11: ='Unit Totals'!G134+2 -> 48 | H11: =F11/G11 -> 0.875 | I11: ='Unit Totals'!H134 -> 5
A12: 332 | B12: Rockton | D12: ='Unit Totals'!D148 -> 73 | E12: ='Unit Totals'!E148 -> 10 | F12: =SUM(D12:E12) -> 83 | G12: ='Unit Totals'!G148+2 -> 131 | H12: =F12/G12 -> 0.63358779 | I12: ='Unit Totals'!H148 -> 2
A13: 337 | B13: Genoa | D13: ='Unit Totals'!D149 -> 36 | E13: ='Unit Totals'!E149 -> 8 | F13: =SUM(D13:E13) -> 44 | G13: ='Unit Totals'!G149+2 -> 80 | H13: =F13/G13 -> 0.55 | I13: ='Unit Totals'!H149 -> 2
A14: 340 | B14: Jefferson-Horton | D14: ='Unit Totals'!D150 -> 4 | E14: ='Unit Totals'!E150 -> 0 | F14: =SUM(D14:E14) -> 4 | G14: ='Unit Totals'!G150+2 -> 52 | H14: =F14/G14 -> 0.076923077 | I14: ='Unit Totals'!H150 -> 1
A15: 395 | B15: Plano | D15: ='Unit Totals'!D171 -> 12 | E15: ='Unit Totals'!E171 -> 0 | F15: =SUM(D15:E15) -> 12 | G15: ='Unit Totals'!G171+2 -> 30 | H15: =F15/G15 -> 0.4 | I15: ='Unit Totals'!HH171 -> 0
A16: 489 | B16: Yorkville | D16: ='Unit Totals'!D204 -> 18 | E16: ='Unit Totals'!E204 -> 0 | F16: =SUM(D16:E16) -> 18 | G16: ='Unit Totals'!G204+2 -> 109 | H16: =F16/G16 -> 0.16513761 | I16: ='Unit Totals'!H204 -> 1
A17: 549 | B17: Earlville | D17: ='Unit Totals'!D219 -> 1 | E17: ='Unit Totals'!E219 -> 0 | F17: =SUM(D17:E17) -> 1 | G17: ='Unit Totals'!G219+2 -> 18 | H17: =F17/G17 -> 0.055555556 | I17: ='Unit Totals'!H219 -> 0
A18: 570 | B18: Leland | D18: ='Unit Totals'!D229 -> 0 | E18: ='Unit Totals'!E229 -> 0 | F18: =SUM(D18:E18) -> 0 | G18: ='Unit Totals'!G229+2 -> 23 | H18: =F18/G18 -> 0 | I18: ='Unit Totals'!H229 -> 0
A19: 654 | B19: Waterman | D19: ='Unit Totals'!D262 -> 1 | E19: ='Unit Totals'!E262 -> 0 | F19: =SUM(D19:E19) -> 1 | G19: ='Unit Totals'!G262+2 -> 15 | H19: =F19/G19 -> 0.066666667 | I19: ='Unit Totals'!H262 -> 0
A20: 663 | B20: Gardner | D20: ='Unit Totals'!D264 -> 2 | E20: ='Unit Totals'!E264 -> 0 | F20: =SUM(D20:E20) -> 2 | G20: ='Unit Totals'!G264+2 -> 25 | H20: =F20/G20 -> 0.08 | I20: ='Unit Totals'!H264 -> 2
A21: 675 | B21: Oswego | D21: ='Unit Totals'!D267 -> 13 | E21: ='Unit Totals'!E267 -> 2 | F21: =SUM(D21:E21) -> 15 | G21: ='Unit Totals'!G267+2 -> 63 | H21: =F21/G21 -> 0.23809524 | I21: ='Unit Totals'!H267 -> 1
A22: 676 | B22: Durand | D22: ='Unit Totals'!D268 -> 14 | E22: ='Unit Totals'!E268 -> 8 | F22: =SUM(D22:E22) -> 22 | G22: ='Unit Totals'!G268+2 -> 59 | H22: =F22/G22 -> 0.37288136 | I22: ='Unit Totals'!H268 -> 3
A23: 1010 | B23: Kingston | D23: ='Unit Totals'!D338 -> 6 | E23: ='Unit Totals'!E338 -> 11 | F23: =SUM(D23:E23) -> 17 | G23: ='Unit Totals'!G338+2 -> 25 | H23: =F23/G23 -> 0.68 | I23: ='Unit Totals'!H338 -> 1
A24: 1121 | B24: Rutland | D24: ='Unit Totals'!D354 -> 0 | E24: ='Unit Totals'!E354 -> 0 | F24: =SUM(D24:E24) -> 0 | G24: ='Unit Totals'!G354+2 -> 27 | H24: =F24/G24 -> 0
A25: 1188 | B25: Minooka | D25: ='Unit Totals'!D366 -> 7 | E25: ='Unit Totals'!E366 -> 0 | F25: =SUM(D25:E25) -> 7 | G25: ='Unit Totals'!G366+2 -> 13 | H25: =F25/G25 -> 0.53846154 | I25: ='Unit Totals'!H366 -> 7
A26: 1207 | B26: Rockford-Lt Robt Carlson | D26: ='Unit Totals'!D373 -> 49 | E26: ='Unit Totals'!E373 -> 4 | F26: =SUM(D26:E26) -> 53 | G26: ='Unit Totals'!G373+2 -> 173 | H26: =F26/G26 -> 0.30635838 | I26: ='Unit Totals'!H373 -> 6
A28: =COUNT(A3:A27) -> 24 | B28: TOTALS | D28: =SUM(D3:D26) -> 528 | E28: =SUM(E3:E26) -> 70 | F28: =SUM(F3:F26) -> 598 | G28: =SUM(G3:G26) -> 1574 | H28: =F28/G28 -> 0.37992376 | I28: =SUM(I3:I27) -> 45
B32: Goal Units: | C32: =COUNTIFS(C3:C26,">=8/1/2026",C3:C26,"<=7/31/2027") -> 0

Sheet Dist 13
A1: Unit # | B1: Unit Name | C1: Date Reached Goal | D1: Senior | E1: Junior | F1: Total Members | G1: Goal | H1: % of Goal | I1: PUFL
A3: 12 | B3: Dixon | D3: ='Unit Totals'!D11 -> 15 | E3: ='Unit Totals'!E11 -> 0 | F3: =SUM(D3:E3) -> 15 | G3: ='Unit Totals'!G11+2 -> 26 | H3: =F3/G3 -> 0.57692308 | I3: ='Unit Totals'!H11 -> 3
A4: 83 | B4: Polo | D4: ='Unit Totals'!D48 -> 10 | E4: ='Unit Totals'!E48 -> 0 | F4: =SUM(D4:E4) -> 10 | G4: ='Unit Totals'!G48+2 -> 29 | H4: =F4/G4 -> 0.34482759 | I4: ='Unit Totals'!H48 -> 3
A5: 193 | B5: Galena | D5: ='Unit Totals'!D95 -> 15 | E5: ='Unit Totals'!E95 -> 0 | F5: =SUM(D5:E5) -> 15 | G5: ='Unit Totals'!G95+2 -> 21 | H5: =F5/G5 -> 0.71428571 | I5: ='Unit Totals'!H95 -> 0
A6: 296 | B6: Sterling | D6: ='Unit Totals'!D135 -> 77 | E6: ='Unit Totals'!E135 -> 7 | F6: =SUM(D6:E6) -> 84 | G6: ='Unit Totals'!G135+2 -> 156 | H6: =F6/G6 -> 0.53846154 | I6: ='Unit Totals'!H135 -> 0
A7: 402 | B7: Fulton | D7: ='Unit Totals'!D174 -> 0 | E7: ='Unit Totals'!E174 -> 0 | F7: =SUM(D7:E7) -> 0 | G7: ='Unit Totals'!G174+2 -> 11 | H7: =F7/G7 -> 0 | I7: ='Unit Totals'!H174 -> 0
A8: 453 | B8: Amboy | D8: ='Unit Totals'!D191 -> 1 | E8: ='Unit Totals'!E191 -> 0 | F8: =SUM(D8:E8) -> 1 | G8: ='Unit Totals'!G191+2 -> 10 | H8: =F8/G8 -> 0.1 | I8: ='Unit Totals'!H191 -> 1
A9: 464 | B9: Warren | D9: ='Unit Totals'!D196 -> 10 | E9: ='Unit Totals'!E196 -> 11 | F9: =SUM(D9:E9) -> 21 | G9: ='Unit Totals'!G196+2 -> 38 | H9: =F9/G9 -> 0.55263158 | I9: ='Unit Totals'!H196 -> 4
A10: 574 | B10: Tampico | D10: ='Unit Totals'!D231 -> 7 | E10: ='Unit Totals'!E231 -> 0 | F10: =SUM(D10:E10) -> 7 | G10: ='Unit Totals'!G231+2 -> 11 | H10: =F10/G10 -> 0.63636364 | I10: ='Unit Totals'!H231 -> 0
A11: 577 | B11: Lena | D11: ='Unit Totals'!D232 -> 5 | E11: ='Unit Totals'!E232 -> 1 | F11: =SUM(D11:E11) -> 6 | G11: ='Unit Totals'!G232+2 -> 57 | H11: =F11/G11 -> 0.10526316 | I11: ='Unit Totals'!H232 -> 6
A12: 720 | B12: Orangeville | D12: ='Unit Totals'!D285 -> 3 | E12: ='Unit Totals'!E285 -> 0 | F12: =SUM(D12:E12) -> 3 | G12: ='Unit Totals'!G285+2 -> 15 | H12: =F12/G12 -> 0.2 | I12: ='Unit Totals'!H285 -> 3
A13: 739 | B13: Chadwick | D13: ='Unit Totals'!D291 -> 15 | E13: ='Unit Totals'!E291 -> 0 | F13: =SUM(D13:E13) -> 15 | G13: ='Unit Totals'!G291+2 -> 18 | H13: =F13/G13 -> 0.83333333 | I13: ='Unit Totals'!H291 -> 0
A14: 902 | B14: Rock Falls | D14: ='Unit Totals'!D317 -> 36 | E14: ='Unit Totals'!E317 -> 0 | F14: =SUM(D14:E14) -> 36 | G14: ='Unit Totals'!G317+2 -> 67 | H14: =F14/G14 -> 0.53731343 | I14: ='Unit Totals'!H317 -> 8
A15: 1014 | B15: Pearl City | D15: ='Unit Totals'!D339 -> 1 | E15: ='Unit Totals'!E339 -> 0 | F15: =SUM(D15:E15) -> 1 | G15: ='Unit Totals'!G339+2 -> 20 | H15: =F15/G15 -> 0.05 | I15: ='Unit Totals'!H339 -> 1
A16: 1225 | B16: McConnell | D16: ='Unit Totals'!D375 -> 15 | E16: ='Unit Totals'!E375 -> 0 | F16: =SUM(D16:E16) -> 15 | G16: ='Unit Totals'!G375+2 -> 41 | H16: =F16/G16 -> 0.36585366 | I16: ='Unit Totals'!H375 -> 0
A18: =COUNT(A3:A17) -> 14 | B18: TOTALS | D18: =SUM(D3:D16) -> 210 | E18: =SUM(E3:E16) -> 19 | F18: =SUM(F3:F16) -> 229 | G18: =SUM(G3:G17) -> 520 | H18: =F18/G18 -> 0.44038462 | I18: =SUM(I3:I17) -> 29
B22: Goal Units: | C22: =COUNTIFS(C3:C16,">=8/1/2026",C3:C16,"<=7/31/2027") -> 0

Sheet Dist 14
A1: Unit # | B1: Unit Name | C1: Date Reached Goal | D1: Senior | E1: Junior | F1: Total Members | G1: Goal | H1: % of Goal | I1: PUFL
A3: 6 | B3: Macomb | D3: ='Unit Totals'!D8 -> 26 | E3: ='Unit Totals'!E8 -> 0 | F3: =SUM(D3:E3) -> 26 | G3: ='Unit Totals'!G8+2 -> 60 | H3: =F3/G3 -> 0.43333333 | I3: ='Unit Totals'!H8 -> 7
A4: 121 | B4: Aledo | D4: ='Unit Totals'!D66 -> 23 | E4: ='Unit Totals'!E66 -> 3 | F4: =SUM(D4:E4) -> 26 | G4: ='Unit Totals'!G66+2 -> 49 | H4: =F4/G4 -> 0.53061224 | I4: ='Unit Totals'!H66 -> 0
A5: 136 | B5: Monmouth | D5: ='Unit Totals'!D74 -> 44 | E5: ='Unit Totals'!E74 -> 0 | F5: =SUM(D5:E5) -> 44 | G5: ='Unit Totals'!G74+2 -> 98 | H5: =F5/G5 -> 0.44897959 | I5: ='Unit Totals'!H74 -> 1
A6: 189 | B6: Alexis | D6: ='Unit Totals'!D92 -> 0 | E6: ='Unit Totals'!E92 -> 0 | F6: =SUM(D6:E6) -> 0 | G6: ='Unit Totals'!G92+2 -> 16 | H6: =F6/G6 -> 0 | I6: ='Unit Totals'!H92 -> 0
A7: 227 | B7: East Moline | D7: ='Unit Totals'!D106 -> 0 | E7: ='Unit Totals'!E106 -> 0 | F7: =SUM(D7:E7) -> 0 | G7: ='Unit Totals'!G106+2 -> 37 | H7: =F7/G7 -> 0 | I7: ='Unit Totals'!H106 -> 0
A8: 297 | B8: Dallas City | D8: ='Unit Totals'!D136 -> 1 | E8: ='Unit Totals'!E136 -> 0 | F8: =SUM(D8:E8) -> 1 | G8: ='Unit Totals'!G136+2 -> 20 | H8: =F8/G8 -> 0.05 | I8: ='Unit Totals'!H136 -> 1
A9: 569 | B9: Milan | D9: ='Unit Totals'!D228 -> 35 | E9: ='Unit Totals'!E228 -> 1 | F9: =SUM(D9:E9) -> 36 | G9: ='Unit Totals'!G228+2 -> 94 | H9: =F9/G9 -> 0.38297872 | I9: ='Unit Totals'!H228 -> 4
A10: 614 | B10: Roseville | D10: ='Unit Totals'!D242 -> 21 | E10: ='Unit Totals'!E242 -> 9 | F10: =SUM(D10:E10) -> 30 | G10: ='Unit Totals'!G242+2 -> 43 | H10: =F10/G10 -> 0.69767442 | I10: ='Unit Totals'!H242 -> 3
A11: 682 | B11: Warsaw | D11: ='Unit Totals'!D270 -> 1 | E11: ='Unit Totals'!E270 -> 0 | F11: =SUM(D11:E11) -> 1 | G11: ='Unit Totals'!G270+2 -> 28 | H11: =F11/G11 -> 0.035714286 | I11: ='Unit Totals'!H270 -> 1
A12: 765 | B12: Stronghurst | C12: 44855 | D12: ='Unit Totals'!D298 -> 29 | E12: ='Unit Totals'!E298 -> 2 | F12: =SUM(D12:E12) -> 31 | G12: ='Unit Totals'!G298+2 -> 31 | H12: =F12/G12 -> 1 | I12: ='Unit Totals'!H298 -> 8
A14: =COUNT(A3:A13) -> 10 | B14: TOTALS | D14: =SUM(D3:D12) -> 180 | E14: =SUM(E3:E12) -> 15 | F14: =SUM(F3:F12) -> 195 | G14: =SUM(G3:G13) -> 476 | H14: =F14/G14 -> 0.40966387 | I14: =SUM(I3:I12) -> 25
B18: Goal Units: | C18: =COUNTIFS(C3:C12,">=8/1/2026",C3:C12,"<=7/31/2027") -> 1

Sheet Dist 15
A1: Unit # | B1: Unit Name | C1: Date Reached Goal | D1: Senior | E1: Junior | F1: Total Members | G1: Goal | H1: % of Goal | I1: PUFL
A3: 1 | B3: Lewistown | D3: ='Unit Totals'!D4 -> 3 | E3: ='Unit Totals'!E4 -> 0 | F3: ='Unit Totals'!F4 -> 3 | G3: ='Unit Totals'!G4+2 -> 23 | H3: =F3/G3 -> 0.13043478 | I3: ='Unit Totals'!H4 -> 0
A4: 4 | B4: Rushville | D4: ='Unit Totals'!D6 -> 1 | E4: ='Unit Totals'!E6 -> 0 | F4: =SUM(D4:E4) -> 1 | G4: ='Unit Totals'!G6+2 -> 38 | H4: =F4/G4 -> 0.026315789 | I4: ='Unit Totals'!H6 -> 1
A5: 16 | B5: Canton | D5: ='Unit Totals'!D14 -> 4 | E5: ='Unit Totals'!E14 -> 0 | F5: =SUM(D5:E5) -> 4 | G5: ='Unit Totals'!G14+2 -> 47 | H5: =F5/G5 -> 0.085106383 | I5: ='Unit Totals'!H14 -> 4
A6: 17 | B6: Ipava | D6: ='Unit Totals'!D15 -> 1 | E6: ='Unit Totals'!E15 -> 0 | F6: =SUM(D6:E6) -> 1 | G6: ='Unit Totals'!G15+2 -> 48 | H6: =F6/G6 -> 0.020833333 | I6: ='Unit Totals'!H15 -> 0
A7: 26 | B7: Vermont | D7: ='Unit Totals'!D20 -> 2 | E7: ='Unit Totals'!E20 -> 0 | F7: =SUM(D7:E7) -> 2 | G7: ='Unit Totals'!G20+2 -> 27 | H7: =F7/G7 -> 0.074074074 | I7: ='Unit Totals'!H20 -> 2
A8: 37 | B8: Quincy | D8: ='Unit Totals'!D28 -> 1 | E8: ='Unit Totals'!E28 -> 0 | F8: =SUM(D8:E8) -> 1 | G8: ='Unit Totals'!G28+2 -> 29 | H8: =F8/G8 -> 0.034482759 | I8: ='Unit Totals'!H28 -> 1
A9: 45 | B9: Galva | D9: ='Unit Totals'!D31 -> 1 | E9: ='Unit Totals'!E31 -> 0 | F9: =SUM(D9:E9) -> 1 | G9: ='Unit Totals'!G31+2 -> 37 | H9: =F9/G9 -> 0.027027027 | I9: ='Unit Totals'!H31 -> 0
A10: 140 | B10: Farmington | D10: ='Unit Totals'!D77 -> 1 | E10: ='Unit Totals'!E77 -> 0 | F10: =SUM(D10:E10) -> 1 | G10: ='Unit Totals'!G77+2 -> 24 | H10: =F10/G10 -> 0.041666667 | I10: ='Unit Totals'!H77 -> 1
A11: 255 | B11: Orion | D11: ='Unit Totals'!D117 -> 1 | E11: ='Unit Totals'!E117 -> 0 | F11: =SUM(D11:E11) -> 1 | G11: ='Unit Totals'!G117+2 -> 72 | H11: =F11/G11 -> 0.013888889 | I11: ='Unit Totals'!H117 -> 1
A12: 285 | B12: Galesburg | D12: ='Unit Totals'!D129 -> 59 | E12: ='Unit Totals'!E129 -> 3 | F12: =SUM(D12:E12) -> 62 | G12: ='Unit Totals'!G129+2 -> 78 | H12: =F12/G12 -> 0.79487179 | I12: ='Unit Totals'!H129 -> 7
A13: 286 | B13: Clayton | D13: ='Unit Totals'!D130 -> 19 | E13: ='Unit Totals'!E130 -> 0 | F13: =SUM(D13:E13) -> 19 | G13: ='Unit Totals'!G130+2 -> 28 | H13: =F13/G13 -> 0.67857143 | I13: ='Unit Totals'!H130 -> 8
A14: 371 | B14: Williamsfield | D14: ='Unit Totals'!D161 -> 1 | E14: ='Unit Totals'!E161 -> 0 | F14: =SUM(D14:E14) -> 1 | G14: ='Unit Totals'!G161+2 -> 33 | H14: =F14/G14 -> 0.03030303 | I14: ='Unit Totals'!H161 -> 0
A15: 381 | B15: Abingdon | D15: ='Unit Totals'!D164 -> 2 | E15: ='Unit Totals'!E164 -> 0 | F15: =SUM(D15:E15) -> 2 | G15: ='Unit Totals'!G164+2 -> 46 | H15: =F15/G15 -> 0.043478261 | I15: ='Unit Totals'!H164 -> 2
A16: 417 | B16: Cambridge | D16: ='Unit Totals'!D178 -> 8 | E16: ='Unit Totals'!E178 -> 0 | F16: =SUM(D16:E16) -> 8 | G16: ='Unit Totals'!G178+2 -> 10 | H16: =F16/G16 -> 0.8 | I16: ='Unit Totals'!H178 -> 0
A17: 465 | B17: Andover | D17: ='Unit Totals'!D197 -> 10 | E17: ='Unit Totals'!E197 -> 0 | F17: =SUM(D17:E17) -> 10 | G17: ='Unit Totals'!G197+2 -> 12 | H17: =F17/G17 -> 0.83333333 | I17: ='Unit Totals'!H197 -> 0
A18: 533 | B18: Cuba | D18: ='Unit Totals'!D216 -> 8 | E18: ='Unit Totals'!E216 -> 1 | F18: =SUM(D18:E18) -> 9 | G18: ='Unit Totals'!G216+2 -> 32 | H18: =F18/G18 -> 0.28125 | I18: ='Unit Totals'!H216 -> 0
A19: 546 | B19: Woodhull | D19: ='Unit Totals'!D218 -> 0 | E19: ='Unit Totals'!E218 -> 0 | F19: =SUM(D19:E19) -> 0 | G19: ='Unit Totals'!G218+2 -> 20 | H19: =F19/G19 -> 0 | I19: ='Unit Totals'!H218 -> 0
A20: 644 | B20: Fairview | D20: ='Unit Totals'!D257 -> 2 | E20: ='Unit Totals'!E257 -> 0 | F20: =SUM(D20:E20) -> 2 | G20: ='Unit Totals'!G257+2 -> 87 | H20: =F20/G20 -> 0.022988506 | I20: ='Unit Totals'!H257 -> 2
A21: 749 | B21: Knoxville | D21: ='Unit Totals'!D293 -> 49 | E21: ='Unit Totals'!E293 -> 4 | F21: =SUM(D21:E21) -> 53 | G21: ='Unit Totals'!G293+2 -> 74 | H21: =F21/G21 -> 0.71621622 | I21: ='Unit Totals'!H293 -> 0
A22: 823 | B22: Ursa | D22: ='Unit Totals'!D309 -> 0 | E22: ='Unit Totals'!E309 -> 0 | F22: =SUM(D22:E22) -> 0 | G22: ='Unit Totals'!G309+2 -> 17 | H22: =F22/G22 -> 0 | I22: ='Unit Totals'!H309 -> 0
A23: 1197 | B23: Alpha | D23: ='Unit Totals'!D369 -> 12 | E23: ='Unit Totals'!E369 -> 2 | F23: =SUM(D23:E23) -> 14 | G23: ='Unit Totals'!G369+2 -> 35 | H23: =F23/G23 -> 0.4 | I23: ='Unit Totals'!H369 -> 0
A24: 1233 | B24: Green Rock-Colona | D24: ='Unit Totals'!D378 -> 28 | E24: ='Unit Totals'!E378 -> 1 | F24: =SUM(D24:E24) -> 29 | G24: ='Unit Totals'!G378+2 -> 50 | H24: =F24/G24 -> 0.58 | I24: ='Unit Totals'!H378 -> 0
A26: =COUNT(A3:A25) -> 22 | B26: TOTALS | D26: =SUM(D3:D24) -> 213 | E26: =SUM(E3:E24) -> 11 | F26: =SUM(F3:F24) -> 224 | G26: =SUM(G3:G25) -> 867 | H26: =F26/G26 -> 0.25836217 | I26: =SUM(I3:I24) -> 29
B30: Goal Units: | C30: =COUNTIFS(C3:C24,">=8/1/2026",C3:C24,"<=7/31/2027") -> 0

Sheet Dist 16
A1: Unit # | B1: Unit Name | C1: Date Reached Goal | D1: Senior | E1: Junior | F1: Total Members | G1: Goal | H1: % of Goal | I1: PUFL
A3: 2 | B3: Peoria | D3: ='Unit Totals'!D5 -> 22 | E3: ='Unit Totals'!E5 -> 4 | F3: =SUM(D3:E3) -> 26 | G3: ='Unit Totals'!G5+2 -> 55 | H3: =F3/G3 -> 0.47272727 | I3: ='Unit Totals'!H5 -> 8
A4: 8 | B4: Wenona | D4: ='Unit Totals'!D9 -> 1 | E4: ='Unit Totals'!E9 -> 0 | F4: =SUM(D4:E4) -> 1 | G4: ='Unit Totals'!G9+2 -> 31 | H4: =F4/G4 -> 0.032258065 | I4: ='Unit Totals'!H9 -> 1
A5: 9 | B5: Chillicothe | D5: ='Unit Totals'!D10 -> 18 | E5: ='Unit Totals'!E10 -> 0 | F5: =SUM(D5:E5) -> 18 | G5: ='Unit Totals'!G10+2 -> 33 | H5: =F5/G5 -> 0.54545455 | I5: ='Unit Totals'!H10 -> 4
A6: 35 | B6: Glasford | D6: ='Unit Totals'!D26 -> 1 | E6: ='Unit Totals'!E26 -> 0 | F6: =SUM(D6:E6) -> 1 | G6: ='Unit Totals'!G26+2 -> 11 | H6: =F6/G6 -> 0.090909091 | I6: ='Unit Totals'!H26 -> 1
A7: 44 | B7: Pekin | D7: ='Unit Totals'!D30 -> 9 | E7: ='Unit Totals'!E30 -> 0 | F7: =SUM(D7:E7) -> 9 | G7: ='Unit Totals'!G30+2 -> 46 | H7: =F7/G7 -> 0.19565217 | I7: ='Unit Totals'!H30 -> 7
A8: 91 | B8: Wyoming | D8: ='Unit Totals'!D54 -> 33 | E8: ='Unit Totals'!E54 -> 11 | F8: =SUM(D8:E8) -> 44 | G8: ='Unit Totals'!G54+2 -> 102 | H8: =F8/G8 -> 0.43137255 | I8: ='Unit Totals'!H54 -> 0
A9: 100 | B9: Washington | D9: ='Unit Totals'!D58 -> 11 | E9: ='Unit Totals'!E58 -> 0 | F9: =SUM(D9:E9) -> 11 | G9: ='Unit Totals'!G58+2 -> 24 | H9: =F9/G9 -> 0.45833333 | I9: ='Unit Totals'!H58 -> 0
A10: 125 | B10: Princeton | D10: ='Unit Totals'!D68 -> 29 | E10: ='Unit Totals'!E68 -> 1 | F10: =SUM(D10:E10) -> 30 | G10: ='Unit Totals'!G68+2 -> 33 | H10: =F10/G10 -> 0.90909091 | I10: ='Unit Totals'!H68 -> 1
A11: 254 | B11: Magnolia | D11: ='Unit Totals'!D116 -> 25 | E11: ='Unit Totals'!E116 -> 1 | F11: =SUM(D11:E11) -> 26 | G11: ='Unit Totals'!G116+2 -> 31 | H11: =F11/G11 -> 0.83870968 | I11: ='Unit Totals'!H116 -> 4
A12: 318 | B12: Morton | D12: ='Unit Totals'!D142 -> 1 | E12: ='Unit Totals'!E142 -> 0 | F12: =SUM(D12:E12) -> 1 | G12: ='Unit Totals'!G142+2 -> 31 | H12: =F12/G12 -> 0.032258065 | I12: ='Unit Totals'!H142 -> 0
A13: 323 | B13: Henry | D13: ='Unit Totals'!D144 -> 3 | E13: ='Unit Totals'!E144 -> 0 | F13: =SUM(D13:E13) -> 3 | G13: ='Unit Totals'!G144+2 -> 51 | H13: =F13/G13 -> 0.058823529 | I13: ='Unit Totals'!H144 -> 2
A14: 382 | B14: Delavan | D14: ='Unit Totals'!D165 -> 9 | E14: ='Unit Totals'!E165 -> 0 | F14: =SUM(D14:E14) -> 9 | G14: ='Unit Totals'!G165+2 -> 39 | H14: =F14/G14 -> 0.23076923 | I14: ='Unit Totals'!H165 -> 4
A15: 416 | B15: Toulon | D15: ='Unit Totals'!D177 -> 10 | E15: ='Unit Totals'!E177 -> 0 | F15: =SUM(D15:E15) -> 10 | G15: ='Unit Totals'!G177+2 -> 31 | H15: =F15/G15 -> 0.32258065 | I15: ='Unit Totals'!H177 -> 1
A16: 445 | B16: Bradford | D16: ='Unit Totals'!D186 -> 18 | E16: ='Unit Totals'!E186 -> 2 | F16: =SUM(D16:E16) -> 20 | G16: ='Unit Totals'!G186+2 -> 54 | H16: =F16/G16 -> 0.37037037 | I16: ='Unit Totals'!H186 -> 1
A17: 452 | B17: Brimfield | D17: ='Unit Totals'!D190 -> 2 | E17: ='Unit Totals'!E190 -> 0 | F17: =SUM(D17:E17) -> 2 | G17: ='Unit Totals'!G190+2 -> 42 | H17: =F17/G17 -> 0.047619048 | I17: ='Unit Totals'!H190 -> 0
A18: 913 | B18: Armington | D18: ='Unit Totals'!D320 -> 16 | E18: ='Unit Totals'!E320 -> 0 | F18: =SUM(D18:E18) -> 16 | G18: ='Unit Totals'!G320+2 -> 21 | H18: =F18/G18 -> 0.76190476 | I18: ='Unit Totals'!H320 -> 3
A19: 938 | B19: Ladd | D19: ='Unit Totals'!D328 -> 15 | E19: ='Unit Totals'!E328 -> 0 | F19: =SUM(D19:E19) -> 15 | G19: ='Unit Totals'!G328+2 -> 35 | H19: =F19/G19 -> 0.42857143 | I19: ='Unit Totals'!H328 -> 0
A20: 979 | B20: Bartonville | D20: ='Unit Totals'!D334 -> 7 | E20: ='Unit Totals'!E334 -> 0 | F20: =SUM(D20:E20) -> 7 | G20: ='Unit Totals'!G334+2 -> 205 | H20: =F20/G20 -> 0.034146341 | I20: ='Unit Totals'!H334 -> 4
A21: 983 | B21: East Peoria | D21: ='Unit Totals'!D335 -> 4 | E21: ='Unit Totals'!E335 -> 0 | F21: =SUM(D21:E21) -> 4 | G21: ='Unit Totals'!G335+2 -> 11 | H21: =F21/G21 -> 0.36363636 | I21: ='Unit Totals'!H335 -> 1
A22: 1044 | B22: Hennepin | D22: ='Unit Totals'!D345 -> 1 | E22: ='Unit Totals'!E345 -> 0 | F22: =SUM(D22:E22) -> 1 | G22: ='Unit Totals'!G345+2 -> 18 | H22: =F22/G22 -> 0.055555556 | I22: ='Unit Totals'!H345 -> 1
A23: 1078 | B23: Dunlap | D23: ='Unit Totals'!D348 -> 1 | E23: ='Unit Totals'!E348 -> 0 | F23: =SUM(D23:E23) -> 1 | G23: ='Unit Totals'!G348+2 -> 33 | H23: =F23/G23 -> 0.03030303 | I23: ='Unit Totals'!H348 -> 0
A24: 1236 | B24: Tremont | D24: ='Unit Totals'!D379 -> 1 | E24: ='Unit Totals'!E379 -> 0 | F24: =SUM(D24:E24) -> 1 | G24: ='Unit Totals'!G379+2 -> 20 | H24: =F24/G24 -> 0.05 | I24: ='Unit Totals'!H379 -> 0
A25: 1242 | B25: McNabb | D25: ='Unit Totals'!D381 -> 6 | E25: ='Unit Totals'!E381 -> 1 | F25: =SUM(D25:E25) -> 7 | G25: ='Unit Totals'!G381+2 -> 14 | H25: =F25/G25 -> 0.5 | I25: ='Unit Totals'!H381 -> 0
A26: 1276 | B26: Deer Creek | C26: 44855 | D26: ='Unit Totals'!D385 -> 54 | E26: ='Unit Totals'!E385 -> 5 | F26: =SUM(D26:E26) -> 59 | G26: ='Unit Totals'!G385+2 -> 56 | H26: =F26/G26 -> 1.0535714 | I26: ='Unit Totals'!H385 -> 5
A28: =COUNT(A3:A27) -> 24 | B28: TOTALS | D28: =SUM(D3:D26) -> 297 | E28: =SUM(E3:E26) -> 25 | F28: =SUM(F3:F26) -> 322 | G28: =SUM(G3:G27) -> 1027 | H28: =F28/G28 -> 0.31353457 | I28: =SUM(I3:I27) -> 48
B32: Goal Units: | C32: =COUNTIFS(C3:C26,">=8/1/2026",C3:C26,"<=7/31/2027") -> 1

Sheet Dist 17
A1: Unit # | B1: Unit Name | C1: Date Reached Goal | D1: Senior | E1: Junior | F1: Total Members | G1: Goal | H1: % of Goal | I1: PUFL
A3: 79 | B3: LeRoy | D3: ='Unit Totals'!D45 -> 33 | E3: ='Unit Totals'!E45 -> 2 | F3: =SUM(D3:E3) -> 35 | G3: ='Unit Totals'!G45+2 -> 55 | H3: =F3/G3 -> 0.63636364 | I3: ='Unit Totals'!H45 -> 2
A4: 89 | B4: Metamora | D4: ='Unit Totals'!D52 -> 2 | E4: ='Unit Totals'!E52 -> 0 | F4: =SUM(D4:E4) -> 2 | G4: ='Unit Totals'!G52+2 -> 41 | H4: =F4/G4 -> 0.048780488 | I4: ='Unit Totals'!H52 -> 2
A5: 122 | B5: Cullom | D5: ='Unit Totals'!D67 -> 21 | E5: ='Unit Totals'!E67 -> 2 | F5: =SUM(D5:E5) -> 23 | G5: ='Unit Totals'!G67+2 -> 100 | H5: =F5/G5 -> 0.23 | I5: ='Unit Totals'!H67 -> 7
A6: 150 | B6: Paxton | D6: ='Unit Totals'!D81 -> 5 | E6: ='Unit Totals'!E81 -> 0 | F6: =SUM(D6:E6) -> 5 | G6: ='Unit Totals'!G81+2 -> 23 | H6: =F6/G6 -> 0.2173913 | I6: ='Unit Totals'!H81 -> 5
A7: 174 | B7: Forrest | D7: ='Unit Totals'!D87 -> 6 | E7: ='Unit Totals'!E87 -> 0 | F7: =SUM(D7:E7) -> 6 | G7: ='Unit Totals'!G87+2 -> 36 | H7: =F7/G7 -> 0.16666667 | I7: ='Unit Totals'!H87 -> 6
A8: 244 | B8: Sibley | D8: ='Unit Totals'!D111 -> 0 | E8: ='Unit Totals'!E111 -> 0 | F8: =SUM(D8:E8) -> 0 | G8: ='Unit Totals'!G111+2 -> 17 | H8: =F8/G8 -> 0 | I8: ='Unit Totals'!H111 -> 0
A9: 263 | B9: Lincoln | D9: ='Unit Totals'!D122 -> 50 | E9: ='Unit Totals'!E122 -> 0 | F9: =SUM(D9:E9) -> 50 | G9: ='Unit Totals'!G122+2 -> 81 | H9: =F9/G9 -> 0.61728395 | I9: ='Unit Totals'!H122 -> 9
A10: 341 | B10: Atlanta | D10: ='Unit Totals'!D151 -> 0 | E10: ='Unit Totals'!E151 -> 0 | F10: =SUM(D10:E10) -> 0 | G10: ='Unit Totals'!G151+2 -> 19 | H10: =F10/G10 -> 0 | I10: ='Unit Totals'!H151 -> 0
A11: 427 | B11: Saybrook | D11: ='Unit Totals'!D180 -> 4 | E11: ='Unit Totals'!E180 -> 0 | F11: =SUM(D11:E11) -> 4 | G11: ='Unit Totals'!G180+2 -> 36 | H11: =F11/G11 -> 0.11111111 | I11: ='Unit Totals'!H180 -> 2
A12: 447 | B12: Mount Pulaski | D12: ='Unit Totals'!D188 -> 3 | E12: ='Unit Totals'!E188 -> 0 | F12: =SUM(D12:E12) -> 3 | G12: ='Unit Totals'!G188+2 -> 28 | H12: =F12/G12 -> 0.10714286 | I12: ='Unit Totals'!H188 -> 1
A13: 451 | B13: Emington | D13: ='Unit Totals'!D189 -> 17 | E13: ='Unit Totals'!E189 -> 0 | F13: =SUM(D13:E13) -> 17 | G13: ='Unit Totals'!G189+2 -> 19 | H13: =F13/G13 -> 0.89473684 | I13: ='Unit Totals'!H189 -> 0
A14: 454 | B14: Benson | D14: ='Unit Totals'!D192 -> 2 | E14: ='Unit Totals'!E192 -> 0 | F14: =SUM(D14:E14) -> 2 | G14: ='Unit Totals'!G192+2 -> 22 | H14: =F14/G14 -> 0.090909091 | I14: ='Unit Totals'!H192 -> 0
A15: 456 | B15: Flanagan | D15: ='Unit Totals'!D193 -> 26 | E15: ='Unit Totals'!E193 -> 0 | F15: =SUM(D15:E15) -> 26 | G15: ='Unit Totals'!G193+2 -> 54 | H15: =F15/G15 -> 0.48148148 | I15: ='Unit Totals'!H193 -> 0
A16: 466 | B16: Eureka | D16: ='Unit Totals'!D198 -> 7 | E16: ='Unit Totals'!E198 -> 0 | F16: =SUM(D16:E16) -> 7 | G16: ='Unit Totals'!G198+2 -> 23 | H16: =F16/G16 -> 0.30434783 | I16: ='Unit Totals'!H198 -> 6
A17: 506 | B17: Emden | D17: ='Unit Totals'!D209 -> 4 | E17: ='Unit Totals'!E209 -> 0 | F17: =SUM(D17:E17) -> 4 | G17: ='Unit Totals'!G209+2 -> 83 | H17: =F17/G17 -> 0.048192771 | I17: ='Unit Totals'!H209 -> 0
A18: 531 | B18: Saunemin | D18: ='Unit Totals'!D215 -> 3 | E18: ='Unit Totals'!E215 -> 0 | F18: =SUM(D18:E18) -> 3 | G18: ='Unit Totals'!G215+2 -> 38 | H18: =F18/G18 -> 0.078947368 | I18: ='Unit Totals'!H215 -> 1
A19: 568 | B19: Gibson City | D19: ='Unit Totals'!D227 -> 3 | E19: ='Unit Totals'!E227 -> 0 | F19: =SUM(D19:E19) -> 3 | G19: ='Unit Totals'!G227+2 -> 39 | H19: =F19/G19 -> 0.076923077 | I19: ='Unit Totals'!H227 -> 1
A20: 573 | B20: McLean | D20: ='Unit Totals'!D230 -> 1 | E20: ='Unit Totals'!E230 -> 0 | F20: =SUM(D20:E20) -> 1 | G20: ='Unit Totals'!G230+2 -> 27 | H20: =F20/G20 -> 0.037037037 | I20: ='Unit Totals'!H230 -> 0
A21: 588 | B21: Piper City | D21: ='Unit Totals'!D236 -> 0 | E21: ='Unit Totals'!E236 -> 0 | F21: =SUM(D21:E21) -> 0 | G21: ='Unit Totals'!G236+2 -> 23 | H21: =F21/G21 -> 0 | I21: ='Unit Totals'!H236 -> 0
A22: 613 | B22: Chatsworth | D22: ='Unit Totals'!D241 -> 21 | E22: ='Unit Totals'!E241 -> 0 | F22: =SUM(D22:E22) -> 21 | G22: ='Unit Totals'!G241+2 -> 72 | H22: =F22/G22 -> 0.29166667 | I22: ='Unit Totals'!H241 -> 9
A23: 617 | B23: Arrowsmith | D23: ='Unit Totals'!D244 -> 1 | E23: ='Unit Totals'!E244 -> 0 | F23: =SUM(D23:E23) -> 1 | G23: ='Unit Totals'!G244+2 -> 34 | H23: =F23/G23 -> 0.029411765 | I23: ='Unit Totals'!H244 -> 1
A24: 624 | B24: Heyworth | D24: ='Unit Totals'!D248 -> 3 | E24: ='Unit Totals'!E248 -> 0 | F24: =SUM(D24:E24) -> 3 | G24: ='Unit Totals'!G248+2 -> 49 | H24: =F24/G24 -> 0.06122449 | I24: ='Unit Totals'!H248 -> 2
A25: 635 | B25: Normal | D25: ='Unit Totals'!D253 -> 4 | E25: ='Unit Totals'!E253 -> 0 | F25: =SUM(D25:E25) -> 4 | G25: ='Unit Totals'!G253+2 -> 26 | H25: =F25/G25 -> 0.15384615 | I25: ='Unit Totals'!H253 -> 2
A26: 641 | B26: Roberts | D26: ='Unit Totals'!D255 -> 2 | E26: ='Unit Totals'!E255 -> 0 | F26: =SUM(D26:E26) -> 2 | G26: ='Unit Totals'!G255+2 -> 30 | H26: =F26/G26 -> 0.066666667 | I26: ='Unit Totals'!H255 -> 2
A27: 661 | B27: Washburn | D27: ='Unit Totals'!D263 -> 8 | E27: ='Unit Totals'!E263 -> 0 | F27: =SUM(D27:E27) -> 8 | G27: ='Unit Totals'!G263+2 -> 68 | H27: =F27/G27 -> 0.11764706 | I27: ='Unit Totals'!H263 -> 7
A28: 715 | B28: New Holland | D28: ='Unit Totals'!D284 -> 0 | E28: ='Unit Totals'!E284 -> 0 | F28: =SUM(D28:E28) -> 0 | G28: ='Unit Totals'!G284+2 -> 14 | H28: =F28/G28 -> 0 | I28: ='Unit Totals'!H284 -> 0
A29: 737 | B29: Kempton | D29: ='Unit Totals'!D289 -> 0 | E29: ='Unit Totals'!E289 -> 0 | F29: =SUM(D29:E29) -> 0 | G29: ='Unit Totals'!G289+2 -> 13 | H29: =F29/G29 -> 0 | I29: ='Unit Totals'!H289 -> 0
A30: 752 | B30: Cornell | D30: ='Unit Totals'!D294 -> 0 | E30: ='Unit Totals'!E294 -> 0 | F30: =SUM(D30:E30) -> 0 | G30: ='Unit Totals'!G294+2 -> 23 | H30: =F30/G30 -> 0 | I30: ='Unit Totals'!H294 -> 0
A31: 931 | B31: Towanda | D31: ='Unit Totals'!D324 -> 0 | E31: ='Unit Totals'!E324 -> 0 | F31: =SUM(D31:E31) -> 0 | G31: ='Unit Totals'!G324+2 -> 21 | H31: =F31/G31 -> 0 | I31: ='Unit Totals'!H324 -> 0
A32: 1115 | B32: Spring Bay | D32: ='Unit Totals'!D353 -> 20 | E32: ='Unit Totals'!E353 -> 0 | F32: =SUM(D32:E32) -> 20 | G32: ='Unit Totals'!G353+2 -> 51 | H32: =F32/G32 -> 0.39215686 | I32: ='Unit Totals'!H353 -> 2
A33: 1217 | B33: Long Point | D33: ='Unit Totals'!D374 -> 33 | E33: ='Unit Totals'!E374 -> 1 | F33: =SUM(D33:E33) -> 34 | G33: ='Unit Totals'!G374+2 -> 62 | H33: =F33/G33 -> 0.5483871 | I33: ='Unit Totals'!H374 -> 1
A34: 1244 | B34: Ellsworth | D34: ='Unit Totals'!D382 -> 11 | E34: ='Unit Totals'!E382 -> 0 | F34: =SUM(D34:E34) -> 11 | G34: ='Unit Totals'!G382+2 -> 20 | H34: =F34/G34 -> 0.55 | I34: ='Unit Totals'!H382 -> 0
A36: =COUNT(A3:A35) -> 32 | B36: TOTALS | D36: =SUM(D3:D34) -> 290 | E36: =SUM(E3:E34) -> 5 | F36: =SUM(F3:F34) -> 295 | G36: =SUM(G3:G35) -> 1247 | H36: =F36/G36 -> 0.23656776 | I36: =SUM(I3:I35) -> 68
B39: Goal Units: | C39: =COUNTIFS(C3:C34,">=8/1/2026",C3:C34,"<=7/31/2027") -> 0

Sheet Dist 18
A1: Unit # | B1: Unit Name | C1: Date Reached Goal | D1: Senior | E1: Junior | F1: Total Members | G1: Goal | H1: % of Goal | I1: PUFL
A3: 23 | B3: Watseka | D3: ='Unit Totals'!D18 -> 8 | E3: ='Unit Totals'!E18 -> 0 | F3: =SUM(D3:E3) -> 8 | G3: ='Unit Totals'!G18+2 -> 13 | H3: =F3/G3 -> 0.61538462 | I3: ='Unit Totals'!H18 -> 8
A4: 51 | B4: Westville | D4: ='Unit Totals'!D32 -> 17 | E4: ='Unit Totals'!E32 -> 1 | F4: =SUM(D4:E4) -> 18 | G4: ='Unit Totals'!G32+2 -> 61 | H4: =F4/G4 -> 0.29508197 | I4: ='Unit Totals'!H32 -> 5
A5: 90 | B5: Marshall | D5: ='Unit Totals'!D53 -> 25 | E5: ='Unit Totals'!E53 -> 4 | F5: =SUM(D5:E5) -> 29 | G5: ='Unit Totals'!G53+2 -> 93 | H5: =F5/G5 -> 0.31182796 | I5: ='Unit Totals'!H53 -> 6
A6: 203 | B6: Georgetown | D6: ='Unit Totals'!D98 -> 2 | E6: ='Unit Totals'!E98 -> 0 | F6: =SUM(D6:E6) -> 2 | G6: ='Unit Totals'!G98+2 -> 33 | H6: =F6/G6 -> 0.060606061 | I6: ='Unit Totals'!H98 -> 2
A7: 210 | B7: Danville | D7: ='Unit Totals'!D101 -> 22 | E7: ='Unit Totals'!E101 -> 1 | F7: =SUM(D7:E7) -> 23 | G7: ='Unit Totals'!G101+2 -> 61 | H7: =F7/G7 -> 0.37704918 | I7: ='Unit Totals'!H101 -> 0
A8: 211 | B8: Paris | D8: ='Unit Totals'!D102 -> 50 | E8: ='Unit Totals'!E102 -> 1 | F8: =SUM(D8:E8) -> 51 | G8: ='Unit Totals'!G102+2 -> 99 | H8: =F8/G8 -> 0.51515152 | I8: ='Unit Totals'!H102 -> 11
A9: 367 | B9: Danforth | D9: ='Unit Totals'!D159 -> 25 | E9: ='Unit Totals'!E159 -> 1 | F9: =SUM(D9:E9) -> 26 | G9: ='Unit Totals'!G159+2 -> 30 | H9: =F9/G9 -> 0.86666667 | I9: ='Unit Totals'!H159 -> 0
A10: 369 | B10: Hume | D10: ='Unit Totals'!D160 -> 17 | E10: ='Unit Totals'!E160 -> 0 | F10: =SUM(D10:E10) -> 17 | G10: ='Unit Totals'!G160+2 -> 33 | H10: =F10/G10 -> 0.51515152 | I10: ='Unit Totals'!H160 -> 0
A11: 384 | B11: Hoopeston | D11: ='Unit Totals'!D166 -> 15 | E11: ='Unit Totals'!E166 -> 2 | F11: =SUM(D11:E11) -> 17 | G11: ='Unit Totals'!G166+2 -> 69 | H11: =F11/G11 -> 0.24637681 | I11: ='Unit Totals'!H166 -> 2
A12: 408 | B12: Chebanse | D12: ='Unit Totals'!D175 -> 0 | E12: ='Unit Totals'!E175 -> 0 | F12: =SUM(D12:E12) -> 0 | G12: ='Unit Totals'!G175+2 -> 34 | H12: =F12/G12 -> 0 | I12: ='Unit Totals'!H175 -> 0
A13: 432 | B13: Buckley | D13: ='Unit Totals'!D182 -> 9 | E13: ='Unit Totals'!E182 -> 0 | F13: =SUM(D13:E13) -> 9 | G13: ='Unit Totals'!G182+2 -> 23 | H13: =F13/G13 -> 0.39130435 | I13: ='Unit Totals'!H182 -> 9
A14: 477 | B14: Chrisman | D14: ='Unit Totals'!D200 -> 3 | E14: ='Unit Totals'!E200 -> 0 | F14: =SUM(D14:E14) -> 3 | G14: ='Unit Totals'!G200+2 -> 72 | H14: =F14/G14 -> 0.041666667 | I14: ='Unit Totals'!H200 -> 0
A15: 499 | B15: Gilman | D15: ='Unit Totals'!D207 -> 1 | E15: ='Unit Totals'!E207 -> 0 | F15: =SUM(D15:E15) -> 1 | G15: ='Unit Totals'!G207+2 -> 43 | H15: =F15/G15 -> 0.023255814 | I15: ='Unit Totals'!H207 -> 1
A16: 503 | B16: Loda | D16: ='Unit Totals'!D208 -> 1 | E16: ='Unit Totals'!E208 -> 0 | F16: =SUM(D16:E16) -> 1 | G16: ='Unit Totals'!G208+2 -> 54 | H16: =F16/G16 -> 0.018518519 | I16: ='Unit Totals'!H208 -> 1
A17: 515 | B17: Martinsville | D17: ='Unit Totals'!D211 -> 1 | E17: ='Unit Totals'!E211 -> 0 | F17: =SUM(D17:E17) -> 1 | G17: ='Unit Totals'!G211+2 -> 35 | H17: =F17/G17 -> 0.028571429 | I17: ='Unit Totals'!H211 -> 0
A18: 527 | B18: Cissna Park | D18: ='Unit Totals'!D213 -> 2 | E18: ='Unit Totals'!E213 -> 0 | F18: =SUM(D18:E18) -> 2 | G18: ='Unit Totals'!G213+2 -> 38 | H18: =F18/G18 -> 0.052631579 | I18: ='Unit Totals'!H213 -> 1
A19: 551 | B19: Onarga | D19: ='Unit Totals'!D221 -> 31 | E19: ='Unit Totals'!E221 -> 3 | F19: =SUM(D19:E19) -> 34 | G19: ='Unit Totals'!G221+2 -> 50 | H19: =F19/G19 -> 0.68 | I19: 0
A20: 566 | B20: Greenup | D20: ='Unit Totals'!D226 -> 1 | E20: ='Unit Totals'!E226 -> 0 | F20: =SUM(D20:E20) -> 1 | G20: ='Unit Totals'!G226+2 -> 40 | H20: =F20/G20 -> 0.025 | I20: ='Unit Totals'!H226 -> 1
A21: 643 | B21: Ashkum | D21: ='Unit Totals'!D256 -> 0 | E21: ='Unit Totals'!E256 -> 0 | F21: =SUM(D21:E21) -> 0 | G21: ='Unit Totals'!G256+2 -> 34 | H21: =F21/G21 -> 0 | I21: ='Unit Totals'!H256 -> 0
A22: 700 | B22: Thawville | D22: ='Unit Totals'!D279 -> 2 | E22: ='Unit Totals'!E279 -> 0 | F22: =SUM(D22:E22) -> 2 | G22: ='Unit Totals'!G279+2 -> 18 | H22: =F22/G22 -> 0.11111111 | I22: ='Unit Totals'!H279 -> 0
A23: 755 | B23: Manteno | D23: ='Unit Totals'!D295 -> 7 | E23: ='Unit Totals'!E295 -> 0 | F23: =SUM(D23:E23) -> 7 | G23: ='Unit Totals'!G295+2 -> 71 | H23: =F23/G23 -> 0.098591549 | I23: ='Unit Totals'!H295 -> 2
A24: 764 | B24: Toledo | D24: ='Unit Totals'!D297 -> 20 | E24: ='Unit Totals'!E297 -> 0 | F24: =SUM(D24:E24) -> 20 | G24: ='Unit Totals'!G297+2 -> 54 | H24: =F24/G24 -> 0.37037037 | I24: ='Unit Totals'!H297 -> 18
A25: 766 | B25: Bradley | D25: ='Unit Totals'!D299 -> 1 | E25: ='Unit Totals'!E299 -> 0 | F25: =SUM(D25:E25) -> 1 | G25: ='Unit Totals'!G299+2 -> 24 | H25: =F25/G25 -> 0.041666667 | I25: ='Unit Totals'!H299 -> 1
A26: 776 | B26: Catlin | D26: ='Unit Totals'!D302 -> 0 | E26: ='Unit Totals'!E302 -> 0 | F26: =SUM(D26:E26) -> 0 | G26: ='Unit Totals'!G302+2 -> 18 | H26: =F26/G26 -> 0 | I26: ='Unit Totals'!H302 -> 0
A27: 795 | B27: Herscher | D27: ='Unit Totals'!D305 -> 11 | E27: ='Unit Totals'!E305 -> 0 | F27: =SUM(D27:E27) -> 11 | G27: ='Unit Totals'!G305+2 -> 38 | H27: =F27/G27 -> 0.28947368 | I27: ='Unit Totals'!H305 -> 1
A28: 977 | B28: Brocton | D28: ='Unit Totals'!D333 -> 2 | E28: ='Unit Totals'!E333 -> 0 | F28: =SUM(D28:E28) -> 2 | G28: ='Unit Totals'!G333+2 -> 19 | H28: =F28/G28 -> 0.10526316 | I28: ='Unit Totals'!H333 -> 2
A29: 1019 | B29: Aroma Park | D29: ='Unit Totals'!D341 -> 15 | E29: ='Unit Totals'!E341 -> 0 | F29: =SUM(D29:E29) -> 15 | G29: ='Unit Totals'!G341+2 -> 48 | H29: =F29/G29 -> 0.3125 | I29: ='Unit Totals'!H341 -> 0
A31: =COUNT(A3:A30) -> 27 | B31: TOTALS | D31: =SUM(D3:D29) -> 288 | E31: =SUM(E3:E29) -> 13 | F31: =SUM(F3:F29) -> 301 | G31: =SUM(G3:G30) -> 1205 | H31: =F31/G31 -> 0.24979253 | I31: =SUM(I3:I30) -> 71
B35: Goal Units: | C35: =COUNTIFS(C3:C29,">=8/1/2026",C3:C29,"<=7/31/2027") -> 0

Sheet Dist 19
A1: Unit # | B1: Unit Name | C1: Date Reached Goal | D1: Senior | E1: Junior | F1: Total Members | G1: Goal | H1: % of Goal | I1: PUFL
A3: 24 | B3: Champaign | D3: ='Unit Totals'!D19 -> 27 | E3: ='Unit Totals'!E19 -> 5 | F3: =SUM(D3:E3) -> 32 | G3: ='Unit Totals'!G19+2 -> 93 | H3: =F3/G3 -> 0.34408602 | I3: ='Unit Totals'!H19 -> 1
A4: 27 | B4: Tuscola | D4: ='Unit Totals'!D21 -> 0 | E4: ='Unit Totals'!E21 -> 0 | F4: =SUM(D4:E4) -> 0 | G4: ='Unit Totals'!G21+2 -> 11 | H4: =F4/G4 -> 0 | I4: ='Unit Totals'!H21 -> 0
A5: 55 | B5: Farmer City | D5: ='Unit Totals'!D34 -> 14 | E5: ='Unit Totals'!E34 -> 0 | F5: =SUM(D5:E5) -> 14 | G5: ='Unit Totals'!G34+2 -> 131 | H5: =F5/G5 -> 0.10687023 | I5: ='Unit Totals'!H34 -> 13
A6: 68 | B6: Sullivan | D6: ='Unit Totals'!D37 -> 52 | E6: ='Unit Totals'!E37 -> 4 | F6: =SUM(D6:E6) -> 56 | G6: ='Unit Totals'!G37+2 -> 84 | H6: =F6/G6 -> 0.66666667 | I6: ='Unit Totals'!H37 -> 6
A7: 71 | B7: Urbana | D7: ='Unit Totals'!D39 -> 91 | E7: ='Unit Totals'!E39 -> 2 | F7: =SUM(D7:E7) -> 93 | G7: ='Unit Totals'!G39+2 -> 182 | H7: =F7/G7 -> 0.51098901 | I7: ='Unit Totals'!H39 -> 32
A8: 72 | B8: Macon | D8: ='Unit Totals'!D40 -> 0 | E8: ='Unit Totals'!E40 -> 0 | F8: =SUM(D8:E8) -> 0 | G8: ='Unit Totals'!G40+2 -> 25 | H8: =F8/G8 -> 0 | I8: ='Unit Totals'!H40 -> 0
A9: 81 | B9: Shelbyville | D9: ='Unit Totals'!D47 -> 5 | E9: ='Unit Totals'!E47 -> 0 | F9: =SUM(D9:E9) -> 5 | G9: ='Unit Totals'!G47+2 -> 24 | H9: =F9/G9 -> 0.20833333 | I9: ='Unit Totals'!H47 -> 3
A10: 88 | B10: Mattoon | D10: ='Unit Totals'!D51 -> 8 | E10: ='Unit Totals'!E51 -> 0 | F10: =SUM(D10:E10) -> 8 | G10: ='Unit Totals'!G51+2 -> 108 | H10: =F10/G10 -> 0.074074074 | I10: ='Unit Totals'!H51 -> 7
A11: 102 | B11: Deland | D11: ='Unit Totals'!D59 -> 5 | E11: ='Unit Totals'!E59 -> 0 | F11: =SUM(D11:E11) -> 5 | G11: ='Unit Totals'!G59+2 -> 52 | H11: =F11/G11 -> 0.096153846 | I11: ='Unit Totals'!H59 -> 2
A12: 103 | B12: Clinton | D12: ='Unit Totals'!D60 -> 0 | E12: ='Unit Totals'!E60 -> 0 | F12: =SUM(D12:E12) -> 0 | G12: ='Unit Totals'!G60+2 -> 39 | H12: =F12/G12 -> 0 | I12: ='Unit Totals'!H60 -> 0
A13: 105 | B13: Decatur | D13: ='Unit Totals'!D61 -> 17 | E13: ='Unit Totals'!E61 -> 2 | F13: =SUM(D13:E13) -> 19 | G13: ='Unit Totals'!G61+2 -> 39 | H13: =F13/G13 -> 0.48717949 | I13: ='Unit Totals'!H61 -> 3
A14: 117 | B14: Cerro Gordo | D14: ='Unit Totals'!D64 -> 2 | E14: ='Unit Totals'!E64 -> 0 | F14: =SUM(D14:E14) -> 2 | G14: ='Unit Totals'!G64+2 -> 95 | H14: =F14/G14 -> 0.021052632 | I14: ='Unit Totals'!H64 -> 0
A15: 287 | B15: Rantoul | D15: ='Unit Totals'!D131 -> 45 | E15: ='Unit Totals'!E131 -> 14 | F15: =SUM(D15:E15) -> 59 | G15: ='Unit Totals'!G131+2 -> 92 | H15: =F15/G15 -> 0.64130435 | I15: ='Unit Totals'!H131 -> 20
A16: 289 | B16: Strasburg | D16: ='Unit Totals'!D132 -> 59 | E16: ='Unit Totals'!E132 -> 21 | F16: =SUM(D16:E16) -> 80 | G16: ='Unit Totals'!G132+2 -> 126 | H16: =F16/G16 -> 0.63492063 | I16: ='Unit Totals'!H132 -> 2
A17: 290 | B17: Homer | D17: ='Unit Totals'!D133 -> 0 | E17: ='Unit Totals'!E133 -> 0 | F17: =SUM(D17:E17) -> 0 | G17: ='Unit Totals'!G133+2 -> 48 | H17: =F17/G17 -> 0 | I17: ='Unit Totals'!H133 -> 0
A18: 317 | B18: Oconee | D18: ='Unit Totals'!D141 -> 1 | E18: ='Unit Totals'!E141 -> 0 | F18: =SUM(D18:E18) -> 1 | G18: ='Unit Totals'!G141+2 -> 66 | H18: =F18/G18 -> 0.015151515 | I18: ='Unit Totals'!H141 -> 0
A19: 409 | B19: Findlay | D19: ='Unit Totals'!D176 -> 1 | E19: ='Unit Totals'!E176 -> 0 | F19: =SUM(D19:E19) -> 1 | G19: ='Unit Totals'!G176+2 -> 36 | H19: =F19/G19 -> 0.027777778 | I19: ='Unit Totals'!H176 -> 0
A20: 429 | B20: Lovington | D20: ='Unit Totals'!D181 -> 1 | E20: ='Unit Totals'!E181 -> 0 | F20: =SUM(D20:E20) -> 1 | G20: ='Unit Totals'!G181+2 -> 30 | H20: =F20/G20 -> 0.033333333 | I20: ='Unit Totals'!H181 -> 1
A21: 433 | B21: Sidney American Legion | D21: ='Unit Totals'!D183 -> 1 | E21: ='Unit Totals'!E183 -> 0 | F21: =SUM(D21:E21) -> 1 | G21: ='Unit Totals'!G183+2 -> 14 | H21: =F21/G21 -> 0.071428571 | I21: ='Unit Totals'!H183 -> 1
A22: 458 | B22: Neoga | D22: ='Unit Totals'!D194 -> 5 | E22: ='Unit Totals'!E194 -> 0 | F22: =SUM(D22:E22) -> 5 | G22: ='Unit Totals'!G194+2 -> 32 | H22: =F22/G22 -> 0.15625 | I22: ='Unit Totals'!H194 -> 0
A23: 479 | B23: Arthur | D23: ='Unit Totals'!D201 -> 3 | E23: ='Unit Totals'!E201 -> 0 | F23: =SUM(D23:E23) -> 3 | G23: ='Unit Totals'!G201+2 -> 34 | H23: =F23/G23 -> 0.088235294 | I23: ='Unit Totals'!H201 -> 3
A24: 559 | B24: Champaign | D24: ='Unit Totals'!D223 -> 8 | E24: ='Unit Totals'!E223 -> 0 | F24: =SUM(D24:E24) -> 8 | G24: ='Unit Totals'!G223+2 -> 49 | H24: =F24/G24 -> 0.16326531 | I24: ='Unit Totals'!H223 -> 2
A25: 611 | B25: Stewardson | C25: 44855 | D25: ='Unit Totals'!D240 -> 16 | E25: ='Unit Totals'!E240 -> 5 | F25: =SUM(D25:E25) -> 21 | G25: ='Unit Totals'!G240+2 -> 16 | H25: =F25/G25 -> 1.3125 | I25: ='Unit Totals'!H240 -> 1
A26: 620 | B26: Bement | D26: ='Unit Totals'!D245 -> 1 | E26: ='Unit Totals'!E245 -> 0 | F26: =SUM(D26:E26) -> 1 | G26: ='Unit Totals'!G245+2 -> 22 | H26: =F26/G26 -> 0.045454545 | I26: ='Unit Totals'!H245 -> 0
A27: 634 | B27: St Joseph | D27: ='Unit Totals'!D252 -> 1 | E27: ='Unit Totals'!E252 -> 0 | F27: =SUM(D27:E27) -> 1 | G27: ='Unit Totals'!G252+2 -> 24 | H27: =F27/G27 -> 0.041666667 | I27: ='Unit Totals'!H252 -> 1
A28: 650 | B28: Mansfield | D28: ='Unit Totals'!D261 -> 1 | E28: ='Unit Totals'!E261 -> 0 | F28: =SUM(D28:E28) -> 1 | G28: ='Unit Totals'!G261+2 -> 31 | H28: =F28/G28 -> 0.032258065 | I28: ='Unit Totals'!H261 -> 1
A29: 725 | B29: Windsor | D29: ='Unit Totals'!D287 -> 0 | E29: ='Unit Totals'!E287 -> 0 | F29: =SUM(D29:E29) -> 0 | G29: ='Unit Totals'!G287+2 -> 72 | H29: =F29/G29 -> 0 | I29: ='Unit Totals'!H287 -> 0
A30: 770 | B30: Atwood | D30: ='Unit Totals'!D300 -> 1 | E30: ='Unit Totals'!E300 -> 0 | F30: =SUM(D30:E30) -> 1 | G30: ='Unit Totals'!G300+2 -> 35 | H30: =F30/G30 -> 0.028571429 | I30: ='Unit Totals'!H300 -> 1
A31: 839 | B31: Herrick | D31: ='Unit Totals'!D311 -> 0 | E31: ='Unit Totals'!E311 -> 0 | F31: =SUM(D31:E31) -> 0 | G31: ='Unit Totals'!G311+2 -> 23 | H31: =F31/G31 -> 0 | I31: ='Unit Totals'!H311 -> 0
A32: 1153 | B32: Penfield-Gifford Memorial | D32: ='Unit Totals'!D359 -> 1 | E32: ='Unit Totals'!E359 -> 1 | F32: =SUM(D32:E32) -> 2 | G32: ='Unit Totals'!G359+2 -> 69 | H32: =F32/G32 -> 0.028985507 | I32: ='Unit Totals'!H359 -> 0
A33: 1181 | B33: Cisco | D33: ='Unit Totals'!D365 -> 1 | E33: ='Unit Totals'!E365 -> 0 | F33: =SUM(D33:E33) -> 1 | G33: ='Unit Totals'!G365+2 -> 19 | H33: =F33/G33 -> 0.052631579 | I33: ='Unit Totals'!H365 -> 0
A34: 1189 | B34: Waynesville | D34: ='Unit Totals'!D367 -> 0 | E34: ='Unit Totals'!E367 -> 0 | F34: =SUM(D34:E34) -> 0 | G34: ='Unit Totals'!G367+2 -> 36 | H34: =F34/G34 -> 0 | I34: ='Unit Totals'!H367 -> 0
A36: =COUNT(A3:A35) -> 32 | B36: TOTALS | D36: =SUM(D3:D34) -> 367 | E36: =SUM(E3:E34) -> 54 | F36: =SUM(F3:F34) -> 421 | G36: =SUM(G3:G35) -> 1757 | H36: =F36/G36 -> 0.23961298 | I36: =SUM(I3:I34) -> 100
B40: Goal Units: | C40: =COUNTIFS(C3:C34,">=8/1/2026",C3:C34,"<=7/31/2027") -> 1

Sheet Dist 20
A1: Unit # | B1: Unit Name | C1: Date Reached Goal | D1: Senior | E1: Junior | F1: Total Members | G1: Goal | H1: % of Goal | I1: PUFL
A3: 70 | B3: White Hall | D3: ='Unit Totals'!D38 -> 1 | E3: ='Unit Totals'!E38 -> 0 | F3: =SUM(D3:E3) -> 1 | G3: ='Unit Totals'!G38+2 -> 31 | H3: =F3/G3 -> 0.032258065 | I3: ='Unit Totals'!H38 -> 1
A4: 138 | B4: Havana | D4: ='Unit Totals'!D76 -> 9 | E4: ='Unit Totals'!E76 -> 0 | F4: =SUM(D4:E4) -> 9 | G4: ='Unit Totals'!G76+2 -> 21 | H4: =F4/G4 -> 0.42857143 | I4: ='Unit Totals'!H76 -> 0
A5: 152 | B5: Pittsfield | D5: ='Unit Totals'!D82 -> 0 | E5: ='Unit Totals'!E82 -> 0 | F5: =SUM(D5:E5) -> 0 | G5: ='Unit Totals'!G82+2 -> 39 | H5: =F5/G5 -> 0 | I5: ='Unit Totals'!H82 -> 0
A6: 222 | B6: Barry | D6: ='Unit Totals'!D104 -> 2 | E6: ='Unit Totals'!E104 -> 0 | F6: =SUM(D6:E6) -> 2 | G6: ='Unit Totals'!G104+2 -> 20 | H6: =F6/G6 -> 0.1 | I6: ='Unit Totals'!H104 -> 2
A7: 249 | B7: Woodson | D7: ='Unit Totals'!D112 -> 1 | E7: ='Unit Totals'!E112 -> 0 | F7: =SUM(D7:E7) -> 1 | G7: ='Unit Totals'!G112+2 -> 21 | H7: =F7/G7 -> 0.047619048 | I7: ='Unit Totals'!H112 -> 0
A8: 262 | B8: Waverly | D8: ='Unit Totals'!D121 -> 2 | E8: ='Unit Totals'!E121 -> 0 | F8: =SUM(D8:E8) -> 2 | G8: ='Unit Totals'!G121+2 -> 42 | H8: =F8/G8 -> 0.047619048 | I8: ='Unit Totals'!H121 -> 1
A9: 279 | B9: Jacksonville | D9: ='Unit Totals'!D126 -> 14 | E9: ='Unit Totals'!E126 -> 0 | F9: =SUM(D9:E9) -> 14 | G9: ='Unit Totals'!G126+2 -> 28 | H9: =F9/G9 -> 0.5 | I9: ='Unit Totals'!H126 -> 0
A10: 373 | B10: Roodhouse | D10: ='Unit Totals'!D162 -> 0 | E10: ='Unit Totals'!E162 -> 0 | F10: =SUM(D10:E10) -> 0 | G10: ='Unit Totals'!G162+2 -> 16 | H10: =F10/G10 -> 0 | I10: ='Unit Totals'!H162 -> 0
A11: 374 | B11: Mt Sterling | D11: ='Unit Totals'!D163 -> 0 | E11: ='Unit Totals'!E163 -> 0 | F11: =SUM(D11:E11) -> 0 | G11: ='Unit Totals'!G163+2 -> 89 | H11: =F11/G11 -> 0 | I11: ='Unit Totals'!H163 -> 0
A12: 492 | B12: Jerseyville | D12: ='Unit Totals'!D206 -> 14 | E12: ='Unit Totals'!E206 -> 0 | F12: =SUM(D12:E12) -> 14 | G12: ='Unit Totals'!G206+2 -> 29 | H12: =F12/G12 -> 0.48275862 | I12: ='Unit Totals'!H224 -> 0
A13: 561 | B13: Manito | D13: ='Unit Totals'!D224 -> 0 | E13: ='Unit Totals'!E224 -> 0 | F13: =SUM(D13:E13) -> 0 | G13: ='Unit Totals'!G224+2 -> 22 | H13: =F13/G13 -> 0 | I13: ='Unit Totals'!H207 -> 1
A14: 604 | B14: Arenzville | D14: ='Unit Totals'!D239 -> 1 | E14: ='Unit Totals'!E239 -> 0 | F14: =SUM(D14:E14) -> 1 | G14: ='Unit Totals'!G239+2 -> 34 | H14: =F14/G14 -> 0.029411765 | I14: ='Unit Totals'!H239 -> 1
A15: 632 | B15: Batchtown | D15: ='Unit Totals'!D251 -> 0 | E15: ='Unit Totals'!E251 -> 0 | F15: =SUM(D15:E15) -> 0 | G15: ='Unit Totals'!G251+2 -> 15 | H15: =F15/G15 -> 0 | I15: ='Unit Totals'!H251 -> 0
A16: 636 | B16: Hardin | D16: ='Unit Totals'!D254 -> 4 | E16: ='Unit Totals'!E254 -> 0 | F16: =SUM(D16:E16) -> 4 | G16: ='Unit Totals'!G254+2 -> 27 | H16: =F16/G16 -> 0.14814815 | I16: ='Unit Totals'!H254 -> 0
A17: 648 | B17: Grafton | D17: ='Unit Totals'!D260 -> 9 | E17: ='Unit Totals'!E260 -> 0 | F17: =SUM(D17:E17) -> 9 | G17: ='Unit Totals'!G260+2 -> 35 | H17: =F17/G17 -> 0.25714286 | I17: ='Unit Totals'!H260 -> 0
A18: 685 | B18: Brussels | D18: ='Unit Totals'!D272 -> 23 | E18: ='Unit Totals'!E272 -> 11 | F18: =SUM(D18:E18) -> 34 | G18: ='Unit Totals'!G272+2 -> 47 | H18: =F18/G18 -> 0.72340426 | I18: ='Unit Totals'!H272 -> 1
A19: 694 | B19: Chandlerville | D19: ='Unit Totals'!D276 -> 1 | E19: ='Unit Totals'!E276 -> 0 | F19: =SUM(D19:E19) -> 1 | G19: ='Unit Totals'!G276+2 -> 42 | H19: =F19/G19 -> 0.023809524 | I19: ='Unit Totals'!H276 -> 1
A20: 1038 | B20: Kane | D20: ='Unit Totals'!D344 -> 0 | E20: ='Unit Totals'!E344 -> 0 | F20: =SUM(D20:E20) -> 0 | G20: ='Unit Totals'!G344+2 -> 27 | H20: =F20/G20 -> 0 | I20: ='Unit Totals'!H344 -> 0
A21: 1083 | B21: Kampsville | D21: ='Unit Totals'!D350 -> 0 | E21: ='Unit Totals'!E350 -> 0 | F21: =SUM(D21:E21) -> 0 | G21: ='Unit Totals'!G350+2 -> 23 | H21: =F21/G21 -> 0 | I21: ='Unit Totals'!H350 -> 0
A22: 1135 | B22: Eldred | D22: ='Unit Totals'!D356 -> 0 | E22: ='Unit Totals'!E356 -> 0 | F22: =SUM(D22:E22) -> 0 | G22: ='Unit Totals'!G356+2 -> 43 | H22: =F22/G22 -> 0 | I22: ='Unit Totals'!H356 -> 0
A24: =COUNT(A3:A23) -> 20 | B24: TOTALS | D24: =SUM(D3:D22) -> 81 | E24: =SUM(E3:E22) -> 11 | F24: =SUM(F3:F22) -> 92 | G24: =SUM(G3:G23) -> 651 | H24: =F24/G24 -> 0.14132104 | I24: =SUM(I3:I23) -> 8
B28: Goal Units: | C28: =COUNTIFS(C3:C22,">=8/1/2026",C3:C22,"<=7/31/2027") -> 0

Sheet Dist 21
A1: Unit # | B1: Unit Name | C1: Date Reached Goal | D1: Senior | E1: Junior | F1: Total Members | G1: Goal | H1: % of Goal | I1: PUFL
A3: 32 | B3: Springfield | D3: ='Unit Totals'!D24 -> 71 | E3: ='Unit Totals'!E24 -> 4 | F3: =SUM(D3:E3) -> 75 | G3: ='Unit Totals'!G24+2 -> 122 | H3: =F3/G3 -> 0.6147541 | I3: ='Unit Totals'!H24 -> 18
A4: 73 | B4: Taylorville | D4: ='Unit Totals'!D41 -> 1 | E4: ='Unit Totals'!E41 -> 0 | F4: =SUM(D4:E4) -> 1 | G4: ='Unit Totals'!G41+2 -> 40 | H4: =F4/G4 -> 0.025 | I4: ='Unit Totals'!H41 -> 1
A5: 168 | B5: Pana | D5: ='Unit Totals'!D85 -> 1 | E5: ='Unit Totals'!E85 -> 0 | F5: =SUM(D5:E5) -> 1 | G5: ='Unit Totals'!G85+2 -> 13 | H5: =F5/G5 -> 0.076923077 | I5: ='Unit Totals'!H85 -> 0
A6: 257 | B6: Stonington | D6: ='Unit Totals'!D119 -> 2 | E6: ='Unit Totals'!E119 -> 0 | F6: =SUM(D6:E6) -> 2 | G6: ='Unit Totals'!G119+2 -> 24 | H6: =F6/G6 -> 0.083333333 | I6: ='Unit Totals'!H119 -> 2
A7: 278 | B7: Divernon | D7: ='Unit Totals'!D125 -> 7 | E7: ='Unit Totals'!E125 -> 0 | F7: =SUM(D7:E7) -> 7 | G7: ='Unit Totals'!G125+2 -> 26 | H7: =F7/G7 -> 0.26923077 | I7: ='Unit Totals'!H125 -> 0
A8: 299 | B8: Raymond | D8: ='Unit Totals'!D137 -> 0 | E8: ='Unit Totals'!E137 -> 0 | F8: =SUM(D8:E8) -> 0 | G8: ='Unit Totals'!G137+2 -> 10 | H8: =F8/G8 -> 0 | I8: ='Unit Totals'!H156 -> 0
A9: 362 | B9: Staunton | D9: ='Unit Totals'!D156 -> 0 | E9: ='Unit Totals'!E156 -> 0 | F9: =SUM(D9:E9) -> 0 | G9: ='Unit Totals'!G156+2 -> 38 | H9: =F9/G9 -> 0 | I9: ='Unit Totals'!H138 -> 0
A10: 386 | B10: Virden | D10: ='Unit Totals'!D167 -> 13 | E10: ='Unit Totals'!E167 -> 0 | F10: =SUM(D10:E10) -> 13 | G10: ='Unit Totals'!G167+2 -> 31 | H10: =F10/G10 -> 0.41935484 | I10: ='Unit Totals'!H167 -> 0
A11: 554 | B11: Carlinville | D11: ='Unit Totals'!D222 -> 4 | E11: ='Unit Totals'!E222 -> 0 | F11: =SUM(D11:E11) -> 4 | G11: ='Unit Totals'!G222+2 -> 33 | H11: =F11/G11 -> 0.12121212 | I11: ='Unit Totals'!H222 -> 4
A12: 578 | B12: Bunker Hill | D12: ='Unit Totals'!D233 -> 3 | E12: ='Unit Totals'!E233 -> 0 | F12: =SUM(D12:E12) -> 3 | G12: ='Unit Totals'!G233+2 -> 28 | H12: =F12/G12 -> 0.10714286 | I12: ='Unit Totals'!H233 -> 0
A13: 721 | B13: Morrisonville | D13: ='Unit Totals'!D286 -> 0 | E13: ='Unit Totals'!E286 -> 0 | F13: =SUM(D13:E13) -> 0 | G13: ='Unit Totals'!G286+2 -> 25 | H13: =F13/G13 -> 0 | I13: ='Unit Totals'!H286 -> 0
A14: 759 | B14: Chatham | D14: ='Unit Totals'!D296 -> 1 | E14: ='Unit Totals'!E296 -> 0 | F14: =SUM(D14:E14) -> 1 | G14: ='Unit Totals'!G296+2 -> 10 | H14: =F14/G14 -> 0.1 | I14: ='Unit Totals'!H296 -> 1
A15: 809 | B15: Springfield | D15: ='Unit Totals'!D308 -> 0 | E15: ='Unit Totals'!E308 -> 0 | F15: =SUM(D15:E15) -> 0 | G15: ='Unit Totals'!G308+2 -> 38 | H15: =F15/G15 -> 0 | I15: ='Unit Totals'!H308 -> 0
A16: 905 | B16: Kincaid | D16: ='Unit Totals'!D318 -> 3 | E16: ='Unit Totals'!E318 -> 0 | F16: =SUM(D16:E16) -> 3 | G16: ='Unit Totals'!G318+2 -> 30 | H16: =F16/G16 -> 0.1 | I16: ='Unit Totals'!H318 -> 3
A17: 1034 | B17: Palmyra | D17: ='Unit Totals'!D343 -> 12 | E17: ='Unit Totals'!E343 -> 6 | F17: =SUM(D17:E17) -> 18 | G17: ='Unit Totals'!G343+2 -> 38 | H17: =F17/G17 -> 0.47368421 | I17: ='Unit Totals'!H343 -> 0
A18: 1922 | B18: State Police | D18: ='Unit Totals'!D386 -> 2 | E18: ='Unit Totals'!E386 -> 0 | F18: =SUM(D18:E18) -> 2 | G18: ='Unit Totals'!G386+2 -> 46 | H18: =F18/G18 -> 0.043478261 | I18: ='Unit Totals'!H386 -> 0
A20: =COUNT(A3:A19) -> 16 | B20: TOTALS | D20: =SUM(D3:D18) -> 120 | E20: =SUM(E3:E18) -> 10 | F20: =SUM(F3:F18) -> 130 | G20: =SUM(G3:G19) -> 552 | H20: =F20/G20 -> 0.23550725 | I20: =SUM(I3:I19) -> 29
B24: Goal Units: | C24: =COUNTIFS(C3:C18,">=8/1/2026",C3:C18,"<=7/31/2027") -> 0

Sheet Dist 22
A1: Unit # | B1: Unit Name | C1: Date Reached Goal | D1: Senior | E1: Junior | F1: Total Members | G1: Goal | H1: % of Goal | I1: PUFL
A3: 110 | B3: Nashville | D3: ='Unit Totals'!D63 -> 10 | E3: ='Unit Totals'!E63 -> 0 | F3: =SUM(D3:E3) -> 10 | G3: ='Unit Totals'!G63+2 -> 52 | H3: =F3/G3 -> 0.19230769 | I3: ='Unit Totals'!H63 -> 2
A4: 137 | B4: O'Fallon | D4: ='Unit Totals'!D75 -> 5 | E4: ='Unit Totals'!E75 -> 0 | F4: =SUM(D4:E4) -> 5 | G4: ='Unit Totals'!G75+2 -> 12 | H4: =F4/G4 -> 0.41666667 | I4: ='Unit Totals'!H75 -> 5
A5: 199 | B5: Edwardsville | D5: ='Unit Totals'!D97 -> 29 | E5: ='Unit Totals'!E97 -> 0 | F5: =SUM(D5:E5) -> 29 | G5: ='Unit Totals'!G97+2 -> 43 | H5: =F5/G5 -> 0.6744186 | I5: ='Unit Totals'!H97 -> 6
A6: 214 | B6: Bethalto | D6: ='Unit Totals'!D103 -> 1 | E6: ='Unit Totals'!E103 -> 0 | F6: =SUM(D6:E6) -> 1 | G6: ='Unit Totals'!G103+2 -> 15 | H6: =F6/G6 -> 0.066666667 | I6: ='Unit Totals'!H103 -> 1
A7: 233 | B7: Okawville | D7: ='Unit Totals'!D108 -> 4 | E7: ='Unit Totals'!E108 -> 0 | F7: =SUM(D7:E7) -> 4 | G7: ='Unit Totals'!G108+2 -> 10 | H7: =F7/G7 -> 0.4 | I7: ='Unit Totals'!H108 -> 3
A8: 307 | B8: Venice Madison | D8: ='Unit Totals'!D140 -> 3 | E8: ='Unit Totals'!E140 -> 0 | F8: =SUM(D8:E8) -> 3 | G8: ='Unit Totals'!G140+2 -> 13 | H8: =F8/G8 -> 0.23076923 | I8: ='Unit Totals'!H140 -> 0
A9: 354 | B9: Alton | D9: ='Unit Totals'!D155 -> 0 | E9: ='Unit Totals'!E155 -> 0 | F9: =SUM(D9:E9) -> 0 | G9: ='Unit Totals'!G155+2 -> 12 | H9: =F9/G9 -> 0 | I9: ='Unit Totals'!H155 -> 0
A10: 365 | B10: Collinsville | D10: ='Unit Totals'!D158 -> 10 | E10: ='Unit Totals'!E158 -> 0 | F10: =SUM(D10:E10) -> 10 | G10: ='Unit Totals'!G158+2 -> 59 | H10: =F10/G10 -> 0.16949153 | I10: ='Unit Totals'!H158 -> 8
A11: 435 | B11: Glen Carbon | D11: ='Unit Totals'!D184 -> 1 | E11: ='Unit Totals'!E184 -> 0 | F11: =SUM(D11:E11) -> 1 | G11: ='Unit Totals'!G184+2 -> 19 | H11: =F11/G11 -> 0.052631579 | I11: ='Unit Totals'!H184 -> 1
A12: 439 | B12: Highland | D12: ='Unit Totals'!D185 -> 14 | E12: ='Unit Totals'!E185 -> 2 | F12: =SUM(D12:E12) -> 16 | G12: ='Unit Totals'!G185+2 -> 22 | H12: =F12/G12 -> 0.72727273 | I12: ='Unit Totals'!H185 -> 2
A13: 485 | B13: Dupo | D13: ='Unit Totals'!D203 -> 6 | E13: ='Unit Totals'!E203 -> 0 | F13: =SUM(D13:E13) -> 6 | G13: ='Unit Totals'!G203+2 -> 21 | H13: =F13/G13 -> 0.28571429 | I13: ='Unit Totals'!H203 -> 0
A14: 550 | B14: Freeburg | D14: ='Unit Totals'!D220 -> 14 | E14: ='Unit Totals'!E220 -> 0 | F14: =SUM(D14:E14) -> 14 | G14: ='Unit Totals'!G220+2 -> 35 | H14: =F14/G14 -> 0.4 | I14: ='Unit Totals'!H220 -> 14
A15: 564 | B15: Worden | D15: ='Unit Totals'!D225 -> 0 | E15: ='Unit Totals'!E225 -> 0 | F15: =SUM(D15:E15) -> 0 | G15: ='Unit Totals'!G225+2 -> 18 | H15: =F15/G15 -> 0 | I15: ='Unit Totals'!H225 -> 0
A16: 581 | B16: Columbia | D16: ='Unit Totals'!D234 -> 14 | E16: ='Unit Totals'!E234 -> 0 | F16: =SUM(D16:E16) -> 14 | G16: ='Unit Totals'!G234+2 -> 79 | H16: =F16/G16 -> 0.17721519 | I16: ='Unit Totals'!H234 -> 5
A17: 665 | B17: St Jacob | D17: ='Unit Totals'!D265 -> 16 | E17: ='Unit Totals'!E265 -> 0 | F17: =SUM(D17:E17) -> 16 | G17: ='Unit Totals'!G265+2 -> 19 | H17: =F17/G17 -> 0.84210526 | I17: ='Unit Totals'!H265 -> 16
A18: 683 | B18: St Libory | D18: ='Unit Totals'!D271 -> 29 | E18: ='Unit Totals'!E271 -> 1 | F18: =SUM(D18:E18) -> 30 | G18: ='Unit Totals'!G271+2 -> 178 | H18: =F18/G18 -> 0.16853933 | I18: ='Unit Totals'!H271 -> 1
A19: 702 | B19: Marine | D19: ='Unit Totals'!D280 -> 0 | E19: ='Unit Totals'!E280 -> 0 | F19: =SUM(D19:E19) -> 0 | G19: ='Unit Totals'!G280+2 -> 20 | H19: =F19/G19 -> 0 | I19: ='Unit Totals'!H280 -> 0
A20: 710 | B20: New Douglas | D20: ='Unit Totals'!D282 -> 0 | E20: ='Unit Totals'!E282 -> 0 | F20: =SUM(D20:E20) -> 0 | G20: ='Unit Totals'!G282+2 -> 15 | H20: =F20/G20 -> 0 | I20: ='Unit Totals'!H282 -> 0
A21: 794 | B21: East Alton | D21: ='Unit Totals'!D304 -> 10 | E21: ='Unit Totals'!E304 -> 0 | F21: =SUM(D21:E21) -> 10 | G21: ='Unit Totals'!G304+2 -> 58 | H21: =F21/G21 -> 0.17241379 | I21: ='Unit Totals'!H304 -> 1
A22: 901 | B22: Valmeyer | D22: ='Unit Totals'!D316 -> 0 | E22: ='Unit Totals'!E316 -> 0 | F22: =SUM(D22:E22) -> 0 | G22: ='Unit Totals'!G316+2 -> 62 | H22: =F22/G22 -> 0 | I22: ='Unit Totals'!H316 -> 0
A23: 937 | B23: Smithton | D23: ='Unit Totals'!D327 -> 13 | E23: ='Unit Totals'!E327 -> 0 | F23: =SUM(D23:E23) -> 13 | G23: ='Unit Totals'!G327+2 -> 16 | H23: =F23/G23 -> 0.8125 | I23: ='Unit Totals'!H327 -> 0
A24: 1147 | B24: Alhambra | D24: ='Unit Totals'!D358 -> 12 | E24: ='Unit Totals'!E358 -> 0 | F24: =SUM(D24:E24) -> 12 | G24: ='Unit Totals'!G358+2 -> 61 | H24: =F24/G24 -> 0.19672131 | I24: ='Unit Totals'!H358 -> 11
A25: 1167 | B25: South Roxana | D25: ='Unit Totals'!D361 -> 1 | E25: ='Unit Totals'!E361 -> 0 | F25: =SUM(D25:E25) -> 1 | G25: ='Unit Totals'!G361+2 -> 16 | H25: =F25/G25 -> 0.0625 | I25: ='Unit Totals'!H361 -> 0
A26: 1255 | B26: Belleville-Stookey | D26: ='Unit Totals'!D383 -> 5 | E26: ='Unit Totals'!E383 -> 0 | F26: =SUM(D26:E26) -> 5 | G26: ='Unit Totals'!G383+2 -> 36 | H26: =F26/G26 -> 0.13888889 | I26: ='Unit Totals'!H383 -> 4
A27: 1994 | B27: Keysport Memorial | D27: ='Unit Totals'!D391 -> 0 | E27: ='Unit Totals'!E391 -> 0 | F27: =SUM(D27:E27) -> 0 | G27: ='Unit Totals'!G391+2 -> 16 | H27: =F27/G27 -> 0 | I27: ='Unit Totals'!H391 -> 0
A29: =COUNT(A3:A28) -> 25 | B29: TOTALS | D29: =SUM(D3:D27) -> 197 | E29: =SUM(E3:E27) -> 3 | F29: =SUM(F3:F27) -> 200 | G29: =SUM(G3:G28) -> 907 | H29: =F29/G29 -> 0.22050717 | I29: =SUM(I3:I28) -> 80
B33: Goal Units: | C33: =COUNTIFS(C3:C27,">=8/1/2026",C3:C27,"<=7/31/2027") -> 0

Sheet Dist 23
A1: Unit # | B1: Unit Name | C1: Date Reached Goal | D1: Senior | E1: Junior | F1: Total Members | G1: Goal | H1: % of Goal | I1: PUFL
A3: 20 | B3: Newton | D3: ='Unit Totals'!D17 -> 4 | E3: ='Unit Totals'!E17 -> 0 | F3: =SUM(D3:E3) -> 4 | G3: ='Unit Totals'!G17+2 -> 21 | H3: =F3/G3 -> 0.19047619 | I3: ='Unit Totals'!H17 -> 3
A4: 28 | B4: Lawrenceville | D4: ='Unit Totals'!D22 -> 13 | E4: ='Unit Totals'!E22 -> 0 | F4: =SUM(D4:E4) -> 13 | G4: ='Unit Totals'!G22+2 -> 94 | H4: =F4/G4 -> 0.13829787 | I4: ='Unit Totals'!H22 -> 1
A5: 30 | B5: Olney | D5: ='Unit Totals'!D23 -> 7 | E5: ='Unit Totals'!E23 -> 0 | F5: =SUM(D5:E5) -> 7 | G5: ='Unit Totals'!G23+2 -> 48 | H5: =F5/G5 -> 0.14583333 | I5: ='Unit Totals'!H23 -> 6
A6: 95 | B6: Vandalia | D6: ='Unit Totals'!D55 -> 5 | E6: ='Unit Totals'!E55 -> 0 | F6: =SUM(D6:E6) -> 5 | G6: ='Unit Totals'!G55+2 -> 42 | H6: =F6/G6 -> 0.11904762 | I6: ='Unit Totals'!H55 -> 3
A7: 120 | B7: Effingham | D7: ='Unit Totals'!D65 -> 3 | E7: ='Unit Totals'!E65 -> 0 | F7: =SUM(D7:E7) -> 3 | G7: ='Unit Totals'!G65+2 -> 47 | H7: =F7/G7 -> 0.063829787 | I7: ='Unit Totals'!H65 -> 3
A8: 128 | B8: Salem | D8: ='Unit Totals'!D70 -> 4 | E8: ='Unit Totals'!E70 -> 0 | F8: =SUM(D8:E8) -> 4 | G8: ='Unit Totals'!G70+2 -> 31 | H8: =F8/G8 -> 0.12903226 | I8: ='Unit Totals'!H70 -> 0
A9: 132 | B9: Flat Rock | D9: ='Unit Totals'!D71 -> 0 | E9: ='Unit Totals'!E71 -> 0 | F9: =SUM(D9:E9) -> 0 | G9: ='Unit Totals'!G71+2 -> 62 | H9: =F9/G9 -> 0 | I9: ='Unit Totals'!H71 -> 0
A10: 141 | B10: Mt Vernon | D10: ='Unit Totals'!D78 -> 18 | E10: ='Unit Totals'!E78 -> 0 | F10: =SUM(D10:E10) -> 18 | G10: ='Unit Totals'!G78+2 -> 64 | H10: =F10/G10 -> 0.28125 | I10: ='Unit Totals'!H78 -> 1
A11: 252 | B11: Breese | D11: ='Unit Totals'!D114 -> 57 | E11: ='Unit Totals'!E114 -> 13 | F11: =SUM(D11:E11) -> 70 | G11: ='Unit Totals'!G114+2 -> 160 | H11: =F11/G11 -> 0.4375 | I11: ='Unit Totals'!H114 -> 13
A12: 321 | B12: New Baden | D12: ='Unit Totals'!D143 -> 35 | E12: ='Unit Totals'!E143 -> 8 | F12: =SUM(D12:E12) -> 43 | G12: ='Unit Totals'!G143+2 -> 99 | H12: =F12/G12 -> 0.43434343 | I12: ='Unit Totals'!H143 -> 11
A13: 325 | B13: Germantown | D13: ='Unit Totals'!D145 -> 0 | E13: ='Unit Totals'!E145 -> 0 | F13: =SUM(D13:E13) -> 0 | G13: ='Unit Totals'!G145+2 -> 68 | H13: =F13/G13 -> 0 | I13: ='Unit Totals'!H145 -> 0
A14: 423 | B14: Mt Carmel | D14: ='Unit Totals'!D179 -> 17 | E14: ='Unit Totals'!E179 -> 0 | F14: =SUM(D14:E14) -> 17 | G14: ='Unit Totals'!G179+2 -> 54 | H14: =F14/G14 -> 0.31481481 | I14: ='Unit Totals'!H179 -> 7
A15: 446 | B15: Centralia | D15: ='Unit Totals'!D187 -> 40 | E15: ='Unit Totals'!E187 -> 4 | F15: =SUM(D15:E15) -> 44 | G15: ='Unit Totals'!G187+2 -> 89 | H15: =F15/G15 -> 0.49438202 | I15: ='Unit Totals'!H187 -> 10
A16: 460 | B16: Ramsey | D16: ='Unit Totals'!D195 -> 9 | E16: ='Unit Totals'!E195 -> 3 | F16: =SUM(D16:E16) -> 12 | G16: ='Unit Totals'!G195+2 -> 15 | H16: =F16/G16 -> 0.8 | I16: ='Unit Totals'!H195 -> 0
A17: 512 | B17: Altamont | D17: ='Unit Totals'!D210 -> 4 | E17: ='Unit Totals'!E210 -> 0 | F17: =SUM(D17:E17) -> 4 | G17: ='Unit Totals'!G210+2 -> 20 | H17: =F17/G17 -> 0.2 | I17: ='Unit Totals'!H210 -> 4
A18: 543 | B18: Patoka | D18: ='Unit Totals'!D217 -> 4 | E18: ='Unit Totals'!E217 -> 0 | F18: =SUM(D18:E18) -> 4 | G18: ='Unit Totals'!G217+2 -> 59 | H18: =F18/G18 -> 0.06779661 | I18: ='Unit Totals'!H217 -> 1
A19: 932 | B19: Ste Marie | D19: ='Unit Totals'!D325 -> 23 | E19: ='Unit Totals'!E325 -> 1 | F19: =SUM(D19:E19) -> 24 | G19: ='Unit Totals'!G325+2 -> 80 | H19: =F19/G19 -> 0.3 | I19: ='Unit Totals'!H325 -> 1
A20: 947 | B20: St Francisville | D20: ='Unit Totals'!D329 -> 0 | E20: ='Unit Totals'!E329 -> 0 | F20: =SUM(D20:E20) -> 0 | G20: ='Unit Totals'!G329+2 -> 21 | H20: =F20/G20 -> 0 | I20: ='Unit Totals'!H329 -> 0
A21: 1026 | B21: Albers | D21: ='Unit Totals'!D342 -> 30 | E21: ='Unit Totals'!E342 -> 3 | F21: =SUM(D21:E21) -> 33 | G21: ='Unit Totals'!G342+2 -> 50 | H21: =F21/G21 -> 0.66 | I21: ='Unit Totals'!H342 -> 2
A22: 1168 | B22: Edgewood | D22: ='Unit Totals'!D362 -> 17 | E22: ='Unit Totals'!E362 -> 0 | F22: =SUM(D22:E22) -> 17 | G22: ='Unit Totals'!G362+2 -> 42 | H22: =F22/G22 -> 0.4047619 | I22: ='Unit Totals'!H362 -> 1
A23: 1193 | B23: Bluford | D23: ='Unit Totals'!D368 -> 3 | E23: ='Unit Totals'!E368 -> 2 | F23: =SUM(D23:E23) -> 5 | G23: ='Unit Totals'!G368+2 -> 23 | H23: =F23/G23 -> 0.2173913 | I23: ='Unit Totals'!H368 -> 0
A24: 1227 | B24: Beckemeyer | D24: ='Unit Totals'!D376 -> 45 | E24: ='Unit Totals'!E376 -> 2 | F24: =SUM(D24:E24) -> 47 | G24: ='Unit Totals'!G376+2 -> 150 | H24: =F24/G24 -> 0.31333333 | I24: ='Unit Totals'!H376 -> 1
A25: 1239 | B25: Aviston | D25: ='Unit Totals'!D380 -> 73 | E25: ='Unit Totals'!E380 -> 1 | F25: =SUM(D25:E25) -> 74 | G25: ='Unit Totals'!G380+2 -> 76 | H25: =F25/G25 -> 0.97368421 | I25: ='Unit Totals'!H380 -> 4
A27: =COUNT(A3:A26) -> 23 | B27: TOTALS | D27: =SUM(D3:D25) -> 411 | E27: =SUM(E3:E25) -> 37 | F27: =SUM(F3:F25) -> 448 | G27: =SUM(G3:G26) -> 1415 | H27: =F27/G27 -> 0.31660777 | I27: =SUM(I3:I25) -> 72
B31: Goal Units: | C31: =COUNTIFS(C3:C25,">=8/1/2026",C3:C25,"<=7/31/2027") -> 0

Sheet Dist 24
A1: Unit # | B1: Unit Name | C1: Date Reached Goal | D1: Senior | E1: Junior | F1: Total Members | G1: Goal | H1: % of Goal | I1: PUFL
A3: 14 | B3: Flora | D3: ='Unit Totals'!D13 -> 5 | E3: ='Unit Totals'!E13 -> 0 | F3: =SUM(D3:E3) -> 5 | G3: ='Unit Totals'!G13+2 -> 56 | H3: =F3/G3 -> 0.089285714 | I3: ='Unit Totals'!H13 -> 3
A4: 109 | B4: Norris City | D4: ='Unit Totals'!D62 -> 1 | E4: ='Unit Totals'!E62 -> 0 | F4: =SUM(D4:E4) -> 1 | G4: ='Unit Totals'!G62+2 -> 27 | H4: =F4/G4 -> 0.037037037 | I4: ='Unit Totals'!H62 -> 0
A5: 167 | B5: Harrisburg | D5: ='Unit Totals'!D84 -> 4 | E5: ='Unit Totals'!E84 -> 0 | F5: =SUM(D5:E5) -> 4 | G5: ='Unit Totals'!G84+2 -> 45 | H5: =F5/G5 -> 0.088888889 | I5: ='Unit Totals'!H84 -> 0
A6: 169 | B6: Eldorado | D6: ='Unit Totals'!D86 -> 0 | E6: ='Unit Totals'!E86 -> 0 | F6: =SUM(D6:E6) -> 0 | G6: ='Unit Totals'!G86+2 -> 13 | H6: =F6/G6 -> 0 | I6: ='Unit Totals'!H86 -> 0
A7: 176 | B7: Fairfield | D7: ='Unit Totals'!D88 -> 30 | E7: ='Unit Totals'!E88 -> 0 | F7: =SUM(D7:E7) -> 30 | G7: ='Unit Totals'!G88+2 -> 73 | H7: =F7/G7 -> 0.4109589 | I7: ='Unit Totals'!H88 -> 5
A8: 224 | B8: Carmi | D8: ='Unit Totals'!D105 -> 6 | E8: ='Unit Totals'!E105 -> 1 | F8: =SUM(D8:E8) -> 7 | G8: ='Unit Totals'!G105+2 -> 49 | H8: =F8/G8 -> 0.14285714 | I8: ='Unit Totals'!H105 -> 4
A9: 306 | B9: Metropolis | D9: ='Unit Totals'!D139 -> 31 | E9: ='Unit Totals'!E139 -> 1 | F9: =SUM(D9:E9) -> 32 | G9: ='Unit Totals'!G139+2 -> 82 | H9: =F9/G9 -> 0.3902439 | I9: ='Unit Totals'!H139 -> 1
A10: 364 | B10: Carrier Mills | D10: ='Unit Totals'!D157 -> 23 | E10: ='Unit Totals'!E157 -> 0 | F10: =SUM(D10:E10) -> 23 | G10: ='Unit Totals'!G157+2 -> 44 | H10: =F10/G10 -> 0.52272727 | I10: ='Unit Totals'!H157 -> 0
A11: 585 | B11: Shawneetown | D11: ='Unit Totals'!D235 -> 4 | E11: ='Unit Totals'!E235 -> 0 | F11: =SUM(D11:E11) -> 4 | G11: ='Unit Totals'!G235+2 -> 10 | H11: =F11/G11 -> 0.4 | I11: ='Unit Totals'!H235 -> 0
A12: 590 | B12: Albion | D12: ='Unit Totals'!D238 -> 1 | E12: ='Unit Totals'!E238 -> 0 | F12: =SUM(D12:E12) -> 1 | G12: ='Unit Totals'!G238+2 -> 20 | H12: =F12/G12 -> 0.05 | I12: ='Unit Totals'!H238 -> 0
A13: 914 | B13: Louisville | D13: ='Unit Totals'!D321 -> 14 | E13: ='Unit Totals'!E321 -> 0 | F13: =SUM(D13:E13) -> 14 | G13: ='Unit Totals'!G321+2 -> 62 | H13: =F13/G13 -> 0.22580645 | I13: ='Unit Totals'!H321 -> 0
A14: 1126 | B14: Springerton | D14: ='Unit Totals'!D355 -> 9 | E14: ='Unit Totals'!E355 -> 0 | F14: =SUM(D14:E14) -> 9 | G14: ='Unit Totals'!G355+2 -> 25 | H14: =F14/G14 -> 0.36 | I14: ='Unit Totals'!H355 -> 3
A15: 1141 | B15: New Haven | D15: ='Unit Totals'!D357 -> 15 | E15: ='Unit Totals'!E357 -> 0 | F15: =SUM(D15:E15) -> 15 | G15: ='Unit Totals'!G357+2 -> 17 | H15: =F15/G15 -> 0.88235294 | I15: ='Unit Totals'!H357 -> 0
A17: =COUNT(A3:A16) -> 13 | B17: TOTALS | D17: =SUM(D3:D15) -> 143 | E17: =SUM(E3:E15) -> 2 | F17: =SUM(F3:F15) -> 145 | G17: =SUM(G3:G16) -> 523 | H17: =F17/G17 -> 0.27724665 | I17: =SUM(I3:I16) -> 16
B21: Unit Goals: | C21: =COUNTIFS(C3:C15,">=8/1/2026",C3:C15,"<=7/31/2027") -> 0

Sheet Dist 25
A1: Unit # | B1: Unit Name | C1: Date Reached Goal | D1: Senior | E1: Junior | F1: Total Members | G1: Goal | H1: % of Goal | I1: PUFL
A3: 127 | B3: Murphysboro | D3: ='Unit Totals'!D69 -> 58 | E3: ='Unit Totals'!E69 -> 2 | F3: =SUM(D3:E3) -> 60 | G3: ='Unit Totals'!G69+2 -> 154 | H3: =F3/G3 -> 0.38961039 | I3: ='Unit Totals'!H69 -> 4
A4: 147 | B4: Marion | D4: ='Unit Totals'!D80 -> 2 | E4: ='Unit Totals'!E80 -> 0 | F4: =SUM(D4:E4) -> 2 | G4: ='Unit Totals'!G80+2 -> 48 | H4: =F4/G4 -> 0.041666667 | I4: ='Unit Totals'!H80 -> 2
A5: 178 | B5: Villa Ridge | D5: ='Unit Totals'!D89 -> 5 | E5: ='Unit Totals'!E89 -> 0 | F5: =SUM(D5:E5) -> 5 | G5: ='Unit Totals'!G89+2 -> 14 | H5: =F5/G5 -> 0.35714286 | I5: ='Unit Totals'!H89 -> 0
A6: 259 | B6: Cobden | D6: ='Unit Totals'!D120 -> 1 | E6: ='Unit Totals'!E120 -> 0 | F6: =SUM(D6:E6) -> 1 | G6: ='Unit Totals'!G120+2 -> 14 | H6: =F6/G6 -> 0.071428571 | I6: 0
A7: 280 | B7: Benton | D7: ='Unit Totals'!D127 -> 3 | E7: ='Unit Totals'!E127 -> 0 | F7: =SUM(D7:E7) -> 3 | G7: ='Unit Totals'!G127+2 -> 32 | H7: =F7/G7 -> 0.09375 | I7: ='Unit Totals'!H127 -> 3
A8: 344 | B8: Anna | D8: ='Unit Totals'!D153 -> 1 | E8: ='Unit Totals'!E153 -> 0 | F8: =SUM(D8:E8) -> 1 | G8: ='Unit Totals'!G153+2 -> 14 | H8: =F8/G8 -> 0.071428571 | I8: ='Unit Totals'!H153 -> 0
A9: 347 | B9: Carterville | D9: ='Unit Totals'!D154 -> 16 | E9: ='Unit Totals'!E154 -> 2 | F9: =SUM(D9:E9) -> 18 | G9: ='Unit Totals'!G154+2 -> 22 | H9: =F9/G9 -> 0.81818182 | I9: ='Unit Totals'!H154 -> 1
A10: 396 | B10: Sparta | D10: ='Unit Totals'!D172 -> 0 | E10: ='Unit Totals'!E172 -> 0 | F10: =SUM(D10:E10) -> 0 | G10: ='Unit Totals'!G172+2 -> 12 | H10: =F10/G10 -> 0 | I10: ='Unit Totals'!H172 -> 0
A11: 480 | B11: Steeleville | D11: ='Unit Totals'!D202 -> 75 | E11: ='Unit Totals'!E202 -> 8 | F11: =SUM(D11:E11) -> 83 | G11: ='Unit Totals'!G202+2 -> 119 | H11: =F11/G11 -> 0.69747899 | I11: ='Unit Totals'!H202 -> 2
A12: 528 | B12: Christopher | D12: ='Unit Totals'!D214 -> 0 | E12: ='Unit Totals'!E214 -> 0 | F12: =SUM(D12:E12) -> 0 | G12: ='Unit Totals'!G214+2 -> 20 | H12: =F12/G12 -> 0 | I12: ='Unit Totals'!H214 -> 0
A13: 622 | B13: Prairie DuRocher | D13: ='Unit Totals'!D246 -> 0 | E13: ='Unit Totals'!E246 -> 0 | F13: =SUM(D13:E13) -> 0 | G13: ='Unit Totals'!G246+2 -> 93 | H13: =F13/G13 -> 0 | I13: ='Unit Totals'!H246 -> 0
A14: 645 | B14: Herrin | D14: ='Unit Totals'!D258 -> 2 | E14: ='Unit Totals'!E258 -> 0 | F14: =SUM(D14:E14) -> 2 | G14: ='Unit Totals'!G258+2 -> 26 | H14: =F14/G14 -> 0.076923077 | I14: ='Unit Totals'!H258 -> 2
A15: 647 | B15: DuQuoin | D15: ='Unit Totals'!D259 -> 1 | E15: ='Unit Totals'!E259 -> 0 | F15: =SUM(D15:E15) -> 1 | G15: ='Unit Totals'!G259+2 -> 59 | H15: =F15/G15 -> 0.016949153 | I15: ='Unit Totals'!H259 -> 1
A16: 1172 | B16: Evansville | D16: ='Unit Totals'!D364 -> 0 | E16: ='Unit Totals'!E364 -> 0 | F16: =SUM(D16:E16) -> 0 | G16: ='Unit Totals'!G364+2 -> 31 | H16: =F16/G16 -> 0 | I16: ='Unit Totals'!H364 -> 0
A17: 1961 | B17: Orient | D17: ='Unit Totals'!D388 -> 0 | E17: ='Unit Totals'!E388 -> 0 | F17: =SUM(D17:E17) -> 0 | G17: ='Unit Totals'!G388+2 -> 56 | H17: =F17/G17 -> 0 | I17: ='Unit Totals'!H388 -> 0
A19: =COUNT(A3:A18) -> 15 | B19: TOTALS | D19: =SUM(D3:D17) -> 164 | E19: =SUM(E3:E17) -> 12 | F19: =SUM(F3:F17) -> 176 | G19: =SUMIF(G3:G18,"<>""") -> 714 | H19: =F19/G19 -> 0.2464986 | I19: =SUM(I3:I18) -> 15
B23: Goal Units: | C23: =COUNTIFS(C3:C17,">=8/1/2026",C3:C17,"<=7/31/2027") -> 0

Sheet BiWeekly
A1: American Legion Auxiliary Membership Report 10/22/2026
A2: District | B2: Division | C2: President | D2: Units | E2: Goal | F2: Total Members | G2: Goal %
A3: 13 | B3: 2 | C3: Kathy Pignato | D3: ='Dist 13'!A18 -> 14 | E3: =Calculations!E13 -> 520 | F3: =Calculations!F13 -> 229 | G3: =F3/E3 -> 0.44038462
A4: 14 | B4: 3 | C4: Dona Kenney | D4: ='Dist 14'!A14 -> 10 | E4: =Calculations!E14 -> 476 | F4: =Calculations!F14 -> 195 | G4: =F4/E4 -> 0.40966387
A5: 9 | B5: 1 | C5: Brenda Munagian | D5: ='Dist 9'!A11 -> 7 | E5: =Calculations!E9 -> 536 | F5: =Calculations!F9 -> 207 | G5: =F5/E5 -> 0.38619403
A6: 4 | B6: 1 | C6: Diane Cetera | D6: ='Dist 4'!A11 -> 7 | E6: =Calculations!E5 -> 189 | F6: =Calculations!F5 -> 72 | G6: =F6/E6 -> 0.38095238
A7: 12 | B7: 2 | C7: Mary Brubach | D7: ='Dist 12'!A28 -> 24 | E7: =Calculations!E12 -> 1574 | F7: =Calculations!F12 -> 598 | G7: =F7/E7 -> 0.37992376
A8: 23 | B8: 5 | C8: Peggy Zotz | D8: ='Dist 23'!A27 -> 23 | E8: =Calculations!E23 -> 1415 | F8: =Calculations!F23 -> 448 | G8: =F8/E8 -> 0.31660777
A9: 16 | B9: 3 | C9: Debbie Hancock | D9: ='Dist 16'!A28 -> 24 | E9: =Calculations!E16 -> 1027 | F9: =Calculations!F16 -> 322 | G9: =F9/E9 -> 0.31353457
A10: 3 | B10: 1 | C10: Karen Atkins | D10: ='Dist 3'!A8 -> 4 | E10: =Calculations!E4 -> 105 | F10: =Calculations!F4 -> 31 | G10: =F10/E10 -> 0.2952381
A11: 11 | B11: 2 | C11: Susan Miller | D11: ='Dist 11'!A38 -> 34 | E11: =Calculations!E11 -> 1803 | F11: =Calculations!F11 -> 524 | G11: =F11/E11 -> 0.29062673
A12: 24 | B12: 5 | C12: April Parkhurst | D12: ='Dist 24'!A17 -> 13 | E12: =Calculations!E24 -> 523 | F12: =Calculations!F24 -> 145 | G12: =F12/E12 -> 0.27724665
A13: 8 | B13: 1 | C13: Carol McFarland | D13: ='Dist 8'!A15 -> 11 | E13: =Calculations!E8 -> 612 | F13: =Calculations!F8 -> 165 | G13: =F13/E13 -> 0.26960784
A14: 10 | B14: 2 | C14: Angela Walker | D14: ='Dist 10'!A17 -> 13 | E14: =Calculations!E10 -> 550 | F14: =Calculations!F10 -> 146 | G14: =F14/E14 -> 0.26545455
A15: 15 | B15: 3 | C15: Rebecca Marvel | D15: ='Dist 15'!A26 -> 22 | E15: =Calculations!E15 -> 867 | F15: =Calculations!F15 -> 224 | G15: =F15/E15 -> 0.25836217
A16: 18 | B16: 4 | C16: Dot Morris | D16: ='Dist 18'!A31 -> 27 | E16: =Calculations!E18 -> 1205 | F16: =Calculations!F18 -> 301 | G16: =F16/E16 -> 0.24979253
A17: 25 | B17: 5 | C17: Diana Steele | D17: ='Dist 25'!A19 -> 15 | E17: =Calculations!E25 -> 714 | F17: =Calculations!F25 -> 176 | G17: =F17/E17 -> 0.2464986
A18: 7 | B18: 1 | C18: Marlene Russell | D18: ='Dist 7'!A7 -> 3 | E18: =Calculations!E7 -> 157 | F18: =Calculations!F7 -> 38 | G18: =F18/E18 -> 0.24203822
A19: 19 | B19: 4 | C19: Patti Williamson | D19: ='Dist 19'!A36 -> 32 | E19: =Calculations!E19 -> 1757 | F19: =Calculations!F19 -> 421 | G19: =F19/E19 -> 0.23961298
A20: 17 | B20: 4 | C20: Marsha Haag | D20: ='Dist 17'!A36 -> 32 | E20: =Calculations!E17 -> 1247 | F20: =Calculations!F17 -> 295 | G20: =F20/E20 -> 0.23656776
A21: 21 | B21: 4 | C21: Suzie Weiss | D21: ='Dist 21'!A20 -> 16 | E21: =Calculations!E21 -> 552 | F21: =Calculations!F21 -> 130 | G21: =F21/E21 -> 0.23550725
A22: 22 | B22: 5 | C22: Karen Daesch | D22: ='Dist 22'!A29 -> 25 | E22: =Calculations!E22 -> 907 | F22: =Calculations!F22 -> 200 | G22: =F22/E22 -> 0.22050717
A23: 20 | B23: 3 | C23: Jodith Lewis | D23: ='Dist 20'!A24 -> 20 | E23: =Calculations!E20 -> 651 | F23: =Calculations!F20 -> 92 | G23: =F23/E23 -> 0.14132104
A24: 2 | B24: 1 | D24: ='Dist 2'!A8 -> 4 | E24: =Calculations!E3 -> 59 | F24: =Calculations!F3 -> 6 | G24: =F24/E24 -> 0.10169492
A25: 5 | B25: 1 | C25: Balvina "Bo" Ranney | D25: ='Dist 5'!A13 -> 9 | E25: =Calculations!E6 -> 293 | F25: =Calculations!F6 -> 28 | G25: =F25/E25 -> 0.09556314
C26: Headquarters 2910 | D26: 1 | E26: =Calculations!E26 -> 596 | F26: =Calculations!F26 -> 289 | G26: =F26/E26 -> 0.48489933
C27: TOTALS | D27: =SUM(D3:D26) -> 390 | E27: =Calculations!E27 -> 18335 | F27: =Calculations!F27 -> 5282 | G27: =Calculations!G27 -> 0.2880829
B32: 2 | C32: Todd Latham | E32: =Calculations!E33 -> 4447 | F32: =Calculations!F33 -> 1497 | G32: =F32/E32 -> 0.33663144
B33: 1 | C33: Kris McIntyre | E33: =Calculations!E32 -> 1951 | F33: =Calculations!F32 -> 547 | G33: =F33/E33 -> 0.28036904
B34: 3 | C34: Michelle Gorsage | E34: =Calculations!E34 -> 3021 | F34: =Calculations!F34 -> 833 | G34: =F34/E34 -> 0.27573651
B35: 5 | C35: Diana Owens | E35: =Calculations!E36 -> 3559 | F35: =Calculations!F36 -> 969 | G35: =F35/E35 -> 0.27226749
B36: 4 | C36: Debbie Myles | E36: =Calculations!E35 -> 4761 | F36: =Calculations!F35 -> 1147 | G36: =F36/E36 -> 0.24091577
C38: Goal Units | D38: =Calculations!D38 -> 3
C40: Sue Winger | F40: Linda Iberg
C41: Department Membership Chairman | F41: Department President

Sheet Calculations
A1: American Legion Auxiliary 2027 Membership Report
A2: District | B2: Division | C2: President | D2: Units | E2: Goal | F2: Total Members | G2: Goal %
A3: 2 | B3: 1 | D3: ='Dist 2'!A8 -> 4 | E3: ='Dist 2'!G8 -> 59 | F3: ='Dist 2'!F8 -> 6 | G3: =F3/E3 -> 0.10169492
A4: 3 | B4: 1 | C4: Karen Atkins | D4: ='Dist 3'!A8 -> 4 | E4: ='Dist 3'!G8 -> 105 | F4: ='Dist 3'!F8 -> 31 | G4: =F4/E4 -> 0.2952381
A5: 4 | B5: 1 | C5: Diane Cetera | D5: ='Dist 4'!A11 -> 7 | E5: ='Dist 4'!G11 -> 189 | F5: ='Dist 4'!F11 -> 72 | G5: =F5/E5 -> 0.38095238
A6: 5 | B6: 1 | C6: Balvina "Bo" Ranney | D6: ='Dist 5'!A13 -> 9 | E6: ='Dist 5'!G13 -> 293 | F6: ='Dist 5'!F13 -> 28 | G6: =F6/E6 -> 0.09556314
A7: 7 | B7: 1 | D7: ='Dist 7'!A7 -> 3 | E7: ='Dist 7'!G7 -> 157 | F7: ='Dist 7'!F7 -> 38 | G7: =F7/E7 -> 0.24203822
A8: 8 | B8: 1 | C8: Carol McFarland | D8: ='Dist 8'!A15 -> 11 | E8: ='Dist 8'!G15 -> 612 | F8: ='Dist 8'!F15 -> 165 | G8: =F8/E8 -> 0.26960784
A9: 9 | B9: 1 | C9: Brenda Munagian | D9: ='Dist 9'!A11 -> 7 | E9: ='Dist 9'!G11 -> 536 | F9: ='Dist 9'!F11 -> 207 | G9: =F9/E9 -> 0.38619403
A10: 10 | B10: 2 | C10: Angela Walker | D10: ='Dist 10'!A17 -> 13 | E10: ='Dist 10'!G17 -> 550 | F10: ='Dist 10'!F17 -> 146 | G10: =F10/E10 -> 0.26545455
A11: 11 | B11: 2 | C11: Susan Miller | D11: ='Dist 11'!A38 -> 34 | E11: ='Dist 11'!G38 -> 1803 | F11: ='Dist 11'!F38 -> 524 | G11: =F11/E11 -> 0.29062673
A12: 12 | B12: 2 | C12: Mary Brubach | D12: ='Dist 12'!A28 -> 24 | E12: ='Dist 12'!G28 -> 1574 | F12: ='Dist 12'!F28 -> 598 | G12: =F12/E12 -> 0.37992376
A13: 13 | B13: 2 | C13: Kathy Pignato | D13: ='Dist 13'!A18 -> 14 | E13: ='Dist 13'!G18 -> 520 | F13: ='Dist 13'!F18 -> 229 | G13: =F13/E13 -> 0.44038462
A14: 14 | B14: 3 | C14: Dona Kenney | D14: ='Dist 14'!A14 -> 10 | E14: ='Dist 14'!G14 -> 476 | F14: ='Dist 14'!F14 -> 195 | G14: =F14/E14 -> 0.40966387
A15: 15 | B15: 3 | C15: Rebecca Marvel | D15: ='Dist 15'!A26 -> 22 | E15: ='Dist 15'!G26 -> 867 | F15: ='Dist 15'!F26 -> 224 | G15: =F15/E15 -> 0.25836217
A16: 16 | B16: 3 | C16: Debbie Hancock | D16: ='Dist 16'!A28 -> 24 | E16: ='Dist 16'!G28 -> 1027 | F16: ='Dist 16'!F28 -> 322 | G16: =F16/E16 -> 0.31353457
A17: 17 | B17: 4 | C17: Marsha Haag | D17: ='Dist 17'!A36 -> 32 | E17: ='Dist 17'!G36 -> 1247 | F17: ='Dist 17'!F36 -> 295 | G17: =F17/E17 -> 0.23656776
A18: 18 | B18: 4 | C18: Dot Morris | D18: ='Dist 18'!A31 -> 27 | E18: ='Dist 18'!G31 -> 1205 | F18: ='Dist 18'!F31 -> 301 | G18: =F18/E18 -> 0.24979253
A19: 19 | B19: 4 | C19: Patti Williamson | D19: ='Dist 19'!A36 -> 32 | E19: ='Dist 19'!G36 -> 1757 | F19: ='Dist 19'!F36 -> 421 | G19: =F19/E19 -> 0.23961298
A20: 20 | B20: 3 | C20: Jodith Lewis | D20: ='Dist 20'!A24 -> 20 | E20: ='Dist 20'!G24 -> 651 | F20: ='Dist 20'!F24 -> 92 | G20: =F20/E20 -> 0.14132104
A21: 21 | B21: 4 | C21: Suzie Weiss | D21: ='Dist 21'!A20 -> 16 | E21: ='Dist 21'!G20 -> 552 | F21: ='Dist 21'!F20 -> 130 | G21: =F21/E21 -> 0.23550725
A22: 22 | B22: 5 | C22: Karen Daesch | D22: ='Dist 22'!A29 -> 25 | E22: ='Dist 22'!G29 -> 907 | F22: ='Dist 22'!F29 -> 200 | G22: =F22/E22 -> 0.22050717
A23: 23 | B23: 5 | C23: Peggy Zotz | D23: ='Dist 23'!A27 -> 23 | E23: ='Dist 23'!G27 -> 1415 | F23: ='Dist 23'!F27 -> 448 | G23: =F23/E23 -> 0.31660777
A24: 24 | B24: 5 | C24: April Parkhurst | D24: ='Dist 24'!A17 -> 13 | E24: ='Dist 24'!G17 -> 523 | F24: ='Dist 24'!F17 -> 145 | G24: =F24/E24 -> 0.27724665
A25: 25 | B25: 5 | C25: Diana Steele | D25: ='Dist 25'!A19 -> 15 | E25: ='Dist 25'!G19 -> 714 | F25: ='Dist 25'!F19 -> 176 | G25: =F25/E25 -> 0.2464986
C26: Headquarters 2910 | D26: 1 | E26: 596 | F26: ='Unit Totals'!F393 -> 289 | G26: =F26/E26 -> 0.48489933
C27: TOTALS | D27: =SUM(D3:D26) -> 390 | E27: =SUM(E3:E26) -> 18335 | F27: =SUM(F3:F26) -> 5282 | G27: =F27/E27 -> 0.2880829
B32: 1 | C32: Kria McIntyre | E32: =SUM(E3:E9) -> 1951 | F32: =SUM(F3:F9) -> 547 | G32: =F32/E32 -> 0.28036904
B33: 2 | C33: Todd Latham | E33: =SUM(E10:E13) -> 4447 | F33: =SUM(F10:F13) -> 1497 | G33: =F33/E33 -> 0.33663144
B34: 3 | C34: Michelle Gorsage | E34: =SUM(E14+E15+E16+E20) -> 3021 | F34: =SUM(F14+F15+F16+F20) -> 833 | G34: =F34/E34 -> 0.27573651
B35: 4 | C35: Debbie Myles | E35: =SUM(E17+E18+E19+E21) -> 4761 | F35: =SUM(F17+F18+F19+F21) -> 1147 | G35: =F35/E35 -> 0.24091577
B36: 5 | C36: Diana Owens | E36: =SUM(E22:E25) -> 3559 | F36: =SUM(F22:F25) -> 969 | G36: =F36/E36 -> 0.27226749
C38: Goal Units | D38: ='Dist 2'!C11+'Dist 3'!C12+'Dist 4'!C15+'Dist 5'!C17+'Dist 7'!C11+'Dist 8'!C19+'Dist 9'!C15+'Dist 10'!C21+'Dist 11'!C42+'Dist 12'!C32+'Dist 13'!C22+'Dist 14'!C18+'Dist 15'!C30+'Dist 16'!C32+'Dist 17'!C39+'Dist 18'!C35+'Dist 19'!C40+'Dist 20'!C28+'Dist 21'!C24+'Dist 22'!C33+'Dist 23'!C31+'Dist 24'!C21+'Dist 25'!C23 -> 3
C40: Sue Winger | F40: Linda Iberg
C41: Department Membership Chairman | F41: Department President
